BEGIN:VCALENDAR
VERSION:2.0
PRODID:-//District of Carleton North - ECPv6.15.20//NONSGML v1.0//EN
CALSCALE:GREGORIAN
METHOD:PUBLISH
X-ORIGINAL-URL:https://carletonnorth.com
X-WR-CALDESC:Events for District of Carleton North
REFRESH-INTERVAL;VALUE=DURATION:PT1H
X-Robots-Tag:noindex
X-PUBLISHED-TTL:PT1H
BEGIN:VTIMEZONE
TZID:America/Halifax
BEGIN:DAYLIGHT
TZOFFSETFROM:-0400
TZOFFSETTO:-0300
TZNAME:ADT
DTSTART:20240310T060000
END:DAYLIGHT
BEGIN:STANDARD
TZOFFSETFROM:-0300
TZOFFSETTO:-0400
TZNAME:AST
DTSTART:20241103T050000
END:STANDARD
BEGIN:DAYLIGHT
TZOFFSETFROM:-0400
TZOFFSETTO:-0300
TZNAME:ADT
DTSTART:20250309T060000
END:DAYLIGHT
BEGIN:STANDARD
TZOFFSETFROM:-0300
TZOFFSETTO:-0400
TZNAME:AST
DTSTART:20251102T050000
END:STANDARD
BEGIN:DAYLIGHT
TZOFFSETFROM:-0400
TZOFFSETTO:-0300
TZNAME:ADT
DTSTART:20260308T060000
END:DAYLIGHT
BEGIN:STANDARD
TZOFFSETFROM:-0300
TZOFFSETTO:-0400
TZNAME:AST
DTSTART:20261101T050000
END:STANDARD
END:VTIMEZONE
BEGIN:VEVENT
DTSTART;TZID=America/Halifax:20250529T080000
DTEND;TZID=America/Halifax:20250529T180000
DTSTAMP:20260422T192509
CREATED:20250507T185340Z
LAST-MODIFIED:20250529T082341Z
UID:4217090-1748505600-1748541600@carletonnorth.com
SUMMARY:Yard Sale Fundraiser
DESCRIPTION:Date:  May 22\, 2025Time:  8:00AM – 6:00PMLocation:  Bannon Bible Camp\, 85 Jericho Rd\, Bannon \nStarting May 22 and open each weekend until June 21.  \nYard Sale open Thursdays and Fridays 8am to 6pm; Saturdays 8am to Noon. \nProceeds for Bannon Bible Camp.  \nContact Ruth Sawler at ruan@nbnet.nb.ca.
URL:https://carletonnorth.com/event/yard-sale-fundraiser-4/
LOCATION:Bannon Bible Camp\, 85 Jericho Rd\, Bannon\, NB E7L 3T1\, Canada
CATEGORIES:Community Calendar
END:VEVENT
BEGIN:VEVENT
DTSTART;TZID=America/Halifax:20250529T130000
DTEND;TZID=America/Halifax:20250529T150000
DTSTAMP:20260422T192509
CREATED:20250114T225954Z
LAST-MODIFIED:20250529T082342Z
UID:2564638-1748523600-1748530800@carletonnorth.com
SUMMARY:Rockwall Drop-Ins
DESCRIPTION:Rockwall Drop-ins\nCost: $3 Adult | $2 55+\n506-392-6763 ext 220 for more information
URL:https://carletonnorth.com/event/rockwall-drop-ins-149/
LOCATION:R. G. “Bun” Veysey Active Living Centre\, 40 McCain Street\, Florenceville-Bristol\, NB
CATEGORIES:Community Calendar
END:VEVENT
BEGIN:VEVENT
DTSTART;TZID=America/Halifax:20250529T163000
DTEND;TZID=America/Halifax:20250529T173000
DTSTAMP:20260422T192509
CREATED:20250503T175401Z
LAST-MODIFIED:20250529T082342Z
UID:4158282-1748536200-1748539800@carletonnorth.com
SUMMARY:Taking Care Of Your Brain-Alzheimer Society Presentation
DESCRIPTION:Date:  May 29\, 2025Time:  4:30PM  – 5:30PMLocation:  Community Hall Florenceville-Bristol \nEvent Details: \nNursing Home Without Walls & The Alzheimer Society Presentation- “Taking Care Of Your Brain” \nAll are welcome.  Bring your supper if you wish\, tea/coffee will be provided. \nFor more information call 506-278-3197
URL:https://carletonnorth.com/event/taking-care-of-your-brain-alzheimer-society-presentation/
LOCATION:Florenceville-Bristol Community Hall\, 8696 Main St\, Florenceville-Bristol\, NB E7L 3G8\, Canada
CATEGORIES:Community Calendar
END:VEVENT
BEGIN:VEVENT
DTSTART;TZID=America/Halifax:20250529T173000
DTEND;TZID=America/Halifax:20250529T203000
DTSTAMP:20260422T192509
CREATED:20250114T225954Z
LAST-MODIFIED:20250529T082341Z
UID:2564639-1748539800-1748550600@carletonnorth.com
SUMMARY:Rockwall Drop-ins
DESCRIPTION:Rockwall Drop-ins\nCost: $3 Adult | $2 55+\nThursdays\n1:00PM-3:00PM\n5:30PM-8:30PM\nFor more information: 506-392-6763 ext. 220
URL:https://carletonnorth.com/event/rockwall-drop-ins-150/
LOCATION:40 McCain St\, Florenceville-Bristol\, NB E7L 3J4\, Canada
CATEGORIES:Community Calendar
END:VEVENT
BEGIN:VEVENT
DTSTART;TZID=America/Halifax:20250529T180000
DTEND;TZID=America/Halifax:20250529T200000
DTSTAMP:20260422T192509
CREATED:20250508T190907Z
LAST-MODIFIED:20250529T082343Z
UID:4231543-1748541600-1748548800@carletonnorth.com
SUMMARY:Clay Handbuilding - Veterans Night
DESCRIPTION:Whether you’ve got a current project or are a brand-newbie wanting to explore clay\, join instructor Jenna Ross & other friendly clay-lovers for a casual evening of creativity at the River Art Centre & Studios. \nNo registration required. Basic instruction is provided to get you started. ….Bring your ideas\, gusto\, project dreams & we’ll see what happens! \nFee to attend each Drop-in is $5 per person. The first (bisque) firing of any pot you decide to keep costs $10 each piece. Then Glazing costs an additional $10 each piece. \nChildren aged 7-14 welcome to participate if accompanied by an adult. No experience necessary\, just an openness to try! See you there! \nFor more information contact the Gallery. info@mccainartgallery.com 506-392-6769
URL:https://carletonnorth.com/event/clay-handbuilding-veterans-night-2/
LOCATION:8746 Main St\, Florenceville-Bristol\, NB E7L 3G5\, Canada
CATEGORIES:Community Calendar
END:VEVENT
BEGIN:VEVENT
DTSTART;TZID=America/Halifax:20250529T183000
DTEND;TZID=America/Halifax:20250529T203000
DTSTAMP:20260422T192509
CREATED:20250117T234144Z
LAST-MODIFIED:20250529T082343Z
UID:2609601-1748543400-1748550600@carletonnorth.com
SUMMARY:Caregiver Support Network: Alzheimer Society
DESCRIPTION:Caregiver Support Network monthly meeting\nThe last Thursday of the month from February to June\n6:30PM  – 8:30PM\nDr. Walter Chesnut Library\, Hartland\nFor more information/inquiries:\ninfo@alzheimernb.ca\n1-800-664-8411\nwww.alzheimer.ca/nb
URL:https://carletonnorth.com/event/caregiver-support-network-alzheimer-society-4/
LOCATION:Dr. Walter Chestnut Library\, 395 Main St Unit 1\, Hartland\, NB E0J 2N3\, Canada
CATEGORIES:Community Calendar
END:VEVENT
END:VCALENDAR