BEGIN:VCALENDAR
VERSION:2.0
PRODID:-//District of Carleton North - ECPv6.15.20//NONSGML v1.0//EN
CALSCALE:GREGORIAN
METHOD:PUBLISH
X-ORIGINAL-URL:https://carletonnorth.com
X-WR-CALDESC:Events for District of Carleton North
REFRESH-INTERVAL;VALUE=DURATION:PT1H
X-Robots-Tag:noindex
X-PUBLISHED-TTL:PT1H
BEGIN:VTIMEZONE
TZID:America/Halifax
BEGIN:DAYLIGHT
TZOFFSETFROM:-0400
TZOFFSETTO:-0300
TZNAME:ADT
DTSTART:20240310T060000
END:DAYLIGHT
BEGIN:STANDARD
TZOFFSETFROM:-0300
TZOFFSETTO:-0400
TZNAME:AST
DTSTART:20241103T050000
END:STANDARD
BEGIN:DAYLIGHT
TZOFFSETFROM:-0400
TZOFFSETTO:-0300
TZNAME:ADT
DTSTART:20250309T060000
END:DAYLIGHT
BEGIN:STANDARD
TZOFFSETFROM:-0300
TZOFFSETTO:-0400
TZNAME:AST
DTSTART:20251102T050000
END:STANDARD
BEGIN:DAYLIGHT
TZOFFSETFROM:-0400
TZOFFSETTO:-0300
TZNAME:ADT
DTSTART:20260308T060000
END:DAYLIGHT
BEGIN:STANDARD
TZOFFSETFROM:-0300
TZOFFSETTO:-0400
TZNAME:AST
DTSTART:20261101T050000
END:STANDARD
END:VTIMEZONE
BEGIN:VEVENT
DTSTART;TZID=America/Halifax:20250611T083000
DTEND;TZID=America/Halifax:20250611T103000
DTSTAMP:20260422T141518
CREATED:20250606T142334Z
LAST-MODIFIED:20250610T152300Z
UID:4644912-1749630600-1749637800@carletonnorth.com
SUMMARY:Regular Pickleball Drop-Ins
DESCRIPTION:Regular Pickleball Drop-insDate:  Weekly on Wednesdays Time:  8:30AM-10:30AMLocation:  R.G. “Bun” Veysey Active Living Centre \nDetails:All ages and skill levels welcomeCost: $3- Adults $2-Senior/55+ \nFor any questions\, please contact:📧 recreation@carletonnorth.com☎ (506) 392-6763 Ext. 220
URL:https://carletonnorth.com/event/regular-pickleball-drop-ins/
LOCATION:40 McCain St\, Florenceville-Bristol\, NB E7L 3J4\, Canada
CATEGORIES:Community Calendar
END:VEVENT
BEGIN:VEVENT
DTSTART;TZID=America/Halifax:20250611T083000
DTEND;TZID=America/Halifax:20250611T110000
DTSTAMP:20260422T141518
CREATED:20250603T134237Z
LAST-MODIFIED:20250610T152300Z
UID:4599114-1749630600-1749639600@carletonnorth.com
SUMMARY:NHWW Blood Pressure Walk-In Clinic
DESCRIPTION:Date:  June 11\, 2025Time:  8:30AM – 11:00AMLocation:  R.G ‘Bun’ Veysey Active Living Centre\, 40 McCain Street Florenceville-BristolEvent Details:  \nNHWW is offering a FREE Blood Pressure Drop-In Clinic for anyone 60+.  There will be a healthcare professional on site to check on various aspects of your wellbeing.  You can choose to have any of the following tested;  blood pressure\, glucose\, weight\, H20 level.  \nFor more information contact NHWW at 506-278-3197 or email rvmnhww@nb.aibn.com
URL:https://carletonnorth.com/event/nhww-blood-pressure-walk-in-clinic-2/
LOCATION:R. G. “Bun” Veysey Active Living Centre\, 40 McCain St\, Florenceville-Bristol\, NB E7L 3J4\, Canada
CATEGORIES:Community Calendar
END:VEVENT
BEGIN:VEVENT
DTSTART;TZID=America/Halifax:20250611T100000
DTEND;TZID=America/Halifax:20250611T110000
DTSTAMP:20260422T141518
CREATED:20250603T134243Z
LAST-MODIFIED:20250610T152300Z
UID:4599115-1749636000-1749639600@carletonnorth.com
SUMMARY:Senior Stretching
DESCRIPTION:Date:  Weekly Every Wednesday in JuneTime:  10:00AM – 11:00AMLocation:  Shiktehawk Place \nEvent Details: \nNursing Home Without Walls is offering Senior Stretching at Shiktehawk Place at 10:00am.  This is a great opportunity to get moving and to socialize.  Includes some light seated exercise. \nFor more information or to join contact NHWW (506)278-3197
URL:https://carletonnorth.com/event/senior-stretching-54/
LOCATION:Shiktehawk Place
CATEGORIES:Community Calendar
END:VEVENT
BEGIN:VEVENT
DTSTART;TZID=America/Halifax:20250611T111500
DTEND;TZID=America/Halifax:20250611T121500
DTSTAMP:20260422T141518
CREATED:20250603T134250Z
LAST-MODIFIED:20250610T152301Z
UID:4599116-1749640500-1749644100@carletonnorth.com
SUMMARY:Senior Stretching
DESCRIPTION:Date:  Weekly Every Wednesday in JuneTime:  11:15AM – 12:15PMLocation:  Centreville Baptist ChurchEvent Details: \nNursing Home Without Walls is offering Senior Stretching at Centreville Baptist at 11:15am.  This is a great opportunity to get moving and to socialize.  Includes some light seated exercise with NHWW staff. \nFor more information or to join contact NHWW (506) 278-3197
URL:https://carletonnorth.com/event/senior-stretching-55/
LOCATION:Shiktehawk Place
CATEGORIES:Community Calendar
END:VEVENT
BEGIN:VEVENT
DTSTART;TZID=America/Halifax:20250611T130000
DTEND;TZID=America/Halifax:20250611T160000
DTSTAMP:20260422T141518
CREATED:20250603T134258Z
LAST-MODIFIED:20250611T153739Z
UID:4599117-1749646800-1749657600@carletonnorth.com
SUMMARY:Senior Puzzles\, Social & Cards
DESCRIPTION:They have snacks\, tea\, and play a variation of puzzles. you can also bring puzzles to trade!\nfrom 1pm-4pm $3 for entry (55+)\nEnjoy an afternoon of card games\, snacks\, and fun!
URL:https://carletonnorth.com/event/senior-puzzles-social-cards-54/
LOCATION:40 McCain St\, Florenceville-Bristol\, NB E7L 3J4\, Canada
CATEGORIES:Community Calendar
END:VEVENT
BEGIN:VEVENT
DTSTART;TZID=America/Halifax:20250611T160000
DTEND;TZID=America/Halifax:20250611T190000
DTSTAMP:20260422T141518
CREATED:20250610T152302Z
LAST-MODIFIED:20250611T153738Z
UID:4705342-1749657600-1749668400@carletonnorth.com
SUMMARY:Rockwall Drop-in
DESCRIPTION:Rockwall Drop-ins\nCost: $3 Adult | $2 55+\n506-392-6763 ext 220 for more information
URL:https://carletonnorth.com/event/rockwall-drop-in-54/
LOCATION:40 McCain St\, Florenceville-Bristol\, NB E7L 3J4\, Canada
CATEGORIES:Community Calendar
END:VEVENT
BEGIN:VEVENT
DTSTART;TZID=America/Halifax:20250611T180000
DTEND;TZID=America/Halifax:20250611T200000
DTSTAMP:20260422T141518
CREATED:20250603T134319Z
LAST-MODIFIED:20250611T153739Z
UID:4599120-1749664800-1749672000@carletonnorth.com
SUMMARY:Garden Club Presents:  An Evening With George Scott
DESCRIPTION:An Evening With George ScottDate:  June 11\, 2025Time:  6:00PM – 8:00PMLocation:  Riverside Park Gazebo –  9173 Main Street\, Florenceville-Bristol (Good Weather)RainDay/Location:  Same day – Welcome Centre – 9207 Main Street Florenceville-Bristol (right beside Shogomoc Railway Site) \nDetails: \nGeorge and company (Jenny & Colton)  are back this spring once again with gardening advice\, tips\, and tricks to make for another great gardening season! \nBring gardening questions for conversation! Plants will also be for sale at the end of the event (cash please). \nCan’t wait to see you! \nQUESTIONS?  Contact :  Michelle Corcoran mcorcoranRD@gmail.com
URL:https://carletonnorth.com/event/garden-club-presents-an-evening-with-george-scott/
LOCATION:Riverside Park\, 9173 Main St\, Florenceville-Bristol\, NB E7L 2Y3\, Canada
CATEGORIES:Community Calendar
END:VEVENT
BEGIN:VEVENT
DTSTART;TZID=America/Halifax:20250611T193000
DTEND;TZID=America/Halifax:20250611T230000
DTSTAMP:20260422T141518
CREATED:20250603T134311Z
LAST-MODIFIED:20250611T153739Z
UID:4599119-1749670200-1749682800@carletonnorth.com
SUMMARY:Shawna Caspi performs at Second Wind Music Centre
DESCRIPTION:Singer-songwriter Shawna Caspi performs at Second Wind Music CentreJune 11\, 20257:30PM – 11:00PMTickets $25. Email secondwindmusiccentre@gmail.com to purchase tickets \nToronto folk-roots singer-songwriter and fingerstyle guitarist Shawna Caspi performs at Second Wind Music Centre (16 Curtis Road) in Florenceville-Bristol at 7:30pm on Wednesday\, June 11\, 2025 as part of her spring east coast tour.Tickets are $25 and available by emailing secondwindmusiccentre@gmail.com. \nShawna is on the road supporting her latest album\, Hurricane Coming\, which was nominated for a Canadian Folk Music Award and an Ontario Folk Music Award. She’ll have CDs for sale\, along with postcards featuring original artwork she created inspired by each song on the album. Shawna is an accomplished visual artist and will also be selling original landscape paintings with her merchandise\, while supplies last. \nAudiences will feel comforted in the welcoming space that Shawna creates\, and be engaged in songs that resonate with stories that are relatable\, but told in new and unexpected ways\, with lyrics that are poetic and meaningful\, wrapped around intricate fingerstyle guitar accompaniment. This is music that makes an authentic human connection\, that conveys a sense of closeness\, of being understood\, of feeling less alone. \nThis is Shawna’s first east coast tour since the pandemic. She will also be performing in Cambridge-Narrows\, Moncton\, and Fredericton\, New Brunswick\, and in New Glasgow and Dartmouth\, Nova Scotia on this tour. Details are available on her website at http://www.shawnacaspi.com. \nFor more information about Second Wind Music Centre\, visit:https://www.secondwindmusiccentre.cahttps://www.facebook.com/secondwindmusiccentre
URL:https://carletonnorth.com/event/shawna-caspi-performs-at-second-wind-music-centre/
LOCATION:Second Wind Music Centre\, 16 Curtis Rd\, Florenceville-Bristol\, NB E7L 2J7\, Canada
CATEGORIES:Community Calendar
END:VEVENT
END:VCALENDAR