BEGIN:VCALENDAR
VERSION:2.0
PRODID:-//District of Carleton North - ECPv6.15.20//NONSGML v1.0//EN
CALSCALE:GREGORIAN
METHOD:PUBLISH
X-WR-CALNAME:District of Carleton North
X-ORIGINAL-URL:https://carletonnorth.com
X-WR-CALDESC:Events for District of Carleton North
REFRESH-INTERVAL;VALUE=DURATION:PT1H
X-Robots-Tag:noindex
X-PUBLISHED-TTL:PT1H
BEGIN:VTIMEZONE
TZID:America/Halifax
BEGIN:DAYLIGHT
TZOFFSETFROM:-0400
TZOFFSETTO:-0300
TZNAME:ADT
DTSTART:20240310T060000
END:DAYLIGHT
BEGIN:STANDARD
TZOFFSETFROM:-0300
TZOFFSETTO:-0400
TZNAME:AST
DTSTART:20241103T050000
END:STANDARD
BEGIN:DAYLIGHT
TZOFFSETFROM:-0400
TZOFFSETTO:-0300
TZNAME:ADT
DTSTART:20250309T060000
END:DAYLIGHT
BEGIN:STANDARD
TZOFFSETFROM:-0300
TZOFFSETTO:-0400
TZNAME:AST
DTSTART:20251102T050000
END:STANDARD
BEGIN:DAYLIGHT
TZOFFSETFROM:-0400
TZOFFSETTO:-0300
TZNAME:ADT
DTSTART:20260308T060000
END:DAYLIGHT
BEGIN:STANDARD
TZOFFSETFROM:-0300
TZOFFSETTO:-0400
TZNAME:AST
DTSTART:20261101T050000
END:STANDARD
END:VTIMEZONE
BEGIN:VEVENT
DTSTART;TZID=America/Halifax:20250612T080000
DTEND;TZID=America/Halifax:20250612T180000
DTSTAMP:20260422T141533
CREATED:20250603T134326Z
LAST-MODIFIED:20250612T155306Z
UID:4599121-1749715200-1749751200@carletonnorth.com
SUMMARY:Yard Sale Fundraiser
DESCRIPTION:Date:  May 22\, 2025Time:  8:00AM – 6:00PMLocation:  Bannon Bible Camp\, 85 Jericho Rd\, Bannon \nStarting May 22 and open each weekend until June 21.  \nYard Sale open Thursdays and Fridays 8am to 6pm; Saturdays 8am to Noon. \nProceeds for Bannon Bible Camp.  \nContact Ruth Sawler at ruan@nbnet.nb.ca.
URL:https://carletonnorth.com/event/yard-sale-fundraiser-10/
LOCATION:Bannon Bible Camp\, 85 Jericho Rd\, Bannon\, NB E7L 3T1\, Canada
CATEGORIES:Community Calendar
END:VEVENT
BEGIN:VEVENT
DTSTART;TZID=America/Halifax:20250612T130000
DTEND;TZID=America/Halifax:20250612T150000
DTSTAMP:20260422T141533
CREATED:20250606T142339Z
LAST-MODIFIED:20250612T155304Z
UID:4644913-1749733200-1749740400@carletonnorth.com
SUMMARY:Drop -In  Adult/Senior Pickleball
DESCRIPTION:Adult/Senior Pickleball Drop-In \nDate:  Weekly on ThursdaysTime:   1:00PM-3:00PMLocation:  R.G. “Bun” Veysey Active Living Centre \nEvent Details:All skill levels welcomeCost: $3- Adults $2-Senior/55+ \nFor any questions\, please contact:📧 recreation@carletonnorth.com☎ (506) 392-6763 Ext. 220
URL:https://carletonnorth.com/event/drop-in-adult-senior-pickleball-48/
LOCATION:R. G. “Bun” Veysey Active Living Centre\, 40 McCain St\, Florenceville-Bristol\, NB E7L 3J4\, Canada
CATEGORIES:Community Calendar
END:VEVENT
BEGIN:VEVENT
DTSTART;TZID=America/Halifax:20250612T133000
DTEND;TZID=America/Halifax:20250612T153000
DTSTAMP:20260422T141533
CREATED:20250603T134340Z
LAST-MODIFIED:20250612T155305Z
UID:4599123-1749735000-1749742200@carletonnorth.com
SUMMARY:NHWW - Social & Games
DESCRIPTION:Date:  June 12\, 2025Time:  1:30PM – 3:30PMLocation:  Upper Kent Rec Centre\, 240 Upper Kent Rd\, Upper Kent \nEvent Details: \nPlease join NHWW for an afternoon of games\, snacks and social time.   \nCall NHWW for more information or to sign up (506) 278-3197
URL:https://carletonnorth.com/event/nhww-social-games/
LOCATION:Upper Kent Recreation Centre\, 240 Upper Kent Rd\, Upper Kent\, NB E7J 2E6\, Canada
CATEGORIES:Community Calendar
END:VEVENT
BEGIN:VEVENT
DTSTART;TZID=America/Halifax:20250612T160000
DTEND;TZID=America/Halifax:20250612T190000
DTSTAMP:20260422T141533
CREATED:20250610T152304Z
LAST-MODIFIED:20250612T155306Z
UID:4705343-1749744000-1749754800@carletonnorth.com
SUMMARY:Rockwall Drop-ins
DESCRIPTION:Rockwall Drop-ins\nCost: $3 Adult | $2 55+\nThursdays\n1:00PM-3:00PM\n5:30PM-8:30PM\nFor more information: 506-392-6763 ext. 220
URL:https://carletonnorth.com/event/rockwall-drop-ins-488/
LOCATION:40 McCain St\, Florenceville-Bristol\, NB E7L 3J4\, Canada
CATEGORIES:Community Calendar
END:VEVENT
BEGIN:VEVENT
DTSTART;TZID=America/Halifax:20250612T163000
DTEND;TZID=America/Halifax:20250612T183000
DTSTAMP:20260422T141533
CREATED:20250603T134407Z
LAST-MODIFIED:20250612T155305Z
UID:4599127-1749745800-1749753000@carletonnorth.com
SUMMARY:Age-Friendly Community Advisory Committee Meeting
DESCRIPTION:Age Friendly Community Advisory CommitteeDate:  June 12Time:  4:30PM – 6:30PMLocation: Florenceville Community HallEvent Details: \nThis meeting is to establish an Age Friendly Community Advisory Committee to obtain an Age Friendly Community Designation for the District of Carleton North.  \nInterested in being part of this committee or curious about what it means to live in an Age Friendly Community? Come out and learn how we’re building a place where people of all ages can thrive — with accessible spaces\, inclusive programs\, and a strong sense of belonging. Whether you’re passionate about improving transportation\, housing\, social inclusion\, or community support\, there’s a role for you! \nThis is also a great opportunity to find out what the Age Friendly Committee does and how you can lend your voice and experience to help shape a better future for everyone. Join the conversation  and see how you can make a meaningful difference. \nFor more information: \nGaby Mann\, Economic and Community Development Manager gaby.mann@carletonnorth.com OR 506-392-6763 ext. 206.
URL:https://carletonnorth.com/event/age-friendly-community-advisory-committee-meeting/
LOCATION:Florenceville-Bristol Community Hall\, 8696 Main St\, Florenceville-Bristol\, NB E7L 3G8\, Canada
CATEGORIES:Community Calendar
END:VEVENT
BEGIN:VEVENT
DTSTART;TZID=America/Halifax:20250612T170000
DTEND;TZID=America/Halifax:20250612T190000
DTSTAMP:20260422T141533
CREATED:20250606T142340Z
LAST-MODIFIED:20250612T155305Z
UID:4644914-1749747600-1749754800@carletonnorth.com
SUMMARY:Ladies Night Pickleball Drop-In
DESCRIPTION:Ladies  Night Pickleball Drop-In \nDate:  Weekly on ThursdaysTime:   5:00PM-7:00PMLocation:  R.G. “Bun” Veysey Active Living Centre \nEvent Details:All skill levels welcomeCost: $3- Adults $2-Senior/55+ \nFor any questions\, please contact:📧 recreation@carletonnorth.com☎ (506) 392-6763 Ext. 220
URL:https://carletonnorth.com/event/ladies-night-pickleball-drop-in-47/
LOCATION:R. G. “Bun” Veysey Active Living Centre\, 40 McCain St\, Florenceville-Bristol\, NB E7L 3J4\, Canada
CATEGORIES:Community Calendar
END:VEVENT
BEGIN:VEVENT
DTSTART;TZID=America/Halifax:20250612T180000
DTEND;TZID=America/Halifax:20250612T200000
DTSTAMP:20260422T141533
CREATED:20250603T134414Z
LAST-MODIFIED:20250612T155307Z
UID:4599128-1749751200-1749758400@carletonnorth.com
SUMMARY:Intro to Line with Stephen Hutchings
DESCRIPTION:Join artist Stephen Hutchings for a two-part beginner friendly workshop exploring the expressive power of line in art. \nPart 1: May 22\, 6pm-8pm \nPart 2: June 12\, 6pm-8pm \nLocation: River Art Centre (8746 Main Street\, Florenceville-Bristol) \nCost: $5 per part\, given at the door. *Please still register ahead. \nStephen is a local artist who draws most days as he is working in his Johnville studio or at the River Art Centre. His drawing practice started\, like many\, in his childhood and he never stopped. You might have seen him drawing in the Gallery in January 2023\, when seven artists were invited to turn the gallery into a drawing studio. Stephen has taught drawing throughout his career and will be teaching a figure drawing workshop at Sunbury Shores in the summer of 2025. He loves to share his enthusiasm for the activity with others and so has invited you to join him one evening a month\, have a glass of wine and reconnect to your inner artist. \nTo register\, please contact the gallery: \n506-392-6769 | info@mccainartgallery.com \nAll materials are provided\, no experience necessary!
URL:https://carletonnorth.com/event/intro-to-line-with-stephen-hutchings-2/
LOCATION:8746 Main St\, Florenceville-Bristol\, NB E7L 3G5\, Canada
CATEGORIES:Community Calendar
END:VEVENT
END:VCALENDAR