BEGIN:VCALENDAR
VERSION:2.0
PRODID:-//District of Carleton North - ECPv6.15.20//NONSGML v1.0//EN
CALSCALE:GREGORIAN
METHOD:PUBLISH
X-WR-CALNAME:District of Carleton North
X-ORIGINAL-URL:https://carletonnorth.com
X-WR-CALDESC:Events for District of Carleton North
REFRESH-INTERVAL;VALUE=DURATION:PT1H
X-Robots-Tag:noindex
X-PUBLISHED-TTL:PT1H
BEGIN:VTIMEZONE
TZID:America/Halifax
BEGIN:DAYLIGHT
TZOFFSETFROM:-0400
TZOFFSETTO:-0300
TZNAME:ADT
DTSTART:20240310T060000
END:DAYLIGHT
BEGIN:STANDARD
TZOFFSETFROM:-0300
TZOFFSETTO:-0400
TZNAME:AST
DTSTART:20241103T050000
END:STANDARD
BEGIN:DAYLIGHT
TZOFFSETFROM:-0400
TZOFFSETTO:-0300
TZNAME:ADT
DTSTART:20250309T060000
END:DAYLIGHT
BEGIN:STANDARD
TZOFFSETFROM:-0300
TZOFFSETTO:-0400
TZNAME:AST
DTSTART:20251102T050000
END:STANDARD
BEGIN:DAYLIGHT
TZOFFSETFROM:-0400
TZOFFSETTO:-0300
TZNAME:ADT
DTSTART:20260308T060000
END:DAYLIGHT
BEGIN:STANDARD
TZOFFSETFROM:-0300
TZOFFSETTO:-0400
TZNAME:AST
DTSTART:20261101T050000
END:STANDARD
END:VTIMEZONE
BEGIN:VEVENT
DTSTART;TZID=America/Halifax:20250614T080000
DTEND;TZID=America/Halifax:20250614T110000
DTSTAMP:20260422T141535
CREATED:20250612T155309Z
LAST-MODIFIED:20250613T160809Z
UID:4734876-1749888000-1749898800@carletonnorth.com
SUMMARY:Breakfast at Juniper Community Centre
DESCRIPTION:Breakfast at Juniper Community CentreDate: Weekly on SaturdayTime:  8:00AM – 11:00AMLocation:  Juniper Community Centre\, 267 Juniper Rd\, Juniper \nDon’t forget to join us for Breakfast  from 8am – 11am at the Juniper Community Centre.   Great company and a fantastic way to start your weekend. Everyone is welcome—bring your family\, friends\, and neighbors! 💛 \nBring someone who needs a delicious Saturday morning pick-me-up! 🍳🥓 \n#CommunityBreakfast #SaturdayVibes #GoodFoodGoodCompany \nhttps://www.facebook.com/JCC506
URL:https://carletonnorth.com/event/breakfast-at-juniper-community-centre-57/
LOCATION:Juniper Community Centre\, 267 Juniper Rd\, Juniper\, NB E7L 1H1\, Canada
CATEGORIES:Community Calendar
END:VEVENT
BEGIN:VEVENT
DTSTART;TZID=America/Halifax:20250614T080000
DTEND;TZID=America/Halifax:20250614T120000
DTSTAMP:20260422T141535
CREATED:20250612T155308Z
LAST-MODIFIED:20250613T160810Z
UID:4734875-1749888000-1749902400@carletonnorth.com
SUMMARY:Yard Sale Fundraiser
DESCRIPTION:Yard Sale FundraiserDate:  May 22\, 2025Time:  8:00AM – 12:00PMLocation:  Bannon Bible Camp\, 85 Jericho Rd\, Bannon \nStarting May 22 and open each weekend until June 21.  \nYard Sale open Thursdays and Fridays 8am to 6pm; Saturdays 8am to Noon. \nProceeds for Bannon Bible Camp.  \nContact Ruth Sawler at ruan@nbnet.nb.ca.
URL:https://carletonnorth.com/event/yard-sale-fundraiser-16/
LOCATION:Bannon Bible Camp\, 85 Jericho Rd\, Bannon\, NB E7L 3T1\, Canada
CATEGORIES:Community Calendar
END:VEVENT
BEGIN:VEVENT
DTSTART;TZID=America/Halifax:20250614T090000
DTEND;TZID=America/Halifax:20250614T120000
DTSTAMP:20260422T141535
CREATED:20250603T134455Z
LAST-MODIFIED:20250613T160810Z
UID:4599134-1749891600-1749902400@carletonnorth.com
SUMMARY:Rockwall Drop-ins
DESCRIPTION:Rockwall Drop-ins\nCost: $3 Adult | $2 55+\nSaturdays & Sundays\n9:00AM-12:00PM\n3:30PM-6:30PM\nFor more information: 506-392-6763 ext. 220
URL:https://carletonnorth.com/event/rockwall-drop-ins-103/
LOCATION:R. G. “Bun” Veysey Active Living Centre\, 40 McCain St\, Florenceville-Bristol\, NB E7L 3J4\, Canada
CATEGORIES:Community Calendar
END:VEVENT
BEGIN:VEVENT
DTSTART;TZID=America/Halifax:20250614T153000
DTEND;TZID=America/Halifax:20250614T183000
DTSTAMP:20260422T141535
CREATED:20250603T134510Z
LAST-MODIFIED:20250614T162240Z
UID:4599136-1749915000-1749925800@carletonnorth.com
SUMMARY:Rockwall Drop-ins
DESCRIPTION:Rockwall Drop-ins\nCost: $3 Adult | $2 55+\nSaturdays & Sundays\n9:00AM-12:00PM\n3:30PM-6:30PM\nFor more information: 506-392-6763 ext. 220
URL:https://carletonnorth.com/event/rockwall-drop-ins-109/
LOCATION:R. G. “Bun” Veysey Active Living Centre\, 40 McCain St\, Florenceville-Bristol\, NB E7L 3J4\, Canada
CATEGORIES:Community Calendar
END:VEVENT
BEGIN:VEVENT
DTSTART;TZID=America/Halifax:20250614T160000
DTEND;TZID=America/Halifax:20250614T190000
DTSTAMP:20260422T141535
CREATED:20250612T155310Z
LAST-MODIFIED:20250614T162239Z
UID:4734877-1749916800-1749927600@carletonnorth.com
SUMMARY:The Tourism Department Presents: Brew On The Boardwalk
DESCRIPTION:Brews On The Boardwalk \n📅 Date: Saturday June 14\, 2025 \n🕓 Time: 4:00PM – 7:00PM \n📍 Location: Main Street\, Florenceville-Bristol \nSip\, sample and celebrate at Brews on the Boardwalk – craft drink\, live music and summer vibes. Valid ID required\, must be 19 or older. \nJoin the Tourism Department for an evening of craft drinks\, live music and community vibes at Brews on the Boardwalk; set against the scenic Main Street and iconic covered bridge. \n🍺 Explore a diverse selection of craft beer and premium spirits from local breweries and distilleries as well as refreshing mocktails and non-alcoholic options for every kind of sip. From bold IPAs to smooth small-batch blends\, there’s something to fill every glass. \nVendors will be available to purchase food. \nEnjoy live music by Ronny Michaud\, creating the perfect soundtrack for a night of connection\, flavour and fun. Whether you’re a tasting enthusiast\, a curious newcomer\, or just looking for a great night out; Brews on the Boardwalk is the place to be this June. \nClick Here To Purchase Tickets
URL:https://carletonnorth.com/event/the-tourism-department-presents-brew-on-the-boardwalk/
CATEGORIES:Community Calendar
END:VEVENT
BEGIN:VEVENT
DTSTART;TZID=America/Halifax:20250614T164500
DTEND;TZID=America/Halifax:20250614T184500
DTSTAMP:20260422T141535
CREATED:20250613T160811Z
LAST-MODIFIED:20250614T162239Z
UID:4749445-1749919500-1749926700@carletonnorth.com
SUMMARY:Adult/Senior Pickleball Drop-In
DESCRIPTION:Adult/Senior Pickleball Drop-In \nDate:  June 14\, 2025Time:  4:45PM – 6:45PMLocation:  R.G. “Bun” Veysey Active Living Centre \nDetails:  \nAll skill levels welcomeCost: $3- Adults $2-Senior/55+ \nFor any questions\, please contact:📧 recreation@carletonnorth.com☎ (506) 392-6763 Ext. 220
URL:https://carletonnorth.com/event/adult-senior-pickleball-drop-in/
LOCATION:R. G. “Bun” Veysey Active Living Centre\, 40 McCain St\, Florenceville-Bristol\, NB E7L 3J4\, Canada
CATEGORIES:Community Calendar
END:VEVENT
END:VCALENDAR