BEGIN:VCALENDAR
VERSION:2.0
PRODID:-//District of Carleton North - ECPv6.15.20//NONSGML v1.0//EN
CALSCALE:GREGORIAN
METHOD:PUBLISH
X-ORIGINAL-URL:https://carletonnorth.com
X-WR-CALDESC:Events for District of Carleton North
REFRESH-INTERVAL;VALUE=DURATION:PT1H
X-Robots-Tag:noindex
X-PUBLISHED-TTL:PT1H
BEGIN:VTIMEZONE
TZID:America/Halifax
BEGIN:DAYLIGHT
TZOFFSETFROM:-0400
TZOFFSETTO:-0300
TZNAME:ADT
DTSTART:20240310T060000
END:DAYLIGHT
BEGIN:STANDARD
TZOFFSETFROM:-0300
TZOFFSETTO:-0400
TZNAME:AST
DTSTART:20241103T050000
END:STANDARD
BEGIN:DAYLIGHT
TZOFFSETFROM:-0400
TZOFFSETTO:-0300
TZNAME:ADT
DTSTART:20250309T060000
END:DAYLIGHT
BEGIN:STANDARD
TZOFFSETFROM:-0300
TZOFFSETTO:-0400
TZNAME:AST
DTSTART:20251102T050000
END:STANDARD
BEGIN:DAYLIGHT
TZOFFSETFROM:-0400
TZOFFSETTO:-0300
TZNAME:ADT
DTSTART:20260308T060000
END:DAYLIGHT
BEGIN:STANDARD
TZOFFSETFROM:-0300
TZOFFSETTO:-0400
TZNAME:AST
DTSTART:20261101T050000
END:STANDARD
END:VTIMEZONE
BEGIN:VEVENT
DTSTART;VALUE=DATE:20250816
DTEND;VALUE=DATE:20250928
DTSTAMP:20260422T091109
CREATED:20250816T155304Z
LAST-MODIFIED:20250927T172247Z
UID:5691368-1755302400-1759017599@carletonnorth.com
SUMMARY:Andrew & Laura McCain Art Gallery | Art Exhibit:  Flora
DESCRIPTION:Andrew & Laura McCain Art Gallery | Art Exhibit:  FloraDate:  August 16 – September 27\, 2025Location:  Andrew & Laura McCain Art Gallery | 8 McCain Street\, Florenceville-Bristol \nFlora is an exhibition of crafts by some of Atlantic Canada’s most celebrated artisans & craftspeople\, including:  Adam McNamara\, Alexa Jaffurs\, Caife Garvey\, Caroline Simpson\, Cat Candow\, Heather McCaig\, Judy Blake\, Ralph Simpson\, and Vincent Briggs. \nJoin us on Thursday\, September 4th at 5:30pm for the opening – which will also be the pARTicipate Art & Nature Festival Kickoff event! \nMeet many of the artists\, small of whom will be teaching workshops at pARTicipate. \nAndrew & Laura McCain Art Gallery8 McCain Street\, Florenceville-Bristol\, NB(506) 392-6769 \nGallery Hours: Monday:  ClosedTuesday:  ClosedWednesday: 10:30AM – 12:30PM / 1:30PM – 5:00PMThursday: 12:00PM – 4:00PM / 5:00PM – 8:00PMFriday: 10:30AM-12:30PM / 1:30PM – 5:00PMSaturday: 10:30AM-12:30PM / 1:30PM – 5:00PMSunday:  Closed
URL:https://carletonnorth.com/event/andrew-laura-mccain-art-gallery-art-exhibit-flora/
LOCATION:The Andrew & Laura McCain Art Gallery\, 8 McCain St unit 1\, Florenceville-Bristol\, NB E7L 3H6\, Canada
CATEGORIES:Community Calendar
END:VEVENT
BEGIN:VEVENT
DTSTART;VALUE=DATE:20250920
DTEND;VALUE=DATE:20250921
DTSTAMP:20260422T091109
CREATED:20250908T212259Z
LAST-MODIFIED:20250920T083806Z
UID:6047172-1758326400-1758412799@carletonnorth.com
SUMMARY:FREE Corn On The Cob With MLA Margaret Johnson
DESCRIPTION:FREE Corn On The Cob With MLA Margaret JohnsonDate:  September 20\, 2025Location:  R’G. “Bun” Veysey Active Living CentreEnjoy FREE Corn on the Cob in front of the R.G.”Bun” Veysey Active Living Centre with MLA Margaret Johnson.
URL:https://carletonnorth.com/event/free-corn-on-the-cob-with-mla-margaret-johnson/
LOCATION:R. G. “Bun” Veysey Active Living Centre\, 40 McCain St\, Florenceville-Bristol\, NB E7L 3J4\, Canada
CATEGORIES:Community Calendar
END:VEVENT
BEGIN:VEVENT
DTSTART;TZID=America/Halifax:20250920T080000
DTEND;TZID=America/Halifax:20250920T110000
DTSTAMP:20260422T091109
CREATED:20250826T181216Z
LAST-MODIFIED:20250920T083805Z
UID:5845565-1758355200-1758366000@carletonnorth.com
SUMMARY:Breakfast at Juniper Community Centre
DESCRIPTION:Breakfast at Juniper Community CentreDate: Weekly on SaturdayTime:  8:00AM – 11:00AMLocation:  Juniper Community Centre\, 267 Juniper Rd\, Juniper \nDon’t forget to join us for Breakfast  from 8am – 11am at the Juniper Community Centre.   Great company and a fantastic way to start your weekend. Everyone is welcome—bring your family\, friends\, and neighbors! 💛 \nBring someone who needs a delicious Saturday morning pick-me-up! 🍳🥓 \n#CommunityBreakfast #SaturdayVibes #GoodFoodGoodCompany \nhttps://www.facebook.com/JCC506
URL:https://carletonnorth.com/event/breakfast-at-juniper-community-centre-21/
LOCATION:Juniper Community Centre\, 267 Juniper Rd\, Juniper\, NB E7L 1H1\, Canada
CATEGORIES:Community Calendar
END:VEVENT
BEGIN:VEVENT
DTSTART;TZID=America/Halifax:20250920T090000
DTEND;TZID=America/Halifax:20250920T140000
DTSTAMP:20260422T091109
CREATED:20250826T181229Z
LAST-MODIFIED:20250920T083805Z
UID:5845640-1758358800-1758376800@carletonnorth.com
SUMMARY:Buttermilk Creek Fall Fair
DESCRIPTION:Buttermilk Creek Fall FairDate:  September 20\, 2025Time:  9:00AM – 2:00PMLocation:  R.G. “Bun” Veysey Active Living Centre\, 40 McCain Street\, Florenceville-Bristol \nBe sure to stop by the 19th annual Buttermilk Creek Fall Fair to explore all the amazing vendors and do some seasonal shopping.  This is the perfect event for picking up unique and handmade gifts for the holidays. \nFor more information call (506)-392-6769 or send an email to info@mccainartgallery.com
URL:https://carletonnorth.com/event/buttermilk-creek-fall-fair-2/
LOCATION:R. G. “Bun” Veysey Active Living Centre\, 40 McCain St\, Florenceville-Bristol\, NB E7L 3J4\, Canada
CATEGORIES:Community Calendar
END:VEVENT
BEGIN:VEVENT
DTSTART;TZID=America/Halifax:20250920T110000
DTEND;TZID=America/Halifax:20250920T120000
DTSTAMP:20260422T091109
CREATED:20250826T181222Z
LAST-MODIFIED:20250920T083804Z
UID:5845587-1758366000-1758369600@carletonnorth.com
SUMMARY:Walk A Mile In Her Shoes
DESCRIPTION:Walk A Mile In Her ShoesDate: September 20\, 2025Location: Florenceville Middle School \nRegistration Fee:  $20 and Donations Welcome \n Follow https://www.facebook.com/WalkaMileinHerShoesforSanctuaryHouse for updates and contact this page for questions \n\nAll proceeds go to support Sanctuary House \nTogether we can make a difference and increase awareness of Gender Based Violence while raising funds to help those in recovery!
URL:https://carletonnorth.com/event/walk-a-mile-in-her-shoes/
LOCATION:Florenceville Middle School\, 8794 Main St\, Florenceville-Bristol\, NB E7L 3G2\, Canada
CATEGORIES:Community Calendar
END:VEVENT
BEGIN:VEVENT
DTSTART;TZID=America/Halifax:20250920T120000
DTEND;TZID=America/Halifax:20250920T130000
DTSTAMP:20260422T091109
CREATED:20250917T235325Z
LAST-MODIFIED:20250920T083806Z
UID:6183455-1758369600-1758373200@carletonnorth.com
SUMMARY:Quiet Spots - Official Unveiling
DESCRIPTION:🔴 Quiet Spots – Official Unveiling  🔴 \n\n\n𝑫𝒂𝒕𝒆: Saturday\, September 20th \n𝑻𝒊𝒎𝒆: 12:00 noon \n𝑳𝒐𝒄𝒂𝒕𝒊𝒐𝒏 : Walking Track\, R.G. “Bun” Veysey Active Living Centre \n \nJoin us this Saturday\, on the 𝐖𝐚𝐥𝐤𝐢𝐧𝐠 𝐓𝐫𝐚𝐜𝐤 of the R.G. “Bun” Veysey Active Living Centre for the official unveiling of our newest public art piece! \n \n🔴What’s your favourite spot? \n📸 Take a selfie with it! \n🎨 Meet the artist\, Alanna Baird – she’s lovely and would be happy to chat with you! \n\nFor more information please contact Gaby Mann at (506) 392-6763 ext. 206 or email gaby.mann@carletonnorth.com
URL:https://carletonnorth.com/event/quiet-spots-official-unveiling/
LOCATION:R. G. “Bun” Veysey Active Living Centre\, 40 McCain St\, Florenceville-Bristol\, NB E7L 3J4\, Canada
CATEGORIES:Community Calendar
END:VEVENT
END:VCALENDAR