BEGIN:VCALENDAR
VERSION:2.0
PRODID:-//District of Carleton North - ECPv6.15.20//NONSGML v1.0//EN
CALSCALE:GREGORIAN
METHOD:PUBLISH
X-ORIGINAL-URL:https://carletonnorth.com
X-WR-CALDESC:Events for District of Carleton North
REFRESH-INTERVAL;VALUE=DURATION:PT1H
X-Robots-Tag:noindex
X-PUBLISHED-TTL:PT1H
BEGIN:VTIMEZONE
TZID:America/Halifax
BEGIN:DAYLIGHT
TZOFFSETFROM:-0400
TZOFFSETTO:-0300
TZNAME:ADT
DTSTART:20240310T060000
END:DAYLIGHT
BEGIN:STANDARD
TZOFFSETFROM:-0300
TZOFFSETTO:-0400
TZNAME:AST
DTSTART:20241103T050000
END:STANDARD
BEGIN:DAYLIGHT
TZOFFSETFROM:-0400
TZOFFSETTO:-0300
TZNAME:ADT
DTSTART:20250309T060000
END:DAYLIGHT
BEGIN:STANDARD
TZOFFSETFROM:-0300
TZOFFSETTO:-0400
TZNAME:AST
DTSTART:20251102T050000
END:STANDARD
BEGIN:DAYLIGHT
TZOFFSETFROM:-0400
TZOFFSETTO:-0300
TZNAME:ADT
DTSTART:20260308T060000
END:DAYLIGHT
BEGIN:STANDARD
TZOFFSETFROM:-0300
TZOFFSETTO:-0400
TZNAME:AST
DTSTART:20261101T050000
END:STANDARD
END:VTIMEZONE
BEGIN:VEVENT
DTSTART;VALUE=DATE:20251004
DTEND;VALUE=DATE:20251109
DTSTAMP:20260422T160247
CREATED:20251002T183734Z
LAST-MODIFIED:20251108T125254Z
UID:6408388-1759536000-1762646399@carletonnorth.com
SUMMARY:Art Exhibit: Totality
DESCRIPTION:TotalityDate:  October 4 – November 8Location:  Andrew & Laura McCain Art Gallery | 8 McCain ST. Florenceville-Bristol \nRelive the day of the Total Eclipse.  Will include community photos of family & friends\, eclipse artifacts\, photographs from David Hunter’s space balloon and the best evert total eclipse photographs by artist Jamie Wilson. \nFor more information please contact the gallery at (506) 392-6769 or email  www.mccainartgallery.com
URL:https://carletonnorth.com/event/art-exhibit-totality/
LOCATION:8 McCain St\, Florenceville\, NB E7L\, Canada
CATEGORIES:Community Calendar
END:VEVENT
BEGIN:VEVENT
DTSTART;TZID=America/Halifax:20251007T120000
DTEND;TZID=America/Halifax:20251007T130000
DTSTAMP:20260422T160247
CREATED:20250927T063751Z
LAST-MODIFIED:20251007T090843Z
UID:6326404-1759838400-1759842000@carletonnorth.com
SUMMARY:ADULT SKATE FREE
DESCRIPTION:
URL:https://carletonnorth.com/event/adult-skate-free-4/
END:VEVENT
BEGIN:VEVENT
DTSTART;TZID=America/Halifax:20251007T130000
DTEND;TZID=America/Halifax:20251007T140000
DTSTAMP:20260422T160247
CREATED:20250927T063752Z
LAST-MODIFIED:20251007T090843Z
UID:6326405-1759842000-1759845600@carletonnorth.com
SUMMARY:PARENTS & TOTS FREE
DESCRIPTION:
URL:https://carletonnorth.com/event/parents-tots-free-2/
END:VEVENT
BEGIN:VEVENT
DTSTART;TZID=America/Halifax:20251007T140000
DTEND;TZID=America/Halifax:20251007T150000
DTSTAMP:20260422T160247
CREATED:20250927T063752Z
LAST-MODIFIED:20251007T090843Z
UID:6326406-1759845600-1759849200@carletonnorth.com
SUMMARY:SENIOR SKATE - FREE
DESCRIPTION:
URL:https://carletonnorth.com/event/senior-skate-free-2/
END:VEVENT
BEGIN:VEVENT
DTSTART;TZID=America/Halifax:20251007T150000
DTEND;TZID=America/Halifax:20251007T153000
DTSTAMP:20260422T160247
CREATED:20251002T183735Z
LAST-MODIFIED:20251006T193734Z
UID:6408390-1759849200-1759851000@carletonnorth.com
SUMMARY:Chair Yoga - NHWW
DESCRIPTION:Chair YogaTime:  3:00PMDate:  October 7\, 2025Location:  True North Baptist Church\, 167 Burnham Rd. Florenceville-Bristol \n30 Minute Chair yoga session with certified yoga instructor teaching proper stretching and movements to get your body going.  Anyone 60+ can participate.  For more information call 506-278-3197
URL:https://carletonnorth.com/event/chair-yoga-nhww/
LOCATION:167 Burnham Rd\, Florenceville-Bristol\, NB E7L 1Z1\, Canada
CATEGORIES:Community Calendar
END:VEVENT
BEGIN:VEVENT
DTSTART;TZID=America/Halifax:20251007T160000
DTEND;TZID=America/Halifax:20251007T171500
DTSTAMP:20260422T160247
CREATED:20250822T132326Z
LAST-MODIFIED:20251007T090844Z
UID:5776526-1759852800-1759857300@carletonnorth.com
SUMMARY:CARLETON NORTH GIRLS
DESCRIPTION:
URL:https://carletonnorth.com/event/carleton-north-girls-48/
END:VEVENT
BEGIN:VEVENT
DTSTART;TZID=America/Halifax:20251007T173000
DTEND;TZID=America/Halifax:20251007T183000
DTSTAMP:20260422T160247
CREATED:20250821T142309Z
LAST-MODIFIED:20251007T090844Z
UID:5762651-1759858200-1759861800@carletonnorth.com
SUMMARY:U7 - MINOR HOCKEY
DESCRIPTION:
URL:https://carletonnorth.com/event/u7-minor-hockey-48/
END:VEVENT
BEGIN:VEVENT
DTSTART;TZID=America/Halifax:20251007T184500
DTEND;TZID=America/Halifax:20251007T194500
DTSTAMP:20260422T160247
CREATED:20250821T142309Z
LAST-MODIFIED:20251007T090844Z
UID:5762652-1759862700-1759866300@carletonnorth.com
SUMMARY:U13 TRYOUT 1 - MINORHOCKEY
DESCRIPTION:
URL:https://carletonnorth.com/event/u13-tryout-1-minorhockey/
END:VEVENT
BEGIN:VEVENT
DTSTART;TZID=America/Halifax:20251007T200000
DTEND;TZID=America/Halifax:20251007T210000
DTSTAMP:20260422T160247
CREATED:20250923T132244Z
LAST-MODIFIED:20251007T090845Z
UID:6270217-1759867200-1759870800@carletonnorth.com
SUMMARY:NORTH WEST VOYAGUERS
DESCRIPTION:
URL:https://carletonnorth.com/event/north-west-voyaguers/
END:VEVENT
END:VCALENDAR