BEGIN:VCALENDAR
VERSION:2.0
PRODID:-//District of Carleton North - ECPv6.15.20//NONSGML v1.0//EN
CALSCALE:GREGORIAN
METHOD:PUBLISH
X-WR-CALNAME:District of Carleton North
X-ORIGINAL-URL:https://carletonnorth.com
X-WR-CALDESC:Events for District of Carleton North
REFRESH-INTERVAL;VALUE=DURATION:PT1H
X-Robots-Tag:noindex
X-PUBLISHED-TTL:PT1H
BEGIN:VTIMEZONE
TZID:America/Halifax
BEGIN:DAYLIGHT
TZOFFSETFROM:-0400
TZOFFSETTO:-0300
TZNAME:ADT
DTSTART:20240310T060000
END:DAYLIGHT
BEGIN:STANDARD
TZOFFSETFROM:-0300
TZOFFSETTO:-0400
TZNAME:AST
DTSTART:20241103T050000
END:STANDARD
BEGIN:DAYLIGHT
TZOFFSETFROM:-0400
TZOFFSETTO:-0300
TZNAME:ADT
DTSTART:20250309T060000
END:DAYLIGHT
BEGIN:STANDARD
TZOFFSETFROM:-0300
TZOFFSETTO:-0400
TZNAME:AST
DTSTART:20251102T050000
END:STANDARD
BEGIN:DAYLIGHT
TZOFFSETFROM:-0400
TZOFFSETTO:-0300
TZNAME:ADT
DTSTART:20260308T060000
END:DAYLIGHT
BEGIN:STANDARD
TZOFFSETFROM:-0300
TZOFFSETTO:-0400
TZNAME:AST
DTSTART:20261101T050000
END:STANDARD
END:VTIMEZONE
BEGIN:VEVENT
DTSTART;VALUE=DATE:20251004
DTEND;VALUE=DATE:20251109
DTSTAMP:20260422T231256
CREATED:20251002T183734Z
LAST-MODIFIED:20251108T125254Z
UID:6408388-1759536000-1762646399@carletonnorth.com
SUMMARY:Art Exhibit: Totality
DESCRIPTION:TotalityDate:  October 4 – November 8Location:  Andrew & Laura McCain Art Gallery | 8 McCain ST. Florenceville-Bristol \nRelive the day of the Total Eclipse.  Will include community photos of family & friends\, eclipse artifacts\, photographs from David Hunter’s space balloon and the best evert total eclipse photographs by artist Jamie Wilson. \nFor more information please contact the gallery at (506) 392-6769 or email  www.mccainartgallery.com
URL:https://carletonnorth.com/event/art-exhibit-totality/
LOCATION:8 McCain St\, Florenceville\, NB E7L\, Canada
CATEGORIES:Community Calendar
END:VEVENT
BEGIN:VEVENT
DTSTART;TZID=America/Halifax:20251010T090000
DTEND;TZID=America/Halifax:20251011T150000
DTSTAMP:20260422T231256
CREATED:20251002T183738Z
LAST-MODIFIED:20251010T203749Z
UID:6408391-1760086800-1760194800@carletonnorth.com
SUMMARY:Quilt Show
DESCRIPTION:Quilt ShowDate:  Oct 10th & Oct 11thTime:  9:00AM – 3:00PMLocation:  St. John the Evangelist Church\, 309 Johnville Rd.\, Johnville \nAdmission is by donation.  Come for a drive and enjoy the beautiful quilts and fall foliage.
URL:https://carletonnorth.com/event/quilt-show-3/
LOCATION:309 Johnville Rd\, Johnville\, NB E7J 1J1\, Canada
CATEGORIES:Community Calendar
END:VEVENT
BEGIN:VEVENT
DTSTART;TZID=America/Halifax:20251011T080000
DTEND;TZID=America/Halifax:20251011T110000
DTSTAMP:20260422T231256
CREATED:20250924T131439Z
LAST-MODIFIED:20251010T203748Z
UID:6285222-1760169600-1760180400@carletonnorth.com
SUMMARY:Breakfast at Juniper Community Centre
DESCRIPTION:Breakfast at Juniper Community CentreDate: Weekly on SaturdayTime:  8:00AM – 11:00AMLocation:  Juniper Community Centre\, 267 Juniper Rd\, Juniper \nDon’t forget to join us for Breakfast  from 8am – 11am at the Juniper Community Centre.   Great company and a fantastic way to start your weekend. Everyone is welcome—bring your family\, friends\, and neighbors! 💛 \nBring someone who needs a delicious Saturday morning pick-me-up! 🍳🥓 \n#CommunityBreakfast #SaturdayVibes #GoodFoodGoodCompany \nhttps://www.facebook.com/JCC506
URL:https://carletonnorth.com/event/breakfast-at-juniper-community-centre-24/
LOCATION:Juniper Community Centre\, 267 Juniper Rd\, Juniper\, NB E7L 1H1\, Canada
CATEGORIES:Community Calendar
END:VEVENT
BEGIN:VEVENT
DTSTART;TZID=America/Halifax:20251011T083000
DTEND;TZID=America/Halifax:20251011T093000
DTSTAMP:20260422T231256
CREATED:20250821T152308Z
LAST-MODIFIED:20251011T122236Z
UID:5763294-1760171400-1760175000@carletonnorth.com
SUMMARY:U7 - MINOR HOCKEY
DESCRIPTION:
URL:https://carletonnorth.com/event/u7-minor-hockey-49/
END:VEVENT
BEGIN:VEVENT
DTSTART;TZID=America/Halifax:20251011T090000
DTEND;TZID=America/Halifax:20251011T140000
DTSTAMP:20260422T231256
CREATED:20250924T131446Z
LAST-MODIFIED:20251010T203750Z
UID:6285223-1760173200-1760191200@carletonnorth.com
SUMMARY:3rd Annual Fall Festival
DESCRIPTION:3rd Annual Fall FestivalLocation:  Knights of Columbus\,  22 Hallet Rd. BeechwoodTime:  9:00AM to 2:00PM \nFood Truck on site \nAll admission proceeds will be donated to the local Breakfast ProgramsVendors – contact Hillary Landry https://www.facebook.com/share/19pYyeUUeL/
URL:https://carletonnorth.com/event/3rd-annual-fall-festival/
LOCATION:Knights of Columbus Hall\, Hallett Rd\, Beechwood\, NB E7J 1X2\, Canada
CATEGORIES:Community Calendar
END:VEVENT
BEGIN:VEVENT
DTSTART;TZID=America/Halifax:20251011T094500
DTEND;TZID=America/Halifax:20251011T104500
DTSTAMP:20260422T231256
CREATED:20250821T152309Z
LAST-MODIFIED:20251011T133750Z
UID:5763295-1760175900-1760179500@carletonnorth.com
SUMMARY:U9 - MINOR HOCKEY
DESCRIPTION:
URL:https://carletonnorth.com/event/u9-tiering-2-minor-hockey-2/
END:VEVENT
BEGIN:VEVENT
DTSTART;TZID=America/Halifax:20251011T110000
DTEND;TZID=America/Halifax:20251011T120000
DTSTAMP:20260422T231256
CREATED:20250821T152309Z
LAST-MODIFIED:20251011T145310Z
UID:5763296-1760180400-1760184000@carletonnorth.com
SUMMARY:U11 TRYOUT 3 - MINOR HOCKEY
DESCRIPTION:
URL:https://carletonnorth.com/event/u11-tryout-3-minor-hockey/
END:VEVENT
BEGIN:VEVENT
DTSTART;TZID=America/Halifax:20251011T121500
DTEND;TZID=America/Halifax:20251011T131500
DTSTAMP:20260422T231256
CREATED:20250821T152309Z
LAST-MODIFIED:20251011T160735Z
UID:5763297-1760184900-1760188500@carletonnorth.com
SUMMARY:U13 TRYOUT 3 - MINOR HOCKEY
DESCRIPTION:
URL:https://carletonnorth.com/event/u13-tryout-3-minor-hockey/
END:VEVENT
BEGIN:VEVENT
DTSTART;TZID=America/Halifax:20251011T133000
DTEND;TZID=America/Halifax:20251011T143000
DTSTAMP:20260422T231256
CREATED:20250821T152309Z
LAST-MODIFIED:20251011T172242Z
UID:5763298-1760189400-1760193000@carletonnorth.com
SUMMARY:U15 TRYOUT 3 - MINOR HOCKEY
DESCRIPTION:
URL:https://carletonnorth.com/event/u15-tryout-3-minor-hockey/
END:VEVENT
BEGIN:VEVENT
DTSTART;TZID=America/Halifax:20251011T144500
DTEND;TZID=America/Halifax:20251011T154500
DTSTAMP:20260422T231256
CREATED:20250821T152309Z
LAST-MODIFIED:20251011T183734Z
UID:5763299-1760193900-1760197500@carletonnorth.com
SUMMARY:PRACTICE FOR PLAYERS NOT DOING TRYOUTS - MINOR HOCKEY
DESCRIPTION:
URL:https://carletonnorth.com/event/practice-for-players-not-doing-tryouts-minor-hockey/
END:VEVENT
BEGIN:VEVENT
DTSTART;TZID=America/Halifax:20251011T183000
DTEND;TZID=America/Halifax:20251011T200000
DTSTAMP:20260422T231256
CREATED:20251009T093746Z
LAST-MODIFIED:20251011T222256Z
UID:6508552-1760207400-1760212800@carletonnorth.com
SUMMARY:PUBLIC SKATE
DESCRIPTION:
URL:https://carletonnorth.com/event/public-skate-128/
END:VEVENT
END:VCALENDAR