BEGIN:VCALENDAR
VERSION:2.0
PRODID:-//District of Carleton North - ECPv6.15.20//NONSGML v1.0//EN
CALSCALE:GREGORIAN
METHOD:PUBLISH
X-ORIGINAL-URL:https://carletonnorth.com
X-WR-CALDESC:Events for District of Carleton North
REFRESH-INTERVAL;VALUE=DURATION:PT1H
X-Robots-Tag:noindex
X-PUBLISHED-TTL:PT1H
BEGIN:VTIMEZONE
TZID:America/Halifax
BEGIN:DAYLIGHT
TZOFFSETFROM:-0400
TZOFFSETTO:-0300
TZNAME:ADT
DTSTART:20240310T060000
END:DAYLIGHT
BEGIN:STANDARD
TZOFFSETFROM:-0300
TZOFFSETTO:-0400
TZNAME:AST
DTSTART:20241103T050000
END:STANDARD
BEGIN:DAYLIGHT
TZOFFSETFROM:-0400
TZOFFSETTO:-0300
TZNAME:ADT
DTSTART:20250309T060000
END:DAYLIGHT
BEGIN:STANDARD
TZOFFSETFROM:-0300
TZOFFSETTO:-0400
TZNAME:AST
DTSTART:20251102T050000
END:STANDARD
BEGIN:DAYLIGHT
TZOFFSETFROM:-0400
TZOFFSETTO:-0300
TZNAME:ADT
DTSTART:20260308T060000
END:DAYLIGHT
BEGIN:STANDARD
TZOFFSETFROM:-0300
TZOFFSETTO:-0400
TZNAME:AST
DTSTART:20261101T050000
END:STANDARD
END:VTIMEZONE
BEGIN:VEVENT
DTSTART;TZID=America/Halifax:20250618T083000
DTEND;TZID=America/Halifax:20250618T103000
DTSTAMP:20260423T070509
CREATED:20250612T155313Z
LAST-MODIFIED:20250616T165251Z
UID:4734881-1750235400-1750242600@carletonnorth.com
SUMMARY:Regular Pickleball Drop-Ins
DESCRIPTION:Regular Pickleball Drop-insDate:  Weekly on Wednesdays Time:  8:30AM-10:30AMLocation:  R.G. “Bun” Veysey Active Living Centre \nDetails:All ages and skill levels welcomeCost: $3- Adults $2-Senior/55+ \nFor any questions\, please contact:📧 recreation@carletonnorth.com☎ (506) 392-6763 Ext. 220
URL:https://carletonnorth.com/event/regular-pickleball-drop-ins-51/
LOCATION:40 McCain St\, Florenceville-Bristol\, NB E7L 3J4\, Canada
CATEGORIES:Community Calendar
END:VEVENT
BEGIN:VEVENT
DTSTART;TZID=America/Halifax:20250618T083000
DTEND;TZID=America/Halifax:20250618T103000
DTSTAMP:20260423T070509
CREATED:20250613T160816Z
LAST-MODIFIED:20250616T165250Z
UID:4749454-1750235400-1750242600@carletonnorth.com
SUMMARY:Adult/Senior Pickleball Drop-In
DESCRIPTION:Adult/Senior Pickleball Drop-inDate:  June 18\, 2025 Time:  8:30AM-10:30AMLocation:  R.G. “Bun” Veysey Active Living Centre \nDetails:All ages and skill levels welcomeCost: $3- Adults $2-Senior/55+ \nFor any questions\, please contact:📧 recreation@carletonnorth.com☎ (506) 392-6763 Ext. 220
URL:https://carletonnorth.com/event/adult-senior-pickleball-drop-in-4/
LOCATION:40 McCain St\, Florenceville-Bristol\, NB E7L 3J4\, Canada
CATEGORIES:Community Calendar
END:VEVENT
BEGIN:VEVENT
DTSTART;TZID=America/Halifax:20250618T083000
DTEND;TZID=America/Halifax:20250618T103000
DTSTAMP:20260423T070509
CREATED:20250614T162246Z
LAST-MODIFIED:20250616T165251Z
UID:4766555-1750235400-1750242600@carletonnorth.com
SUMMARY:Regular Pickleball Drop-In
DESCRIPTION:Regular Pickleball Drop-InDate:  Weekly on WednesdaysTime:   8:30AM – 10:30AMLocation:  R.G. “Bun” Veysey Active Living Centre \nDetails:  \nAll skill levels welcomeCost: $3- Adults $2-Senior/55+ \nFor any questions\, please contact:📧 recreation@carletonnorth.com☎ (506) 392-6763 Ext. 220
URL:https://carletonnorth.com/event/regular-pickleball-drop-in/
LOCATION:R. G. “Bun” Veysey Active Living Centre\, 40 McCain St\, Florenceville-Bristol\, NB E7L 3J4\, Canada
CATEGORIES:Community Calendar
END:VEVENT
BEGIN:VEVENT
DTSTART;TZID=America/Halifax:20250618T100000
DTEND;TZID=America/Halifax:20250618T110000
DTSTAMP:20260423T070509
CREATED:20250603T134539Z
LAST-MODIFIED:20250616T165251Z
UID:4599148-1750240800-1750244400@carletonnorth.com
SUMMARY:Senior Stretching
DESCRIPTION:Date:  Weekly Every Wednesday in JuneTime:  10:00AM – 11:00AMLocation:  Shiktehawk Place \nEvent Details: \nNursing Home Without Walls is offering Senior Stretching at Shiktehawk Place at 10:00am.  This is a great opportunity to get moving and to socialize.  Includes some light seated exercise. \nFor more information or to join contact NHWW (506)278-3197
URL:https://carletonnorth.com/event/senior-stretching-58/
LOCATION:Shiktehawk Place
CATEGORIES:Community Calendar
END:VEVENT
BEGIN:VEVENT
DTSTART;TZID=America/Halifax:20250618T111500
DTEND;TZID=America/Halifax:20250618T121500
DTSTAMP:20260423T070509
CREATED:20250603T134539Z
LAST-MODIFIED:20250616T165252Z
UID:4599149-1750245300-1750248900@carletonnorth.com
SUMMARY:Senior Stretching
DESCRIPTION:Date:  Weekly Every Wednesday in JuneTime:  11:15AM – 12:15PMLocation:  Centreville Baptist ChurchEvent Details: \nNursing Home Without Walls is offering Senior Stretching at Centreville Baptist at 11:15am.  This is a great opportunity to get moving and to socialize.  Includes some light seated exercise with NHWW staff. \nFor more information or to join contact NHWW (506) 278-3197
URL:https://carletonnorth.com/event/senior-stretching-59/
LOCATION:Shiktehawk Place
CATEGORIES:Community Calendar
END:VEVENT
BEGIN:VEVENT
DTSTART;TZID=America/Halifax:20250618T130000
DTEND;TZID=America/Halifax:20250618T160000
DTSTAMP:20260423T070509
CREATED:20250612T155314Z
LAST-MODIFIED:20250616T165253Z
UID:4734882-1750251600-1750262400@carletonnorth.com
SUMMARY:Senior Puzzles\, Social & Cards
DESCRIPTION:Senior Puzzles\, Social & CardsDate:  Weekly on WednesdaysTime:  1:00PM – 4:00PMLocation:  R.G. ‘Bun’ Veysey Active Living Centre\,  40 McCain St. Florenceville-Bristol \nEnjoy an afternoon of card games\, snacks\, tea and fun!  Play a variation of puzzles. Feel free to bring puzzles to trade! \nCost:   $3 for entry (55+)
URL:https://carletonnorth.com/event/senior-puzzles-social-cards-104/
LOCATION:40 McCain St\, Florenceville-Bristol\, NB E7L 3J4\, Canada
CATEGORIES:Community Calendar
END:VEVENT
BEGIN:VEVENT
DTSTART;TZID=America/Halifax:20250618T160000
DTEND;TZID=America/Halifax:20250618T190000
DTSTAMP:20260423T070509
CREATED:20250610T152313Z
LAST-MODIFIED:20250616T165252Z
UID:4705350-1750262400-1750273200@carletonnorth.com
SUMMARY:Rockwall Drop-in
DESCRIPTION:Rockwall Drop-ins\nCost: $3 Adult | $2 55+\n506-392-6763 ext 220 for more information
URL:https://carletonnorth.com/event/rockwall-drop-in-62/
LOCATION:40 McCain St\, Florenceville-Bristol\, NB E7L 3J4\, Canada
CATEGORIES:Community Calendar
END:VEVENT
END:VCALENDAR