BEGIN:VCALENDAR
VERSION:2.0
PRODID:-//District of Carleton North - ECPv6.15.20//NONSGML v1.0//EN
CALSCALE:GREGORIAN
METHOD:PUBLISH
X-WR-CALNAME:District of Carleton North
X-ORIGINAL-URL:https://carletonnorth.com
X-WR-CALDESC:Events for District of Carleton North
REFRESH-INTERVAL;VALUE=DURATION:PT1H
X-Robots-Tag:noindex
X-PUBLISHED-TTL:PT1H
BEGIN:VTIMEZONE
TZID:America/Halifax
BEGIN:DAYLIGHT
TZOFFSETFROM:-0400
TZOFFSETTO:-0300
TZNAME:ADT
DTSTART:20240310T060000
END:DAYLIGHT
BEGIN:STANDARD
TZOFFSETFROM:-0300
TZOFFSETTO:-0400
TZNAME:AST
DTSTART:20241103T050000
END:STANDARD
BEGIN:DAYLIGHT
TZOFFSETFROM:-0400
TZOFFSETTO:-0300
TZNAME:ADT
DTSTART:20250309T060000
END:DAYLIGHT
BEGIN:STANDARD
TZOFFSETFROM:-0300
TZOFFSETTO:-0400
TZNAME:AST
DTSTART:20251102T050000
END:STANDARD
BEGIN:DAYLIGHT
TZOFFSETFROM:-0400
TZOFFSETTO:-0300
TZNAME:ADT
DTSTART:20260308T060000
END:DAYLIGHT
BEGIN:STANDARD
TZOFFSETFROM:-0300
TZOFFSETTO:-0400
TZNAME:AST
DTSTART:20261101T050000
END:STANDARD
END:VTIMEZONE
BEGIN:VEVENT
DTSTART;TZID=America/Halifax:20250626T100000
DTEND;TZID=America/Halifax:20250626T130000
DTSTAMP:20260422T161824
CREATED:20250623T233747Z
LAST-MODIFIED:20250626T082302Z
UID:4904166-1750932000-1750942800@carletonnorth.com
SUMMARY:Rockwall Drop-in
DESCRIPTION:Rockwall Drop-ins\nCost: $3 Adult | $2 55+\n506-392-6763 ext 220 for more information
URL:https://carletonnorth.com/event/rockwall-drop-in-283/
LOCATION:40 McCain St\, Florenceville-Bristol\, NB E7L 3J4\, Canada
CATEGORIES:Community Calendar
END:VEVENT
BEGIN:VEVENT
DTSTART;TZID=America/Halifax:20250626T160000
DTEND;TZID=America/Halifax:20250626T190000
DTSTAMP:20260422T161824
CREATED:20250619T191148Z
LAST-MODIFIED:20250626T082303Z
UID:4840640-1750953600-1750964400@carletonnorth.com
SUMMARY:Rockwall Drop-ins
DESCRIPTION:Rockwall Drop-ins\nCost: $3 Adult | $2 55+\nThursdays\n1:00PM-3:00PM\n5:30PM-8:30PM\nFor more information: 506-392-6763 ext. 220
URL:https://carletonnorth.com/event/rockwall-drop-ins-147/
LOCATION:40 McCain St\, Florenceville-Bristol\, NB E7L 3J4\, Canada
CATEGORIES:Community Calendar
END:VEVENT
BEGIN:VEVENT
DTSTART;TZID=America/Halifax:20250626T163000
DTEND;TZID=America/Halifax:20250626T183000
DTSTAMP:20260422T161824
CREATED:20250619T191204Z
LAST-MODIFIED:20250626T082303Z
UID:4840697-1750955400-1750962600@carletonnorth.com
SUMMARY:Memory Cafe - NHWW & Alzheimer Society
DESCRIPTION:Date:  June 26\, 2025Time:  4:30PM – 6:30PMLocation:  Community Hall\, 8696 Main St. Florenceville-Bristol \nEvent Details:For people living with dementia\, their family members\, friends\, and caregivers.  The Memory Cafe is a FREE program for people living with all stages of dementia and their families to meet others\, learn\, and have fun! \nJoin us to:   \n\nConnect\nChat\nLearn\nHave Fun\nEnjoy Refreshments\n\nAll are welcome to join this free  program!  This program is offered by the Alzheimer Society in partnership with Nursing Home Without Walls.   \nFor more information:  email:  info@alzheimernb.ca                                           call:  506-459-4280                                   website:  www.alzheimer.ca/nb
URL:https://carletonnorth.com/event/memory-cafe-nhww-alzheimer-society/
LOCATION:8696 Main St\, Florenceville-Bristol\, NB E7L 3G8\, Canada
CATEGORIES:Community Calendar
END:VEVENT
BEGIN:VEVENT
DTSTART;TZID=America/Halifax:20250626T183000
DTEND;TZID=America/Halifax:20250626T200000
DTSTAMP:20260422T161824
CREATED:20250619T191133Z
LAST-MODIFIED:20250626T082302Z
UID:4840582-1750962600-1750968000@carletonnorth.com
SUMMARY:Brazilian Jiu Jitsu For beginners (Age 10+)
DESCRIPTION:Brazilian Jiu Jitsu For beginners (Age 10+)Date:  Weekly every Tuesday & Thursday in June\, July  & AugustTime:  6:30PM – 8:00PMLocation:  6 Welch Street\, Florenceville-Bristol – Pure Therapy \nCost:  $20 covers both Tuesday and Thursday classes for the weekOr $20 per drop-in class \nSign Up Online:  puretherapy.ca
URL:https://carletonnorth.com/event/brazilian-jiu-jitsu-for-beginners-age-10-4/
LOCATION:6 Welch St\, Florenceville-Bristol\, NB E7L 2E4\, Canada
CATEGORIES:Community Calendar
END:VEVENT
BEGIN:VEVENT
DTSTART;TZID=America/Halifax:20250626T183000
DTEND;TZID=America/Halifax:20250626T203000
DTSTAMP:20260422T161824
CREATED:20250619T191140Z
LAST-MODIFIED:20250626T082302Z
UID:4840608-1750962600-1750969800@carletonnorth.com
SUMMARY:Caregiver Support Network: Alzheimer Society
DESCRIPTION:Caregiver Support Network monthly meeting\nThe last Thursday of the month from February to June\n6:30PM  – 8:30PM\nDr. Walter Chesnut Library\, Hartland\nFor more information/inquiries:\ninfo@alzheimernb.ca\n1-800-664-8411\nwww.alzheimer.ca/nb
URL:https://carletonnorth.com/event/caregiver-support-network-alzheimer-society-5/
LOCATION:Dr. Walter Chestnut Library\, 395 Main St Unit 1\, Hartland\, NB E0J 2N3\, Canada
CATEGORIES:Community Calendar
END:VEVENT
END:VCALENDAR