BEGIN:VCALENDAR
VERSION:2.0
PRODID:-//District of Carleton North - ECPv6.15.20//NONSGML v1.0//EN
CALSCALE:GREGORIAN
METHOD:PUBLISH
X-ORIGINAL-URL:https://carletonnorth.com
X-WR-CALDESC:Events for District of Carleton North
REFRESH-INTERVAL;VALUE=DURATION:PT1H
X-Robots-Tag:noindex
X-PUBLISHED-TTL:PT1H
BEGIN:VTIMEZONE
TZID:America/Halifax
BEGIN:DAYLIGHT
TZOFFSETFROM:-0400
TZOFFSETTO:-0300
TZNAME:ADT
DTSTART:20240310T060000
END:DAYLIGHT
BEGIN:STANDARD
TZOFFSETFROM:-0300
TZOFFSETTO:-0400
TZNAME:AST
DTSTART:20241103T050000
END:STANDARD
BEGIN:DAYLIGHT
TZOFFSETFROM:-0400
TZOFFSETTO:-0300
TZNAME:ADT
DTSTART:20250309T060000
END:DAYLIGHT
BEGIN:STANDARD
TZOFFSETFROM:-0300
TZOFFSETTO:-0400
TZNAME:AST
DTSTART:20251102T050000
END:STANDARD
BEGIN:DAYLIGHT
TZOFFSETFROM:-0400
TZOFFSETTO:-0300
TZNAME:ADT
DTSTART:20260308T060000
END:DAYLIGHT
BEGIN:STANDARD
TZOFFSETFROM:-0300
TZOFFSETTO:-0400
TZNAME:AST
DTSTART:20261101T050000
END:STANDARD
END:VTIMEZONE
BEGIN:VEVENT
DTSTART;VALUE=DATE:20250712
DTEND;VALUE=DATE:20250810
DTSTAMP:20260422T091149
CREATED:20250712T113920Z
LAST-MODIFIED:20250809T150741Z
UID:5178002-1752278400-1754783999@carletonnorth.com
SUMMARY:Indigenous Blue: Brian Francis
DESCRIPTION:Art Exhibit: Indigenous Blue: Brian Francis From July 12 to August 9\, 2025More information on the Artist found here: https://mccainartgallery.com/exhibitions/indigenous-blue-by-brian-francis/ \nAndrew & Laura McCain Art Gallery8 McCain Street\, Florenceville-Bristol\, NB506-392-6769 \nGallery Hours: Tuesday: 10:30AM -5PMWednesday: 10:30AM -5PMThursday: 12PM – 8PMFriday: 10:30AM-5PMSaturday: 10:30AM-5PM
URL:https://carletonnorth.com/event/indigenous-blue-brian-francis-2/
LOCATION:The Andrew & Laura McCain Art Gallery\, 8 McCain St unit 1\, Florenceville-Bristol\, NB E7L 3H6\, Canada
CATEGORIES:Community Calendar
END:VEVENT
BEGIN:VEVENT
DTSTART;TZID=America/Halifax:20250802T080000
DTEND;TZID=America/Halifax:20250802T110000
DTSTAMP:20260422T091149
CREATED:20250619T191700Z
LAST-MODIFIED:20250801T142242Z
UID:4841262-1754121600-1754132400@carletonnorth.com
SUMMARY:Breakfast at Juniper Community Centre
DESCRIPTION:Breakfast at Juniper Community CentreDate: Weekly on SaturdayTime:  8:00AM – 11:00AMLocation:  Juniper Community Centre\, 267 Juniper Rd\, Juniper \nDon’t forget to join us for Breakfast  from 8am – 11am at the Juniper Community Centre.   Great company and a fantastic way to start your weekend. Everyone is welcome—bring your family\, friends\, and neighbors! 💛 \nBring someone who needs a delicious Saturday morning pick-me-up! 🍳🥓 \n#CommunityBreakfast #SaturdayVibes #GoodFoodGoodCompany \nhttps://www.facebook.com/JCC506
URL:https://carletonnorth.com/event/breakfast-at-juniper-community-centre-14/
LOCATION:Juniper Community Centre\, 267 Juniper Rd\, Juniper\, NB E7L 1H1\, Canada
CATEGORIES:Community Calendar
END:VEVENT
BEGIN:VEVENT
DTSTART;TZID=America/Halifax:20250802T190000
DTEND;TZID=America/Halifax:20250802T223000
DTSTAMP:20260422T091149
CREATED:20250801T142243Z
LAST-MODIFIED:20250802T142228Z
UID:5472850-1754161200-1754173800@carletonnorth.com
SUMMARY:New Brunswick Day - Music & Fireworks
DESCRIPTION:New Brunswick DayDate:  August 2\, 2025Time: 7:00PM – 10:30PMLocation:  Bath Fairgrounds\, 200 Main St. Bath \nGet ready to celebrate a spectacular show!  Live music featuring Double D at 7:00PM.  Fireworks begin at 10:00PM.  Please bring your lawn chair for the concert.  Hope to see you there!
URL:https://carletonnorth.com/event/new-brunswick-day-music-fireworks/
LOCATION:Bath Fairgrounds\, 200 Main St. Bath\, NB E7L 2B6\, Canada
CATEGORIES:Community Calendar
END:VEVENT
END:VCALENDAR