BEGIN:VCALENDAR
VERSION:2.0
PRODID:-//District of Carleton North - ECPv6.15.20//NONSGML v1.0//EN
CALSCALE:GREGORIAN
METHOD:PUBLISH
X-WR-CALNAME:District of Carleton North
X-ORIGINAL-URL:https://carletonnorth.com
X-WR-CALDESC:Events for District of Carleton North
REFRESH-INTERVAL;VALUE=DURATION:PT1H
X-Robots-Tag:noindex
X-PUBLISHED-TTL:PT1H
BEGIN:VTIMEZONE
TZID:America/Halifax
BEGIN:DAYLIGHT
TZOFFSETFROM:-0400
TZOFFSETTO:-0300
TZNAME:ADT
DTSTART:20240310T060000
END:DAYLIGHT
BEGIN:STANDARD
TZOFFSETFROM:-0300
TZOFFSETTO:-0400
TZNAME:AST
DTSTART:20241103T050000
END:STANDARD
BEGIN:DAYLIGHT
TZOFFSETFROM:-0400
TZOFFSETTO:-0300
TZNAME:ADT
DTSTART:20250309T060000
END:DAYLIGHT
BEGIN:STANDARD
TZOFFSETFROM:-0300
TZOFFSETTO:-0400
TZNAME:AST
DTSTART:20251102T050000
END:STANDARD
BEGIN:DAYLIGHT
TZOFFSETFROM:-0400
TZOFFSETTO:-0300
TZNAME:ADT
DTSTART:20260308T060000
END:DAYLIGHT
BEGIN:STANDARD
TZOFFSETFROM:-0300
TZOFFSETTO:-0400
TZNAME:AST
DTSTART:20261101T050000
END:STANDARD
END:VTIMEZONE
BEGIN:VEVENT
DTSTART;VALUE=DATE:20250712
DTEND;VALUE=DATE:20250810
DTSTAMP:20260422T091105
CREATED:20250712T113920Z
LAST-MODIFIED:20250809T150741Z
UID:5178002-1752278400-1754783999@carletonnorth.com
SUMMARY:Indigenous Blue: Brian Francis
DESCRIPTION:Art Exhibit: Indigenous Blue: Brian Francis From July 12 to August 9\, 2025More information on the Artist found here: https://mccainartgallery.com/exhibitions/indigenous-blue-by-brian-francis/ \nAndrew & Laura McCain Art Gallery8 McCain Street\, Florenceville-Bristol\, NB506-392-6769 \nGallery Hours: Tuesday: 10:30AM -5PMWednesday: 10:30AM -5PMThursday: 12PM – 8PMFriday: 10:30AM-5PMSaturday: 10:30AM-5PM
URL:https://carletonnorth.com/event/indigenous-blue-brian-francis-2/
LOCATION:The Andrew & Laura McCain Art Gallery\, 8 McCain St unit 1\, Florenceville-Bristol\, NB E7L 3H6\, Canada
CATEGORIES:Community Calendar
END:VEVENT
BEGIN:VEVENT
DTSTART;VALUE=DATE:20250804
DTEND;VALUE=DATE:20250805
DTSTAMP:20260422T091105
CREATED:20250619T191702Z
LAST-MODIFIED:20250804T143734Z
UID:4841266-1754265600-1754351999@carletonnorth.com
SUMMARY:Comedy Tour - Bad Decisions
DESCRIPTION:The Bad Decisions Comedy TourDate:  August 4\, 2025Time:  7:00PM – 8:30PM Location:  109 Carleton St.  Woodstock\, Royal Canadian Legion Branch #11 \nEvent Details:Get ready to laugh until you cry with the Bad Decisions Comedy Tour brought to you by our sponsor Best Western Plus as it hits the road for a sizzling summer run! Featuring a lineup of comedians who have performed on Canada’s Got Talent\, The Winnipeg Comedy Festival\, Amazon Prime\, Apple TV\, and more\, this tour promises to be the perfect escape from your everyday routine. \nWe’re taking over towns big and small\, bringing the best in stand-up comedy directly to you! With fresh jokes\, sharp wit\, and plenty of unexpected surprises\, you’ll be talking about this night long after it’s over. \nDon’t miss your chance to catch the Bad Decisions Comedy Tour this summer — because some decisions are worth making! \n$20 (Good Decision) Purchase online before Aug 3rd$25 (Bad Decisions) Purchase online after Aug 3rd
URL:https://carletonnorth.com/event/comedy-tour-bad-decisions/
CATEGORIES:Community Calendar
END:VEVENT
BEGIN:VEVENT
DTSTART;VALUE=DATE:20250804
DTEND;VALUE=DATE:20250805
DTSTAMP:20260422T091105
CREATED:20250619T191703Z
LAST-MODIFIED:20250804T143734Z
UID:4841269-1754265600-1754351999@carletonnorth.com
SUMMARY:New Brunswick Day- Municipal Offices Closed
DESCRIPTION:
URL:https://carletonnorth.com/event/new-brunswick-day-municipal-offices-closed-2/
CATEGORIES:Community Calendar
END:VEVENT
END:VCALENDAR