BEGIN:VCALENDAR
VERSION:2.0
PRODID:-//District of Carleton North - ECPv6.15.20//NONSGML v1.0//EN
CALSCALE:GREGORIAN
METHOD:PUBLISH
X-ORIGINAL-URL:https://carletonnorth.com
X-WR-CALDESC:Events for District of Carleton North
REFRESH-INTERVAL;VALUE=DURATION:PT1H
X-Robots-Tag:noindex
X-PUBLISHED-TTL:PT1H
BEGIN:VTIMEZONE
TZID:America/Halifax
BEGIN:DAYLIGHT
TZOFFSETFROM:-0400
TZOFFSETTO:-0300
TZNAME:ADT
DTSTART:20240310T060000
END:DAYLIGHT
BEGIN:STANDARD
TZOFFSETFROM:-0300
TZOFFSETTO:-0400
TZNAME:AST
DTSTART:20241103T050000
END:STANDARD
BEGIN:DAYLIGHT
TZOFFSETFROM:-0400
TZOFFSETTO:-0300
TZNAME:ADT
DTSTART:20250309T060000
END:DAYLIGHT
BEGIN:STANDARD
TZOFFSETFROM:-0300
TZOFFSETTO:-0400
TZNAME:AST
DTSTART:20251102T050000
END:STANDARD
BEGIN:DAYLIGHT
TZOFFSETFROM:-0400
TZOFFSETTO:-0300
TZNAME:ADT
DTSTART:20260308T060000
END:DAYLIGHT
BEGIN:STANDARD
TZOFFSETFROM:-0300
TZOFFSETTO:-0400
TZNAME:AST
DTSTART:20261101T050000
END:STANDARD
END:VTIMEZONE
BEGIN:VEVENT
DTSTART;VALUE=DATE:20250816
DTEND;VALUE=DATE:20250928
DTSTAMP:20260422T072309
CREATED:20250816T155304Z
LAST-MODIFIED:20250927T172247Z
UID:5691368-1755302400-1759017599@carletonnorth.com
SUMMARY:Andrew & Laura McCain Art Gallery | Art Exhibit:  Flora
DESCRIPTION:Andrew & Laura McCain Art Gallery | Art Exhibit:  FloraDate:  August 16 – September 27\, 2025Location:  Andrew & Laura McCain Art Gallery | 8 McCain Street\, Florenceville-Bristol \nFlora is an exhibition of crafts by some of Atlantic Canada’s most celebrated artisans & craftspeople\, including:  Adam McNamara\, Alexa Jaffurs\, Caife Garvey\, Caroline Simpson\, Cat Candow\, Heather McCaig\, Judy Blake\, Ralph Simpson\, and Vincent Briggs. \nJoin us on Thursday\, September 4th at 5:30pm for the opening – which will also be the pARTicipate Art & Nature Festival Kickoff event! \nMeet many of the artists\, small of whom will be teaching workshops at pARTicipate. \nAndrew & Laura McCain Art Gallery8 McCain Street\, Florenceville-Bristol\, NB(506) 392-6769 \nGallery Hours: Monday:  ClosedTuesday:  ClosedWednesday: 10:30AM – 12:30PM / 1:30PM – 5:00PMThursday: 12:00PM – 4:00PM / 5:00PM – 8:00PMFriday: 10:30AM-12:30PM / 1:30PM – 5:00PMSaturday: 10:30AM-12:30PM / 1:30PM – 5:00PMSunday:  Closed
URL:https://carletonnorth.com/event/andrew-laura-mccain-art-gallery-art-exhibit-flora/
LOCATION:The Andrew & Laura McCain Art Gallery\, 8 McCain St unit 1\, Florenceville-Bristol\, NB E7L 3H6\, Canada
CATEGORIES:Community Calendar
END:VEVENT
BEGIN:VEVENT
DTSTART;TZID=America/Halifax:20250904T140000
DTEND;TZID=America/Halifax:20250904T160000
DTSTAMP:20260422T072309
CREATED:20250902T195337Z
LAST-MODIFIED:20250903T201059Z
UID:5954693-1756994400-1757001600@carletonnorth.com
SUMMARY:Memory Cafe - NHWW & Alzheimer Society
DESCRIPTION:Date:  September 4\, 2025Time:  2:00PM -4:00PMLocation:  Community Hall\, 8696 Main St. Florenceville-Bristol \nEvent Details:For people living with dementia\, their family members\, friends\, and caregivers.  The Memory Cafe is a FREE program for people living with all stages of dementia and their families to meet others\, learn\, and have fun! \nJoin us to:   \n\nConnect\nChat\nLearn\nHave Fun\nEnjoy Refreshments\n\nAll are welcome to join this free  program!  This program is offered by the Alzheimer Society in partnership with Nursing Home Without Walls.   \nFor more information:  email:  info@alzheimernb.ca                                           call:  506-459-4280                                   website:  www.alzheimer.ca/nb
URL:https://carletonnorth.com/event/memory-cafe-nhww-alzheimer-society-2/
LOCATION:8696 Main St\, Florenceville-Bristol\, NB E7L 3G8\, Canada
CATEGORIES:Community Calendar
END:VEVENT
BEGIN:VEVENT
DTSTART;TZID=America/Halifax:20250904T180000
DTEND;TZID=America/Halifax:20250904T200000
DTSTAMP:20260422T072309
CREATED:20250826T181016Z
LAST-MODIFIED:20250904T202237Z
UID:5845345-1757008800-1757016000@carletonnorth.com
SUMMARY:Clay Handbuilding - Newbie Night
DESCRIPTION:Whether you’ve got a current project or are a brand-newbie wanting to explore clay\, join instructor Jenna Ross & other friendly clay-lovers for a casual evening of creativity at the River Art Centre & Studios. \nNo registration required. Basic instruction is provided to get you started. ….Bring your ideas\, gusto\, project dreams & we’ll see what happens! \nFee to attend each Drop-in is $5 per person. The first (bisque) firing of any pot you decide to keep costs $10 each piece. Then Glazing costs an additional $10 each piece. \nChildren aged 7-14 welcome to participate if accompanied by an adult. No experience necessary\, just an openness to try! See you there! \nFor more information contact the Gallery. info@mccainartgallery.com 506-392-6769
URL:https://carletonnorth.com/event/clay-handbuilding-newbie-night-7/
LOCATION:8746 Main St\, Florenceville-Bristol\, NB E7L 3G5\, Canada
CATEGORIES:Community Calendar
END:VEVENT
END:VCALENDAR