BEGIN:VCALENDAR
VERSION:2.0
PRODID:-//District of Carleton North - ECPv6.15.20//NONSGML v1.0//EN
CALSCALE:GREGORIAN
METHOD:PUBLISH
X-WR-CALNAME:District of Carleton North
X-ORIGINAL-URL:https://carletonnorth.com
X-WR-CALDESC:Events for District of Carleton North
REFRESH-INTERVAL;VALUE=DURATION:PT1H
X-Robots-Tag:noindex
X-PUBLISHED-TTL:PT1H
BEGIN:VTIMEZONE
TZID:America/Halifax
BEGIN:DAYLIGHT
TZOFFSETFROM:-0400
TZOFFSETTO:-0300
TZNAME:ADT
DTSTART:20240310T060000
END:DAYLIGHT
BEGIN:STANDARD
TZOFFSETFROM:-0300
TZOFFSETTO:-0400
TZNAME:AST
DTSTART:20241103T050000
END:STANDARD
BEGIN:DAYLIGHT
TZOFFSETFROM:-0400
TZOFFSETTO:-0300
TZNAME:ADT
DTSTART:20250309T060000
END:DAYLIGHT
BEGIN:STANDARD
TZOFFSETFROM:-0300
TZOFFSETTO:-0400
TZNAME:AST
DTSTART:20251102T050000
END:STANDARD
BEGIN:DAYLIGHT
TZOFFSETFROM:-0400
TZOFFSETTO:-0300
TZNAME:ADT
DTSTART:20260308T060000
END:DAYLIGHT
BEGIN:STANDARD
TZOFFSETFROM:-0300
TZOFFSETTO:-0400
TZNAME:AST
DTSTART:20261101T050000
END:STANDARD
END:VTIMEZONE
BEGIN:VEVENT
DTSTART;VALUE=DATE:20250816
DTEND;VALUE=DATE:20250928
DTSTAMP:20260422T072315
CREATED:20250816T155304Z
LAST-MODIFIED:20250927T172247Z
UID:5691368-1755302400-1759017599@carletonnorth.com
SUMMARY:Andrew & Laura McCain Art Gallery | Art Exhibit:  Flora
DESCRIPTION:Andrew & Laura McCain Art Gallery | Art Exhibit:  FloraDate:  August 16 – September 27\, 2025Location:  Andrew & Laura McCain Art Gallery | 8 McCain Street\, Florenceville-Bristol \nFlora is an exhibition of crafts by some of Atlantic Canada’s most celebrated artisans & craftspeople\, including:  Adam McNamara\, Alexa Jaffurs\, Caife Garvey\, Caroline Simpson\, Cat Candow\, Heather McCaig\, Judy Blake\, Ralph Simpson\, and Vincent Briggs. \nJoin us on Thursday\, September 4th at 5:30pm for the opening – which will also be the pARTicipate Art & Nature Festival Kickoff event! \nMeet many of the artists\, small of whom will be teaching workshops at pARTicipate. \nAndrew & Laura McCain Art Gallery8 McCain Street\, Florenceville-Bristol\, NB(506) 392-6769 \nGallery Hours: Monday:  ClosedTuesday:  ClosedWednesday: 10:30AM – 12:30PM / 1:30PM – 5:00PMThursday: 12:00PM – 4:00PM / 5:00PM – 8:00PMFriday: 10:30AM-12:30PM / 1:30PM – 5:00PMSaturday: 10:30AM-12:30PM / 1:30PM – 5:00PMSunday:  Closed
URL:https://carletonnorth.com/event/andrew-laura-mccain-art-gallery-art-exhibit-flora/
LOCATION:The Andrew & Laura McCain Art Gallery\, 8 McCain St unit 1\, Florenceville-Bristol\, NB E7L 3H6\, Canada
CATEGORIES:Community Calendar
END:VEVENT
BEGIN:VEVENT
DTSTART;VALUE=DATE:20250905
DTEND;VALUE=DATE:20250908
DTSTAMP:20260422T072315
CREATED:20250902T195338Z
LAST-MODIFIED:20250907T210733Z
UID:5954694-1757030400-1757289599@carletonnorth.com
SUMMARY:pARTicipate | Arts & Nature Festival
DESCRIPTION:pARTicipate | Arts & Nature FestivalDate: September 5\,6 & 7Locations:  Different Locations for WorkshopspARTicipate is a community festival of workshops and events that brings together professionals\, amateurs\, and the curious to participate in exploring art and nature. A collaboration between the Andrew & Laura McCain Art Gallery\, Second Wind Music Centre\, the Boardwalk Cafe & Wine as well as other community partners\, the festival provides unique and enriching creative experiences for everyone over three days on September 5\, 6 & 7. \nThe Festival is an opportunity to get to know the geographical beauty of the Upper St. John River Valley while enjoying the unique local culture that includes nature\,  arts and crafts\, music and culinary expertise as well as featuring the beauty of the area in workshops and activities. \nThe Festival is launched with the Opening of Flora\, 5-7 pm\, at the Andrew  Laura McCain Art Gallery\, 8 McCain Street\, Florenceville-Bristol\, NB on Thursday September 4\, 2025.  Flora bridges art & nature through the art of nine Atlantic Artists who work in textiles\, metal\, ceramics\, glass\, plant fibre and wood. Many of whom will be teaching a workshop in their area over the pARTicipate weekend. \nWorkshops: \nEco Printing a Silk Scarf with Renata Britez | Sept 5 | 10:00AM – 4:00PM | River Art Centre \nBobbin Lace with Cat Candow | Sept 5 | 12:30PM – 3:30PM | Community Hall \nRAC Carvers Carving Workshop with Adam McNamara | Sept 5 | 10:00AM -4:30PM | River Art Centre \nSip & Sing with Peter McLaughlin – “Something to Sing About” | Sept 5 | 7:00PM – 8:30PM | Second Wind Music Centre \nForaged Plant Fibre Basket Weaving with Ralph Simpson | Sept 6 | 9:00AM – 4:30PM | River Art Centre \nMosaics with Tim Issac | Sept 6 | 1:00PM – 4:00PM | “Bun” Veysey Active Living Centre \nSteam Roller Printmaking Demonstration with Stephen Hutchings & Team | Sept 6 | Starts at 10:00AM |  Brennan Home Hardware \nClay Tile & Sculpture Workshops with Indu Varma | River Art Centre | Session #1 – Sept 6 | 3:00PM – 5:00PM |  Session #2  –  Sept 7 | 10:00AM – 12:00PM | Session #3 – Sept 7 | 1:00PM – 3:00PM  \nNative Species Presentation with Andrea Flemming | Sept 7 | 11:30AM – 12:15PM | Community Hall \nPrintmaking with Plants – Nat Cann & Caitlin Wilson | Sept 7 |  1:00PM – 4:00PM | River Art Centre \nBookmaking with Meg Clark – Learn Clever Folding Techniques | Sept 7 | 12:00PM – 3:30PM | “Bun” Veysey Active Living Centre \nCooking at On The Boardwalk Café with Chef Bouwe Van der Hoek | Sept 7 | 2:30PM – 8:00PM | On The Boardwalk Cafe & Wine \nPop-Up Art Show | Sept 7 | 4:30PM – 6:00PM | River Art Centre  \nRegistration is required. For detailed information on workshops or to register\, click here:   https://mccainartgallery.com/exhibitions/participate-arts-nature-festival/  or call the gallery at (506) 392-6769.  
URL:https://carletonnorth.com/event/participate-arts-nature-festival/
CATEGORIES:Community Calendar
END:VEVENT
BEGIN:VEVENT
DTSTART;TZID=America/Halifax:20250907T190000
DTEND;TZID=America/Halifax:20250907T210000
DTSTAMP:20260422T072315
CREATED:20250826T181035Z
LAST-MODIFIED:20250907T210733Z
UID:5845348-1757271600-1757278800@carletonnorth.com
SUMMARY:Kin Club Bingo
DESCRIPTION:Kin Club BingoDate:  Weekly on SundayTime:  7:00PM – 9:00PMLocation:  Florenceville Kin Centre\, 381 Centreville Rd. Florenceville-Bristol \nThe Kin Club Weekly Bingo Takes Place every Sunday\, with door opening at 6pm and games starting at 7pm.Cost: $10 books\, $5 books\, $1 Specials and $25 package deals and more.
URL:https://carletonnorth.com/event/kin-club-bingo-77/
LOCATION:Florenceville Kin Center\, 381 Centreville Rd\, Florenceville-Bristol\, NB E7L 3K5\, Canada
CATEGORIES:Community Calendar
END:VEVENT
END:VCALENDAR