BEGIN:VCALENDAR
VERSION:2.0
PRODID:-//District of Carleton North - ECPv6.15.20//NONSGML v1.0//EN
CALSCALE:GREGORIAN
METHOD:PUBLISH
X-WR-CALNAME:District of Carleton North
X-ORIGINAL-URL:https://carletonnorth.com
X-WR-CALDESC:Events for District of Carleton North
REFRESH-INTERVAL;VALUE=DURATION:PT1H
X-Robots-Tag:noindex
X-PUBLISHED-TTL:PT1H
BEGIN:VTIMEZONE
TZID:America/Halifax
BEGIN:DAYLIGHT
TZOFFSETFROM:-0400
TZOFFSETTO:-0300
TZNAME:ADT
DTSTART:20240310T060000
END:DAYLIGHT
BEGIN:STANDARD
TZOFFSETFROM:-0300
TZOFFSETTO:-0400
TZNAME:AST
DTSTART:20241103T050000
END:STANDARD
BEGIN:DAYLIGHT
TZOFFSETFROM:-0400
TZOFFSETTO:-0300
TZNAME:ADT
DTSTART:20250309T060000
END:DAYLIGHT
BEGIN:STANDARD
TZOFFSETFROM:-0300
TZOFFSETTO:-0400
TZNAME:AST
DTSTART:20251102T050000
END:STANDARD
BEGIN:DAYLIGHT
TZOFFSETFROM:-0400
TZOFFSETTO:-0300
TZNAME:ADT
DTSTART:20260308T060000
END:DAYLIGHT
BEGIN:STANDARD
TZOFFSETFROM:-0300
TZOFFSETTO:-0400
TZNAME:AST
DTSTART:20261101T050000
END:STANDARD
END:VTIMEZONE
BEGIN:VEVENT
DTSTART;VALUE=DATE:20250816
DTEND;VALUE=DATE:20250928
DTSTAMP:20260422T072318
CREATED:20250816T155304Z
LAST-MODIFIED:20250927T172247Z
UID:5691368-1755302400-1759017599@carletonnorth.com
SUMMARY:Andrew & Laura McCain Art Gallery | Art Exhibit:  Flora
DESCRIPTION:Andrew & Laura McCain Art Gallery | Art Exhibit:  FloraDate:  August 16 – September 27\, 2025Location:  Andrew & Laura McCain Art Gallery | 8 McCain Street\, Florenceville-Bristol \nFlora is an exhibition of crafts by some of Atlantic Canada’s most celebrated artisans & craftspeople\, including:  Adam McNamara\, Alexa Jaffurs\, Caife Garvey\, Caroline Simpson\, Cat Candow\, Heather McCaig\, Judy Blake\, Ralph Simpson\, and Vincent Briggs. \nJoin us on Thursday\, September 4th at 5:30pm for the opening – which will also be the pARTicipate Art & Nature Festival Kickoff event! \nMeet many of the artists\, small of whom will be teaching workshops at pARTicipate. \nAndrew & Laura McCain Art Gallery8 McCain Street\, Florenceville-Bristol\, NB(506) 392-6769 \nGallery Hours: Monday:  ClosedTuesday:  ClosedWednesday: 10:30AM – 12:30PM / 1:30PM – 5:00PMThursday: 12:00PM – 4:00PM / 5:00PM – 8:00PMFriday: 10:30AM-12:30PM / 1:30PM – 5:00PMSaturday: 10:30AM-12:30PM / 1:30PM – 5:00PMSunday:  Closed
URL:https://carletonnorth.com/event/andrew-laura-mccain-art-gallery-art-exhibit-flora/
LOCATION:The Andrew & Laura McCain Art Gallery\, 8 McCain St unit 1\, Florenceville-Bristol\, NB E7L 3H6\, Canada
CATEGORIES:Community Calendar
END:VEVENT
BEGIN:VEVENT
DTSTART;TZID=America/Halifax:20250917T100000
DTEND;TZID=America/Halifax:20250917T110000
DTSTAMP:20260422T072318
CREATED:20250826T181156Z
LAST-MODIFIED:20250916T233831Z
UID:5845492-1758103200-1758106800@carletonnorth.com
SUMMARY:Senior Stretching
DESCRIPTION:Date:  Weekly Every Wednesday in JulyTime:  10:00AM – 11:00AMLocation:  Shiktehawk Place \nEvent Details: \nNursing Home Without Walls is offering Senior Stretching at Shiktehawk Place at 10:00am.  This is a great opportunity to get moving and to socialize.  Includes some light seated exercise. \nFor more information or to join contact NHWW (506)278-3197
URL:https://carletonnorth.com/event/senior-stretching-92/
LOCATION:Shiktehawk Place
CATEGORIES:Community Calendar
END:VEVENT
BEGIN:VEVENT
DTSTART;TZID=America/Halifax:20250917T111500
DTEND;TZID=America/Halifax:20250917T121500
DTSTAMP:20260422T072318
CREATED:20250826T181203Z
LAST-MODIFIED:20250916T233832Z
UID:5845520-1758107700-1758111300@carletonnorth.com
SUMMARY:Senior Stretching
DESCRIPTION:Date:  Weekly Every Wednesday in JuneTime:  11:15AM – 12:15PMLocation:  Centreville Baptist ChurchEvent Details: \nNursing Home Without Walls is offering Senior Stretching at Centreville Baptist at 11:15am.  This is a great opportunity to get moving and to socialize.  Includes some light seated exercise with NHWW staff. \nFor more information or to join contact NHWW (506) 278-3197
URL:https://carletonnorth.com/event/senior-stretching-93/
LOCATION:Shiktehawk Place
CATEGORIES:Community Calendar
END:VEVENT
BEGIN:VEVENT
DTSTART;TZID=America/Halifax:20250917T130000
DTEND;TZID=America/Halifax:20250917T160000
DTSTAMP:20260422T072318
CREATED:20250826T181210Z
LAST-MODIFIED:20250916T233832Z
UID:5845542-1758114000-1758124800@carletonnorth.com
SUMMARY:Senior Puzzles\, Social & Cards
DESCRIPTION:Senior Puzzles\, Social & CardsDate:  Weekly on WednesdaysTime:  1:00PM – 4:00PMLocation:  R.G. ‘Bun’ Veysey Active Living Centre\,  40 McCain St. Florenceville-Bristol \nEnjoy an afternoon of card games\, snacks\, tea and fun!  Play a variation of puzzles. Feel free to bring puzzles to trade! \nCost:   $3 for entry (55+)
URL:https://carletonnorth.com/event/senior-puzzles-social-cards-67/
LOCATION:40 McCain St\, Florenceville-Bristol\, NB E7L 3J4\, Canada
CATEGORIES:Community Calendar
END:VEVENT
END:VCALENDAR