BEGIN:VCALENDAR
VERSION:2.0
PRODID:-//District of Carleton North - ECPv6.15.20//NONSGML v1.0//EN
CALSCALE:GREGORIAN
METHOD:PUBLISH
X-ORIGINAL-URL:https://carletonnorth.com
X-WR-CALDESC:Events for District of Carleton North
REFRESH-INTERVAL;VALUE=DURATION:PT1H
X-Robots-Tag:noindex
X-PUBLISHED-TTL:PT1H
BEGIN:VTIMEZONE
TZID:America/Halifax
BEGIN:DAYLIGHT
TZOFFSETFROM:-0400
TZOFFSETTO:-0300
TZNAME:ADT
DTSTART:20240310T060000
END:DAYLIGHT
BEGIN:STANDARD
TZOFFSETFROM:-0300
TZOFFSETTO:-0400
TZNAME:AST
DTSTART:20241103T050000
END:STANDARD
BEGIN:DAYLIGHT
TZOFFSETFROM:-0400
TZOFFSETTO:-0300
TZNAME:ADT
DTSTART:20250309T060000
END:DAYLIGHT
BEGIN:STANDARD
TZOFFSETFROM:-0300
TZOFFSETTO:-0400
TZNAME:AST
DTSTART:20251102T050000
END:STANDARD
BEGIN:DAYLIGHT
TZOFFSETFROM:-0400
TZOFFSETTO:-0300
TZNAME:ADT
DTSTART:20260308T060000
END:DAYLIGHT
BEGIN:STANDARD
TZOFFSETFROM:-0300
TZOFFSETTO:-0400
TZNAME:AST
DTSTART:20261101T050000
END:STANDARD
END:VTIMEZONE
BEGIN:VEVENT
DTSTART;VALUE=DATE:20251004
DTEND;VALUE=DATE:20251109
DTSTAMP:20260422T091244
CREATED:20251002T183734Z
LAST-MODIFIED:20251108T125254Z
UID:6408388-1759536000-1762646399@carletonnorth.com
SUMMARY:Art Exhibit: Totality
DESCRIPTION:TotalityDate:  October 4 – November 8Location:  Andrew & Laura McCain Art Gallery | 8 McCain ST. Florenceville-Bristol \nRelive the day of the Total Eclipse.  Will include community photos of family & friends\, eclipse artifacts\, photographs from David Hunter’s space balloon and the best evert total eclipse photographs by artist Jamie Wilson. \nFor more information please contact the gallery at (506) 392-6769 or email  www.mccainartgallery.com
URL:https://carletonnorth.com/event/art-exhibit-totality/
LOCATION:8 McCain St\, Florenceville\, NB E7L\, Canada
CATEGORIES:Community Calendar
END:VEVENT
BEGIN:VEVENT
DTSTART;TZID=America/Halifax:20251016T113000
DTEND;TZID=America/Halifax:20251016T120000
DTSTAMP:20260422T091244
CREATED:20251015T215336Z
LAST-MODIFIED:20251015T215336Z
UID:6613484-1760614200-1760616000@carletonnorth.com
SUMMARY:NHWW - Sound Bath
DESCRIPTION:NHWW- Sound Bath  \nDate: Oct 16\, 2025Time: 11:30am WholeBody Wellness\, Denise O’Brien\, N.D.  RNP will be offering a 30 minute Sound Bath.  Deep relaxation\, stress and anxiety reduction and improve your mood and wellbeing!  Must pre-register as space is limited. Location will be given at the time of registration.  
URL:https://carletonnorth.com/event/nhww-sound-bath/
CATEGORIES:Community Calendar
END:VEVENT
BEGIN:VEVENT
DTSTART;TZID=America/Halifax:20251016T180000
DTEND;TZID=America/Halifax:20251016T200000
DTSTAMP:20260422T091244
CREATED:20251015T215353Z
LAST-MODIFIED:20251015T215353Z
UID:6613486-1760637600-1760644800@carletonnorth.com
SUMMARY:Bath Regional Fire Dept. Open House
DESCRIPTION:Bath Regional Fire Department Open House: Fire Prevention WeekDate: October 16\, 2025Time: 6:00PM-8:00PM \nOctober is Fire Safety Month \n\nMeet your local Firefighters\nHot Dogs\, Snacks\, Drinks\nFire Prevention Trailer onsite\nFire Safety Information and take home materials
URL:https://carletonnorth.com/event/bath-regional-fire-dept-open-house/
LOCATION:125 Church St\, Bath\, NB E7J 1A4\, Canada
CATEGORIES:Community Calendar
END:VEVENT
BEGIN:VEVENT
DTSTART;TZID=America/Halifax:20251016T190000
DTEND;TZID=America/Halifax:20251016T200000
DTSTAMP:20260422T091244
CREATED:20251015T215345Z
LAST-MODIFIED:20251015T215345Z
UID:6613485-1760641200-1760644800@carletonnorth.com
SUMMARY:DCN Tourism Presents: Ghost & Gourds Night
DESCRIPTION:Ghost & Gourds NightDate:  Thursday\, October 16\, 2025Time:  7:00PMLocation:  Western Valley Multiplex |  698 Central St. CentrevilleCost: $5Get spooky & creative with a fun night of spackle painting. Choose a ghost or pumpkin design for your fall decor! Drinks not included.   \nLimited Spots Available.  Call 506-392-6763 Ext 210 to register
URL:https://carletonnorth.com/event/dcn-tourism-presents-ghost-gourds-night/
LOCATION:698 Central St\, Centreville\, NB E7K 2M5\, Canada
CATEGORIES:Community Calendar
END:VEVENT
END:VCALENDAR