BEGIN:VCALENDAR
VERSION:2.0
PRODID:-//District of Carleton North - ECPv6.15.20//NONSGML v1.0//EN
CALSCALE:GREGORIAN
METHOD:PUBLISH
X-WR-CALNAME:District of Carleton North
X-ORIGINAL-URL:https://carletonnorth.com
X-WR-CALDESC:Events for District of Carleton North
REFRESH-INTERVAL;VALUE=DURATION:PT1H
X-Robots-Tag:noindex
X-PUBLISHED-TTL:PT1H
BEGIN:VTIMEZONE
TZID:America/Halifax
BEGIN:DAYLIGHT
TZOFFSETFROM:-0400
TZOFFSETTO:-0300
TZNAME:ADT
DTSTART:20250309T060000
END:DAYLIGHT
BEGIN:STANDARD
TZOFFSETFROM:-0300
TZOFFSETTO:-0400
TZNAME:AST
DTSTART:20251102T050000
END:STANDARD
BEGIN:DAYLIGHT
TZOFFSETFROM:-0400
TZOFFSETTO:-0300
TZNAME:ADT
DTSTART:20260308T060000
END:DAYLIGHT
BEGIN:STANDARD
TZOFFSETFROM:-0300
TZOFFSETTO:-0400
TZNAME:AST
DTSTART:20261101T050000
END:STANDARD
BEGIN:DAYLIGHT
TZOFFSETFROM:-0400
TZOFFSETTO:-0300
TZNAME:ADT
DTSTART:20270314T060000
END:DAYLIGHT
BEGIN:STANDARD
TZOFFSETFROM:-0300
TZOFFSETTO:-0400
TZNAME:AST
DTSTART:20271107T050000
END:STANDARD
END:VTIMEZONE
BEGIN:VEVENT
DTSTART;TZID=America/Halifax:20260529T140000
DTEND;TZID=America/Halifax:20260529T150000
DTSTAMP:20260423T061405
CREATED:20260412T082351Z
LAST-MODIFIED:20260422T170803Z
UID:9104352-1780063200-1780066800@carletonnorth.com
SUMMARY:Fitness Training with B7 Fitness
DESCRIPTION:Fitness Training with B7 FitnessInstructed by Ryan HarrisFor ages 12 – 16Date:  Friday April 17th & Friday\, May 29thTime:  2:00PM – 3:00PMLocation:  R. G. “Bun” Veysey Active Living Centre\, 40 McCain St\, Florenceville-BristolCost:  $15 for one session |  $20 for both   \nBuilding basic fitness techniques to help youth better transition into fitness centres.   \nSpots are limited.  Register here:  Fitness Training with B7 Fitness \nHave a question?  Please contact:✉ recreation@carletonnorth.com☎ (506) 392-6763 Ext. 220
URL:https://carletonnorth.com/event/fitness-training-with-b7-fitness-2/
LOCATION:R. G. “Bun” Veysey Active Living Centre\, 40 McCain St\, Florenceville-Bristol\, NB E7L 3J4\, Canada
CATEGORIES:Community Calendar
END:VEVENT
BEGIN:VEVENT
DTSTART;TZID=America/Halifax:20260529T173000
DTEND;TZID=America/Halifax:20260529T183000
DTSTAMP:20260423T061405
CREATED:20260420T170014Z
LAST-MODIFIED:20260422T170803Z
UID:9105071-1780075800-1780079400@carletonnorth.com
SUMMARY:Friday Night Social
DESCRIPTION:Friday Night SocialDate:  Weekly on FridayTime:  5:30PMLocation:  Upper Kent Rec Centre\, 240 Upper Kent Rd.\, Upper Kent \nEntry by DonationWhile Supplies Last
URL:https://carletonnorth.com/event/friday-night-social-40/
LOCATION:240 Upper Kent Rd\, Upper Kent\, NB E7J 2E6\, Canada
CATEGORIES:Community Calendar
END:VEVENT
BEGIN:VEVENT
DTSTART;VALUE=DATE:20260530
DTEND;VALUE=DATE:20260531
DTSTAMP:20260423T061405
CREATED:20260412T082352Z
LAST-MODIFIED:20260422T170804Z
UID:9104353-1780099200-1780185599@carletonnorth.com
SUMMARY:Breakfast at the Juniper Community Centre
DESCRIPTION:Breakfast at the Juniper Community CentreDate:  Every Saturday until September 26\, 2026Time:  8:00AM -11:00AMLocation:  Juniper Community Centre\, 267 Juniper Rd.\, Juniper \nLet’s have breakfast!  Breakfast is back every Saturday!
URL:https://carletonnorth.com/event/breakfast-at-the-juniper-community-centre-10/
LOCATION:267 Juniper Rd\, Juniper\, NB E7L 1H1\, Canada
CATEGORIES:Community Calendar
END:VEVENT
BEGIN:VEVENT
DTSTART;VALUE=DATE:20260530
DTEND;VALUE=DATE:20260531
DTSTAMP:20260423T061405
CREATED:20260412T082352Z
LAST-MODIFIED:20260422T170804Z
UID:9104354-1780099200-1780185599@carletonnorth.com
SUMMARY:Carleton County Toy Run - Memorial Run
DESCRIPTION:Carleton County Toy Run Association Memorial Run \nDate:  May 30\, 2026 \nFor more information\, email carletoncountytoyrun@gmail.com
URL:https://carletonnorth.com/event/carleton-county-toy-run-memorial-run/
LOCATION:11122 NB-105\, Perth\, NB E7H 3V9\, Canada
CATEGORIES:Community Calendar
END:VEVENT
BEGIN:VEVENT
DTSTART;TZID=America/Halifax:20260530T123000
DTEND;TZID=America/Halifax:20260530T133000
DTSTAMP:20260423T061405
CREATED:20260414T083812Z
LAST-MODIFIED:20260422T170805Z
UID:9104587-1780144200-1780147800@carletonnorth.com
SUMMARY:Stickney Bingo
DESCRIPTION:Stickney Bingo every Saturday at 53 Bell Street in Stickney. Doors :11:30AM Bingo Starts: 12:30PMLocation: at 53 Bell Street \, Stickney. \nThis is dobber bingo which has 50/50 games\, winner take all and a Jack pot game. \nThe Stickney Recreation Center is equipped with a ramp and stair lift and a rear entrance at ground level. All are welcome.
URL:https://carletonnorth.com/event/stickney-bingo-31/
LOCATION:53 Bell St\, Stickney\, NB E7L 4C7\, Canada
CATEGORIES:Community Calendar
END:VEVENT
BEGIN:VEVENT
DTSTART;TZID=America/Halifax:20260530T140000
DTEND;TZID=America/Halifax:20260530T160000
DTSTAMP:20260423T061405
CREATED:20260413T082314Z
LAST-MODIFIED:20260422T170804Z
UID:9104455-1780149600-1780156800@carletonnorth.com
SUMMARY:Juniper Community Centre Jamboree
DESCRIPTION:Juniper Community Centre Jamboree2:00PM to 4:00PMThe last Saturday of the Month: follow https://www.facebook.com/JCC506 on Facebook \n \nLive Music by local performers  \nLight Lunch to share with friends and neighbors  \nDoor Prizes for a little extra excitement  \n50/50 Draw – Try your luck and support a great cause!  \nAdmission: By donation – Your contributions help support our community efforts! \nBring your family\, invite your friends\, and let’s make it an afternoon to remember! \nEmail: junipercommunitycentre@gmail.comjunipercc.ca
URL:https://carletonnorth.com/event/juniper-community-centre-jamboree-14/
LOCATION:Juniper Community Centre\, 267 Juniper Rd\, Juniper\, NB E7L 1H1\, Canada
CATEGORIES:Community Calendar
END:VEVENT
BEGIN:VEVENT
DTSTART;TZID=America/Halifax:20260531T190000
DTEND;TZID=America/Halifax:20260531T210000
DTSTAMP:20260423T061405
CREATED:20260415T083813Z
LAST-MODIFIED:20260422T170805Z
UID:9104700-1780254000-1780261200@carletonnorth.com
SUMMARY:Kin Club Bingo
DESCRIPTION:Kin Club BingoDate:  Weekly on SundayTime:  7:00PM – 9:00PMLocation:  Florenceville Kin Centre\, 381 Centreville Rd. Florenceville-Bristol \nThe Kin Club Weekly Bingo Takes Place every Sunday\, with door opening at 6pm and games starting at 7pm.Cost: $10 books\, $5 books\, $1 Specials and $25 package deals and more.
URL:https://carletonnorth.com/event/kin-club-bingo-118/
LOCATION:Florenceville Kin Center\, 381 Centreville Rd\, Florenceville-Bristol\, NB E7L 3K5\, Canada
CATEGORIES:Community Calendar
END:VEVENT
BEGIN:VEVENT
DTSTART;TZID=America/Halifax:20260601T130000
DTEND;TZID=America/Halifax:20260601T133000
DTSTAMP:20260423T061405
CREATED:20260415T083814Z
LAST-MODIFIED:20260422T170806Z
UID:9104701-1780318800-1780320600@carletonnorth.com
SUMMARY:Senior Stretching
DESCRIPTION:Date:  Every Monday in JulyTime:  1:00PM – 1:30PMLocation:  Beechwood Senior ComplexEvent Details:   \nNursing Home Without Walls is offering Senior Stretching at Beechwood Senior Complex at 1:00pm.  This is a great opportunity to get moving and to socialize.  Includes some light seated exercise with NHWW staff. For more information or to join call NHWW (506) 278-3197
URL:https://carletonnorth.com/event/senior-stretching-186/
LOCATION:Beechwood Senior Complex
CATEGORIES:Community Calendar
END:VEVENT
BEGIN:VEVENT
DTSTART;TZID=America/Halifax:20260601T140000
DTEND;TZID=America/Halifax:20260601T143000
DTSTAMP:20260423T061405
CREATED:20260415T083815Z
LAST-MODIFIED:20260422T170806Z
UID:9104702-1780322400-1780324200@carletonnorth.com
SUMMARY:Senior Stretching
DESCRIPTION:Date:  Weekly every Monday in JulyTIme:  2:00PM – 2:30PMLocation:   River View Manor Complex \nEvent Details: \nNursing Home Without Walls is offering Senior Stretching at River View Manor Complex at 2:00pm.  This is a great opportunity to get moving and to socialize.  Includes some light seated exercise with NHWW staff. \nFor more information or to join call NHWW (506)278-3197
URL:https://carletonnorth.com/event/senior-stretching-188/
LOCATION:River View Manor Complex\, 96 Hospital St\, Bath\, NB E7J 1B9\, Canada
CATEGORIES:Community Calendar
END:VEVENT
BEGIN:VEVENT
DTSTART;TZID=America/Halifax:20260603T111500
DTEND;TZID=America/Halifax:20260603T114500
DTSTAMP:20260423T061405
CREATED:20260416T083829Z
LAST-MODIFIED:20260422T170806Z
UID:9104840-1780485300-1780487100@carletonnorth.com
SUMMARY:Senior Stretching
DESCRIPTION:Date:  Weekly Every Wednesday Time:  11:15AM – 11:45PMLocation:  Centreville Baptist Church \nEvent Details: \nNursing Home Without Walls is offering Senior Stretching at Centreville Baptist at 11:15am.  This is a great opportunity to get moving and to socialize.  Includes some light seated exercise with NHWW staff. \nFor more information or to join contact NHWW (506) 278-3197
URL:https://carletonnorth.com/event/senior-stretching-189/
CATEGORIES:Community Calendar
END:VEVENT
BEGIN:VEVENT
DTSTART;TZID=America/Halifax:20260603T130000
DTEND;TZID=America/Halifax:20260603T160000
DTSTAMP:20260423T061405
CREATED:20260416T083830Z
LAST-MODIFIED:20260422T170807Z
UID:9104841-1780491600-1780502400@carletonnorth.com
SUMMARY:Senior Puzzles\, Social & Cards
DESCRIPTION:Senior Puzzles\, Social & CardsDate:  Weekly on WednesdaysTime:  1:00PM – 4:00PMLocation:  R.G. ‘Bun’ Veysey Active Living Centre\,  40 McCain St. Florenceville-Bristol \nEnjoy an afternoon of card games\, snacks\, tea and fun!  Play a variation of puzzles. Feel free to bring puzzles to trade! \nCost:   $3 for entry (55+)
URL:https://carletonnorth.com/event/senior-puzzles-social-cards-101/
LOCATION:40 McCain St\, Florenceville-Bristol\, NB E7L 3J4\, Canada
CATEGORIES:Community Calendar
END:VEVENT
BEGIN:VEVENT
DTSTART;TZID=America/Halifax:20260605T173000
DTEND;TZID=America/Halifax:20260605T183000
DTSTAMP:20260423T061405
CREATED:20260420T170018Z
LAST-MODIFIED:20260422T170807Z
UID:9105072-1780680600-1780684200@carletonnorth.com
SUMMARY:Friday Night Social
DESCRIPTION:Friday Night SocialDate:  Weekly on FridayTime:  5:30PMLocation:  Upper Kent Rec Centre\, 240 Upper Kent Rd.\, Upper Kent \nEntry by DonationWhile Supplies Last
URL:https://carletonnorth.com/event/friday-night-social-41/
LOCATION:240 Upper Kent Rd\, Upper Kent\, NB E7J 2E6\, Canada
CATEGORIES:Community Calendar
END:VEVENT
BEGIN:VEVENT
DTSTART;VALUE=DATE:20260606
DTEND;VALUE=DATE:20260607
DTSTAMP:20260423T061405
CREATED:20260416T083831Z
LAST-MODIFIED:20260422T170808Z
UID:9104843-1780704000-1780790399@carletonnorth.com
SUMMARY:Breakfast at the Juniper Community Centre
DESCRIPTION:Breakfast at the Juniper Community CentreDate:  Every Saturday until September 26\, 2026Time:  8:00AM -11:00AMLocation:  Juniper Community Centre\, 267 Juniper Rd.\, Juniper \nLet’s have breakfast!  Breakfast is back every Saturday!
URL:https://carletonnorth.com/event/breakfast-at-the-juniper-community-centre-11/
LOCATION:267 Juniper Rd\, Juniper\, NB E7L 1H1\, Canada
CATEGORIES:Community Calendar
END:VEVENT
BEGIN:VEVENT
DTSTART;TZID=America/Halifax:20260606T123000
DTEND;TZID=America/Halifax:20260606T133000
DTSTAMP:20260423T061405
CREATED:20260417T085327Z
LAST-MODIFIED:20260422T170808Z
UID:9104977-1780749000-1780752600@carletonnorth.com
SUMMARY:Stickney Bingo
DESCRIPTION:Stickney Bingo every Saturday at 53 Bell Street in Stickney. Doors :11:30AM Bingo Starts: 12:30PMLocation: at 53 Bell Street \, Stickney. \nThis is dobber bingo which has 50/50 games\, winner take all and a Jack pot game. \nThe Stickney Recreation Center is equipped with a ramp and stair lift and a rear entrance at ground level. All are welcome.
URL:https://carletonnorth.com/event/stickney-bingo-32/
LOCATION:53 Bell St\, Stickney\, NB E7L 4C7\, Canada
CATEGORIES:Community Calendar
END:VEVENT
BEGIN:VEVENT
DTSTART;TZID=America/Halifax:20260607T190000
DTEND;TZID=America/Halifax:20260607T210000
DTSTAMP:20260423T061405
CREATED:20260417T085330Z
LAST-MODIFIED:20260422T170808Z
UID:9104979-1780858800-1780866000@carletonnorth.com
SUMMARY:Kin Club Bingo
DESCRIPTION:Kin Club BingoDate:  Weekly on SundayTime:  7:00PM – 9:00PMLocation:  Florenceville Kin Centre\, 381 Centreville Rd. Florenceville-Bristol \nThe Kin Club Weekly Bingo Takes Place every Sunday\, with door opening at 6pm and games starting at 7pm.Cost: $10 books\, $5 books\, $1 Specials and $25 package deals and more.
URL:https://carletonnorth.com/event/kin-club-bingo-119/
LOCATION:Florenceville Kin Center\, 381 Centreville Rd\, Florenceville-Bristol\, NB E7L 3K5\, Canada
CATEGORIES:Community Calendar
END:VEVENT
BEGIN:VEVENT
DTSTART;TZID=America/Halifax:20260608T130000
DTEND;TZID=America/Halifax:20260608T133000
DTSTAMP:20260423T061405
CREATED:20260420T170020Z
LAST-MODIFIED:20260422T170809Z
UID:9105075-1780923600-1780925400@carletonnorth.com
SUMMARY:Senior Stretching
DESCRIPTION:Date:  Every Monday in JulyTime:  1:00PM – 1:30PMLocation:  Beechwood Senior ComplexEvent Details:   \nNursing Home Without Walls is offering Senior Stretching at Beechwood Senior Complex at 1:00pm.  This is a great opportunity to get moving and to socialize.  Includes some light seated exercise with NHWW staff. For more information or to join call NHWW (506) 278-3197
URL:https://carletonnorth.com/event/senior-stretching-192/
LOCATION:Beechwood Senior Complex
CATEGORIES:Community Calendar
END:VEVENT
BEGIN:VEVENT
DTSTART;TZID=America/Halifax:20260608T140000
DTEND;TZID=America/Halifax:20260608T143000
DTSTAMP:20260423T061405
CREATED:20260420T170021Z
LAST-MODIFIED:20260422T170809Z
UID:9105076-1780927200-1780929000@carletonnorth.com
SUMMARY:Senior Stretching
DESCRIPTION:Date:  Weekly every Monday in JulyTIme:  2:00PM – 2:30PMLocation:   River View Manor Complex \nEvent Details: \nNursing Home Without Walls is offering Senior Stretching at River View Manor Complex at 2:00pm.  This is a great opportunity to get moving and to socialize.  Includes some light seated exercise with NHWW staff. \nFor more information or to join call NHWW (506)278-3197
URL:https://carletonnorth.com/event/senior-stretching-195/
LOCATION:River View Manor Complex\, 96 Hospital St\, Bath\, NB E7J 1B9\, Canada
CATEGORIES:Community Calendar
END:VEVENT
BEGIN:VEVENT
DTSTART;TZID=America/Halifax:20260609T190000
DTEND;TZID=America/Halifax:20260609T210000
DTSTAMP:20260423T061405
CREATED:20260420T170021Z
LAST-MODIFIED:20260422T170809Z
UID:9105077-1781031600-1781038800@carletonnorth.com
SUMMARY:District of Carleton North Council Meeting
DESCRIPTION:If you wish to present to Council please submit the online form to the Clerk. Forms must be submitted one week in advance of a Council meeting. \nhttps://carletonnorth.com/town-hall/council-meetings/present-to-council/
URL:https://carletonnorth.com/event/district-of-carleton-north-council-meeting-55/
LOCATION:Town Office\, 19 Station Rd\, Florenceville-Bristol\, NB E7L 3J8\, Canada
CATEGORIES:Community Calendar
END:VEVENT
BEGIN:VEVENT
DTSTART;TZID=America/Halifax:20260610T111500
DTEND;TZID=America/Halifax:20260610T114500
DTSTAMP:20260423T061405
CREATED:20260420T170022Z
LAST-MODIFIED:20260422T170810Z
UID:9105078-1781090100-1781091900@carletonnorth.com
SUMMARY:Senior Stretching
DESCRIPTION:Date:  Weekly Every Wednesday Time:  11:15AM – 11:45PMLocation:  Centreville Baptist Church \nEvent Details: \nNursing Home Without Walls is offering Senior Stretching at Centreville Baptist at 11:15am.  This is a great opportunity to get moving and to socialize.  Includes some light seated exercise with NHWW staff. \nFor more information or to join contact NHWW (506) 278-3197
URL:https://carletonnorth.com/event/senior-stretching-198/
CATEGORIES:Community Calendar
END:VEVENT
BEGIN:VEVENT
DTSTART;TZID=America/Halifax:20260610T130000
DTEND;TZID=America/Halifax:20260610T160000
DTSTAMP:20260423T061405
CREATED:20260420T170023Z
LAST-MODIFIED:20260422T170810Z
UID:9105079-1781096400-1781107200@carletonnorth.com
SUMMARY:Senior Puzzles\, Social & Cards
DESCRIPTION:Senior Puzzles\, Social & CardsDate:  Weekly on WednesdaysTime:  1:00PM – 4:00PMLocation:  R.G. ‘Bun’ Veysey Active Living Centre\,  40 McCain St. Florenceville-Bristol \nEnjoy an afternoon of card games\, snacks\, tea and fun!  Play a variation of puzzles. Feel free to bring puzzles to trade! \nCost:   $3 for entry (55+)
URL:https://carletonnorth.com/event/senior-puzzles-social-cards-102/
LOCATION:40 McCain St\, Florenceville-Bristol\, NB E7L 3J4\, Canada
CATEGORIES:Community Calendar
END:VEVENT
BEGIN:VEVENT
DTSTART;TZID=America/Halifax:20260612T173000
DTEND;TZID=America/Halifax:20260612T183000
DTSTAMP:20260423T061405
CREATED:20260420T170024Z
LAST-MODIFIED:20260422T170811Z
UID:9105080-1781285400-1781289000@carletonnorth.com
SUMMARY:Friday Night Social
DESCRIPTION:Friday Night SocialDate:  Weekly on FridayTime:  5:30PMLocation:  Upper Kent Rec Centre\, 240 Upper Kent Rd.\, Upper Kent \nEntry by DonationWhile Supplies Last
URL:https://carletonnorth.com/event/friday-night-social-42/
LOCATION:240 Upper Kent Rd\, Upper Kent\, NB E7J 2E6\, Canada
CATEGORIES:Community Calendar
END:VEVENT
BEGIN:VEVENT
DTSTART;VALUE=DATE:20260613
DTEND;VALUE=DATE:20260614
DTSTAMP:20260423T061405
CREATED:20260421T170819Z
LAST-MODIFIED:20260422T170811Z
UID:9105198-1781308800-1781395199@carletonnorth.com
SUMMARY:Breakfast at the Juniper Community Centre
DESCRIPTION:Breakfast at the Juniper Community CentreDate:  Every Saturday until September 26\, 2026Time:  8:00AM -11:00AMLocation:  Juniper Community Centre\, 267 Juniper Rd.\, Juniper \nLet’s have breakfast!  Breakfast is back every Saturday!
URL:https://carletonnorth.com/event/breakfast-at-the-juniper-community-centre-12/
LOCATION:267 Juniper Rd\, Juniper\, NB E7L 1H1\, Canada
CATEGORIES:Community Calendar
END:VEVENT
BEGIN:VEVENT
DTSTART;TZID=America/Halifax:20260613T123000
DTEND;TZID=America/Halifax:20260613T133000
DTSTAMP:20260423T061405
CREATED:20260421T170818Z
LAST-MODIFIED:20260422T170811Z
UID:9105197-1781353800-1781357400@carletonnorth.com
SUMMARY:Stickney Bingo
DESCRIPTION:Stickney Bingo every Saturday at 53 Bell Street in Stickney. Doors :11:30AM Bingo Starts: 12:30PMLocation: at 53 Bell Street \, Stickney. \nThis is dobber bingo which has 50/50 games\, winner take all and a Jack pot game. \nThe Stickney Recreation Center is equipped with a ramp and stair lift and a rear entrance at ground level. All are welcome.
URL:https://carletonnorth.com/event/stickney-bingo-33/
LOCATION:53 Bell St\, Stickney\, NB E7L 4C7\, Canada
CATEGORIES:Community Calendar
END:VEVENT
BEGIN:VEVENT
DTSTART;TZID=America/Halifax:20260614T190000
DTEND;TZID=America/Halifax:20260614T210000
DTSTAMP:20260423T061405
CREATED:20260422T170812Z
LAST-MODIFIED:20260422T170812Z
UID:9105340-1781463600-1781470800@carletonnorth.com
SUMMARY:Kin Club Bingo
DESCRIPTION:Kin Club BingoDate:  Weekly on SundayTime:  7:00PM – 9:00PMLocation:  Florenceville Kin Centre\, 381 Centreville Rd. Florenceville-Bristol \nThe Kin Club Weekly Bingo Takes Place every Sunday\, with door opening at 6pm and games starting at 7pm.Cost: $10 books\, $5 books\, $1 Specials and $25 package deals and more.
URL:https://carletonnorth.com/event/kin-club-bingo-120/
LOCATION:Florenceville Kin Center\, 381 Centreville Rd\, Florenceville-Bristol\, NB E7L 3K5\, Canada
CATEGORIES:Community Calendar
END:VEVENT
BEGIN:VEVENT
DTSTART;TZID=America/Halifax:20260615T130000
DTEND;TZID=America/Halifax:20260615T133000
DTSTAMP:20260423T061405
CREATED:20260422T170813Z
LAST-MODIFIED:20260422T170813Z
UID:9105341-1781528400-1781530200@carletonnorth.com
SUMMARY:Senior Stretching
DESCRIPTION:Date:  Every Monday in JulyTime:  1:00PM – 1:30PMLocation:  Beechwood Senior ComplexEvent Details:   \nNursing Home Without Walls is offering Senior Stretching at Beechwood Senior Complex at 1:00pm.  This is a great opportunity to get moving and to socialize.  Includes some light seated exercise with NHWW staff. For more information or to join call NHWW (506) 278-3197
URL:https://carletonnorth.com/event/senior-stretching-205/
LOCATION:Beechwood Senior Complex
CATEGORIES:Community Calendar
END:VEVENT
BEGIN:VEVENT
DTSTART;TZID=America/Halifax:20260615T140000
DTEND;TZID=America/Halifax:20260615T143000
DTSTAMP:20260423T061405
CREATED:20260422T170816Z
LAST-MODIFIED:20260422T170816Z
UID:9105342-1781532000-1781533800@carletonnorth.com
SUMMARY:Senior Stretching
DESCRIPTION:Date:  Weekly every Monday in JulyTIme:  2:00PM – 2:30PMLocation:   River View Manor Complex \nEvent Details: \nNursing Home Without Walls is offering Senior Stretching at River View Manor Complex at 2:00pm.  This is a great opportunity to get moving and to socialize.  Includes some light seated exercise with NHWW staff. \nFor more information or to join call NHWW (506)278-3197
URL:https://carletonnorth.com/event/senior-stretching-206/
LOCATION:River View Manor Complex\, 96 Hospital St\, Bath\, NB E7J 1B9\, Canada
CATEGORIES:Community Calendar
END:VEVENT
END:VCALENDAR