BEGIN:VCALENDAR
VERSION:2.0
PRODID:-//District of Carleton North - ECPv6.15.20//NONSGML v1.0//EN
CALSCALE:GREGORIAN
METHOD:PUBLISH
X-ORIGINAL-URL:https://carletonnorth.com
X-WR-CALDESC:Events for District of Carleton North
REFRESH-INTERVAL;VALUE=DURATION:PT1H
X-Robots-Tag:noindex
X-PUBLISHED-TTL:PT1H
BEGIN:VTIMEZONE
TZID:America/Halifax
BEGIN:DAYLIGHT
TZOFFSETFROM:-0400
TZOFFSETTO:-0300
TZNAME:ADT
DTSTART:20240310T060000
END:DAYLIGHT
BEGIN:STANDARD
TZOFFSETFROM:-0300
TZOFFSETTO:-0400
TZNAME:AST
DTSTART:20241103T050000
END:STANDARD
BEGIN:DAYLIGHT
TZOFFSETFROM:-0400
TZOFFSETTO:-0300
TZNAME:ADT
DTSTART:20250309T060000
END:DAYLIGHT
BEGIN:STANDARD
TZOFFSETFROM:-0300
TZOFFSETTO:-0400
TZNAME:AST
DTSTART:20251102T050000
END:STANDARD
BEGIN:DAYLIGHT
TZOFFSETFROM:-0400
TZOFFSETTO:-0300
TZNAME:ADT
DTSTART:20260308T060000
END:DAYLIGHT
BEGIN:STANDARD
TZOFFSETFROM:-0300
TZOFFSETTO:-0400
TZNAME:AST
DTSTART:20261101T050000
END:STANDARD
END:VTIMEZONE
BEGIN:VEVENT
DTSTART;TZID=America/Halifax:20251203T130000
DTEND;TZID=America/Halifax:20251203T160000
DTSTAMP:20260423T113906
CREATED:20251202T192348Z
LAST-MODIFIED:20251203T195245Z
UID:7385782-1764766800-1764777600@carletonnorth.com
SUMMARY:Senior Puzzles\, Social & Cards
DESCRIPTION:Senior Puzzles\, Social & CardsDate:  Weekly on WednesdaysTime:  1:00PM – 4:00PMLocation:  R.G. ‘Bun’ Veysey Active Living Centre\,  40 McCain St. Florenceville-Bristol \nEnjoy an afternoon of card games\, snacks\, tea and fun!  Play a variation of puzzles. Feel free to bring puzzles to trade! \nCost:   $3 for entry (55+)
URL:https://carletonnorth.com/event/senior-puzzles-social-cards-77/
LOCATION:40 McCain St\, Florenceville-Bristol\, NB E7L 3J4\, Canada
CATEGORIES:Community Calendar
END:VEVENT
BEGIN:VEVENT
DTSTART;TZID=America/Halifax:20251204T140000
DTEND;TZID=America/Halifax:20251204T160000
DTSTAMP:20260423T113906
CREATED:20251202T192356Z
LAST-MODIFIED:20251203T195245Z
UID:7385783-1764856800-1764864000@carletonnorth.com
SUMMARY:Memory Cafe - NHWW & Alzheimer Society
DESCRIPTION:Date:  December 4\, 2025Time:  2:00PM -4:00PMLocation:  Community Hall\, 8696 Main St. Florenceville-Bristol \nEvent Details:For people living with dementia\, their family members\, friends\, and caregivers.  The Memory Cafe is a FREE program for people living with all stages of dementia and their families to meet others\, learn\, and have fun! \nJoin us to:   \n\nConnect\nChat\nLearn\nHave Fun\nEnjoy Refreshments\n\nAll are welcome to join this free  program!  This program is offered by the Alzheimer Society in partnership with Nursing Home Without Walls.   \nFor more information:  email:  info@alzheimernb.ca                                           call:  506-459-4280                                   website:  www.alzheimer.ca/nb
URL:https://carletonnorth.com/event/memory-cafe-nhww-alzheimer-society-5/
LOCATION:8696 Main St\, Florenceville-Bristol\, NB E7L 3G8\, Canada
CATEGORIES:Community Calendar
END:VEVENT
BEGIN:VEVENT
DTSTART;TZID=America/Halifax:20251204T180000
DTEND;TZID=America/Halifax:20251204T200000
DTSTAMP:20260423T113906
CREATED:20251202T192405Z
LAST-MODIFIED:20251203T195247Z
UID:7385784-1764871200-1764878400@carletonnorth.com
SUMMARY:Clay Handbuilding - Newbie Night
DESCRIPTION:Whether you’ve got a current project or are a brand-newbie wanting to explore clay\, join instructor Jenna Ross & other friendly clay-lovers for a casual evening of creativity at the River Art Centre & Studios. \nNo registration required. Basic instruction is provided to get you started. ….Bring your ideas\, gusto\, project dreams & we’ll see what happens! \nFee to attend each Drop-in is $5 per person. The first (bisque) firing of any pot you decide to keep costs $10 each piece. Then Glazing costs an additional $10 each piece. \nChildren aged 7-14 welcome to participate if accompanied by an adult. No experience necessary\, just an openness to try! See you there! \nFor more information contact the Gallery. info@mccainartgallery.com 506-392-6769
URL:https://carletonnorth.com/event/clay-handbuilding-newbie-night-10/
LOCATION:8746 Main St\, Florenceville-Bristol\, NB E7L 3G5\, Canada
CATEGORIES:Community Calendar
END:VEVENT
BEGIN:VEVENT
DTSTART;TZID=America/Halifax:20251204T190000
DTEND;TZID=America/Halifax:20251204T200000
DTSTAMP:20260423T113906
CREATED:20251202T192415Z
LAST-MODIFIED:20251203T195246Z
UID:7385785-1764874800-1764878400@carletonnorth.com
SUMMARY:Lights of Love - Juniper
DESCRIPTION:Lights of Love presented by Juniper Rec AssociationDate: December 4\, 2025Time: 7:00PMLocation: Juniper Cenotaph \nPurchase bulbs in memory of loved ones $2.00 each at Britt’s Convenience or e-transfer.   junipercoop@outlook.comhttps://www.facebook.com/juniperrec \nCut off to purchase bulbs is November 24\, 2025
URL:https://carletonnorth.com/event/lights-of-love-juniper/
LOCATION:Juniper\, NB E7L\, Canada
CATEGORIES:Community Calendar
END:VEVENT
BEGIN:VEVENT
DTSTART;TZID=America/Halifax:20251205T183000
DTEND;TZID=America/Halifax:20251205T193000
DTSTAMP:20260423T113906
CREATED:20251205T202422Z
LAST-MODIFIED:20251205T202422Z
UID:7435535-1764959400-1764963000@carletonnorth.com
SUMMARY:Tree Lighting - Bath
DESCRIPTION:Tree Lighting – BathDate:  December 5\, 2025TIme:  6:30PMLocation:  Town Office \, 161 School St.\, Bath \nGet into the holiday spirit in Bath!  Join us on Friday\, December 5 at 6:30 PM at the Town Office (161 School St.) for the Tree Lighting.  Enjoy holiday singing from Bath Community School\, hot chocolate and sweet treats\, take in the beautiful lights\, and enjoy a festive visit from Santa!
URL:https://carletonnorth.com/event/tree-lighting-bath/
CATEGORIES:Community Calendar
END:VEVENT
BEGIN:VEVENT
DTSTART;TZID=America/Halifax:20251206T080000
DTEND;TZID=America/Halifax:20251206T110000
DTSTAMP:20260423T113906
CREATED:20251205T202432Z
LAST-MODIFIED:20251205T202432Z
UID:7435536-1765008000-1765018800@carletonnorth.com
SUMMARY:Breakfast at Juniper Community Centre
DESCRIPTION:Breakfast at Juniper Community CentreDate: Weekly on SaturdayTime:  8:00AM – 11:00AMLocation:  Juniper Community Centre\, 267 Juniper Rd\, Juniper \nDon’t forget to join us for Breakfast  from 8am – 11am at the Juniper Community Centre.   Great company and a fantastic way to start your weekend. Everyone is welcome—bring your family\, friends\, and neighbors! 💛 \nBring someone who needs a delicious Saturday morning pick-me-up! 🍳🥓 \n#CommunityBreakfast #SaturdayVibes #GoodFoodGoodCompany \nhttps://www.facebook.com/JCC506
URL:https://carletonnorth.com/event/breakfast-at-juniper-community-centre-31/
LOCATION:Juniper Community Centre\, 267 Juniper Rd\, Juniper\, NB E7L 1H1\, Canada
CATEGORIES:Community Calendar
END:VEVENT
BEGIN:VEVENT
DTSTART;TZID=America/Halifax:20251206T090000
DTEND;TZID=America/Halifax:20251206T140000
DTSTAMP:20260423T113906
CREATED:20251205T202448Z
LAST-MODIFIED:20251205T202448Z
UID:7435538-1765011600-1765029600@carletonnorth.com
SUMMARY:Christmas Market
DESCRIPTION:Christmas MarketDate:  December 6\, 2025Time:  9:00AM – 2:00PMLocation:  Knights of Columbus Hall\, Hallett Rd\, Beechwood\, NB  \nDetails:Food\, Santa\, & Homemade Goods.  Santa minis with Delong DigitalsCollecting hats/mittens and gently used coats for a few schools and Harvest house. Cost:  Donation is $5  | Teens are $3  | Kids under 12 FREE
URL:https://carletonnorth.com/event/christmas-market/
LOCATION:Knights of Columbus Hall\, Hallett Rd\, Beechwood\, NB E7J 1X2\, Canada
CATEGORIES:Community Calendar
END:VEVENT
BEGIN:VEVENT
DTSTART;TZID=America/Halifax:20251206T123000
DTEND;TZID=America/Halifax:20251206T133000
DTSTAMP:20260423T113906
CREATED:20251205T202440Z
LAST-MODIFIED:20251205T202440Z
UID:7435537-1765024200-1765027800@carletonnorth.com
SUMMARY:Stickney Bingo
DESCRIPTION:Stickney Bingo every Saturday at 53 Bell Street in Stickney. Doors :11:30AM Bingo Starts: 12:30PMLocation: at 53 Bell Street \, Stickney. \nThis is dobber bingo which has 50/50 games\, winner take all and a Jack pot game. \nThe Stickney Recreation Center is equipped with a ramp and stair lift and a rear entrance at ground level. All are welcome.
URL:https://carletonnorth.com/event/stickney-bingo-7/
LOCATION:53 Bell St\, Stickney\, NB E7L 4C7\, Canada
CATEGORIES:Community Calendar
END:VEVENT
BEGIN:VEVENT
DTSTART;TZID=America/Halifax:20251206T180000
DTEND;TZID=America/Halifax:20251206T200000
DTSTAMP:20260423T113906
CREATED:20251205T202459Z
LAST-MODIFIED:20251205T202459Z
UID:7435539-1765044000-1765051200@carletonnorth.com
SUMMARY:Christmas Kids Party
DESCRIPTION:Christmas Kids PartyDate:  December 6\, 2025Time:  6:00PM – 8:00PMLocation:  By The Lake Community Centre\, 2141 Route 560\, Lakeville \n \nGet ready for an evening of holiday fun! Join us Saturday\, December 6th from 6:00–8:00 PM at By The Lake Community Center for a magical Christmas celebration just for kids. \n \n🎨 Face Painting \n🎲 Games & Crafts \n🍪 Snacks\, Cookies & Hot Dogs \n🎅 A Special Visit from Santa! \n \nAnd don’t forget… wear your cozy Christmas PJs! 🌙🎁 \nBring your family\, your holiday spirit\, and get ready for a festive night full of laughter and joy. We can’t wait to celebrate with you!
URL:https://carletonnorth.com/event/christmas-kids-party/
LOCATION:2141 NB-560\, Lakeville\, NB E7K 1T7\, Canada
CATEGORIES:Community Calendar
END:VEVENT
BEGIN:VEVENT
DTSTART;TZID=America/Halifax:20251207T190000
DTEND;TZID=America/Halifax:20251207T210000
DTSTAMP:20260423T113906
CREATED:20251207T210746Z
LAST-MODIFIED:20251207T210746Z
UID:7468186-1765134000-1765141200@carletonnorth.com
SUMMARY:Kin Club Bingo
DESCRIPTION:Kin Club BingoDate:  Weekly on SundayTime:  7:00PM – 9:00PMLocation:  Florenceville Kin Centre\, 381 Centreville Rd. Florenceville-Bristol \nThe Kin Club Weekly Bingo Takes Place every Sunday\, with door opening at 6pm and games starting at 7pm.Cost: $10 books\, $5 books\, $1 Specials and $25 package deals and more.
URL:https://carletonnorth.com/event/kin-club-bingo-93/
LOCATION:Florenceville Kin Center\, 381 Centreville Rd\, Florenceville-Bristol\, NB E7L 3K5\, Canada
CATEGORIES:Community Calendar
END:VEVENT
BEGIN:VEVENT
DTSTART;TZID=America/Halifax:20251208T130000
DTEND;TZID=America/Halifax:20251208T133000
DTSTAMP:20260423T113906
CREATED:20251207T210753Z
LAST-MODIFIED:20251207T210753Z
UID:7468187-1765198800-1765200600@carletonnorth.com
SUMMARY:Senior Stretching
DESCRIPTION:Date:  Every Monday in JulyTime:  1:00PM – 1:30PMLocation:  Beechwood Senior ComplexEvent Details:   \nNursing Home Without Walls is offering Senior Stretching at Beechwood Senior Complex at 1:00pm.  This is a great opportunity to get moving and to socialize.  Includes some light seated exercise with NHWW staff. For more information or to join call NHWW (506) 278-3197
URL:https://carletonnorth.com/event/senior-stretching-129/
LOCATION:Beechwood Senior Complex
CATEGORIES:Community Calendar
END:VEVENT
BEGIN:VEVENT
DTSTART;TZID=America/Halifax:20251208T140000
DTEND;TZID=America/Halifax:20251208T143000
DTSTAMP:20260423T113906
CREATED:20251207T210759Z
LAST-MODIFIED:20251207T210759Z
UID:7468188-1765202400-1765204200@carletonnorth.com
SUMMARY:Senior Stretching
DESCRIPTION:Date:  Weekly every Monday in JulyTIme:  2:00PM – 2:30PMLocation:   River View Manor Complex \nEvent Details: \nNursing Home Without Walls is offering Senior Stretching at River View Manor Complex at 2:00pm.  This is a great opportunity to get moving and to socialize.  Includes some light seated exercise with NHWW staff. \nFor more information or to join call NHWW (506)278-3197
URL:https://carletonnorth.com/event/senior-stretching-130/
LOCATION:River View Manor Complex\, 96 Hospital St\, Bath\, NB E7J 1B9\, Canada
CATEGORIES:Community Calendar
END:VEVENT
BEGIN:VEVENT
DTSTART;TZID=America/Halifax:20251208T183000
DTEND;TZID=America/Halifax:20251208T200000
DTSTAMP:20260423T113906
CREATED:20251207T210807Z
LAST-MODIFIED:20251208T212446Z
UID:7468189-1765218600-1765224000@carletonnorth.com
SUMMARY:Beginner Friendly Yoga
DESCRIPTION:Beginner Friendly Yoga \nDate:  Weekly On Monday | Oct 20 –  Dec 8Time:  6:30PM – 8:00PMLocation:  Pure Therapy | 6 Welch Street\, Florenceville-Bristol \nBeginner-Friendly Yogawith Coralee • Oct 20 – Dec 8 (8 Weeks) \nJoin this 8-week yoga journey to explore Hatha\, Flow\, Yin\, Pranayama\, Chanting & Meditation. Each week builds on the last\, guiding you toward strength\, balance\, and mindfulness. \nOptions:Drop-in: $20/class (cash)Prepay all 8 weeks: $120 (save 25%) \nMats & props Always provided at Pure Therapy.Pre-registration required. No refunds\, but you may send a friend if you miss a prepaid class. \nSign up @ puretherapy.ca
URL:https://carletonnorth.com/event/beginner-friendly-yoga-8/
LOCATION:6 Welch St\, Florenceville-Bristol\, NB E7L 2E4\, Canada
CATEGORIES:Community Calendar
END:VEVENT
BEGIN:VEVENT
DTSTART;TZID=America/Halifax:20251209T190000
DTEND;TZID=America/Halifax:20251209T210000
DTSTAMP:20260423T113906
CREATED:20251207T210813Z
LAST-MODIFIED:20251209T213741Z
UID:7468190-1765306800-1765314000@carletonnorth.com
SUMMARY:District of Carleton North Council Meeting
DESCRIPTION:If you wish to present to Council please submit the online form to the Clerk. Forms must be submitted one week in advance of a Council meeting. \nhttps://carletonnorth.com/town-hall/council-meetings/present-to-council/ \nCOUNCIL WILL RECONVENE IN 2026
URL:https://carletonnorth.com/event/district-of-carleton-north-council-meeting-45/
LOCATION:Town Office\, 19 Station Rd\, Florenceville-Bristol\, NB E7L 3J8\, Canada
CATEGORIES:Community Calendar
END:VEVENT
BEGIN:VEVENT
DTSTART;TZID=America/Halifax:20251210T100000
DTEND;TZID=America/Halifax:20251210T103000
DTSTAMP:20260423T113906
CREATED:20251207T210819Z
LAST-MODIFIED:20251209T213742Z
UID:7468191-1765360800-1765362600@carletonnorth.com
SUMMARY:Senior Stretching
DESCRIPTION:Date:  Weekly Every Wednesday in JulyTime:  10:00AM – 10:30AMLocation:  Shiktehawk Place \nEvent Details: \nNursing Home Without Walls is offering Senior Stretching at Shiktehawk Place at 10:00am.  This is a great opportunity to get moving and to socialize.  Includes some light seated exercise. \nFor more information or to join contact NHWW (506)278-3197
URL:https://carletonnorth.com/event/senior-stretching-131/
LOCATION:Shiktehawk Place
CATEGORIES:Community Calendar
END:VEVENT
BEGIN:VEVENT
DTSTART;TZID=America/Halifax:20251210T111500
DTEND;TZID=America/Halifax:20251210T114500
DTSTAMP:20260423T113906
CREATED:20251207T210833Z
LAST-MODIFIED:20251209T213744Z
UID:7468193-1765365300-1765367100@carletonnorth.com
SUMMARY:Senior Stretching
DESCRIPTION:Date:  Weekly Every Wednesday in JuneTime:  11:15AM – 11:45PMLocation:  Centreville Baptist ChurchEvent Details: \nNursing Home Without Walls is offering Senior Stretching at Centreville Baptist at 11:15am.  This is a great opportunity to get moving and to socialize.  Includes some light seated exercise with NHWW staff. \nFor more information or to join contact NHWW (506) 278-3197
URL:https://carletonnorth.com/event/senior-stretching-132/
LOCATION:Shiktehawk Place
CATEGORIES:Community Calendar
END:VEVENT
BEGIN:VEVENT
DTSTART;TZID=America/Halifax:20251210T130000
DTEND;TZID=America/Halifax:20251210T160000
DTSTAMP:20260423T113906
CREATED:20251207T210839Z
LAST-MODIFIED:20251209T213744Z
UID:7468194-1765371600-1765382400@carletonnorth.com
SUMMARY:Senior Puzzles\, Social & Cards
DESCRIPTION:Senior Puzzles\, Social & CardsDate:  Weekly on WednesdaysTime:  1:00PM – 4:00PMLocation:  R.G. ‘Bun’ Veysey Active Living Centre\,  40 McCain St. Florenceville-Bristol \nEnjoy an afternoon of card games\, snacks\, tea and fun!  Play a variation of puzzles. Feel free to bring puzzles to trade! \nCost:   $3 for entry (55+)
URL:https://carletonnorth.com/event/senior-puzzles-social-cards-78/
LOCATION:40 McCain St\, Florenceville-Bristol\, NB E7L 3J4\, Canada
CATEGORIES:Community Calendar
END:VEVENT
BEGIN:VEVENT
DTSTART;TZID=America/Halifax:20251211T180000
DTEND;TZID=America/Halifax:20251211T200000
DTSTAMP:20260423T113906
CREATED:20251207T210845Z
LAST-MODIFIED:20251210T215240Z
UID:7468195-1765476000-1765483200@carletonnorth.com
SUMMARY:Clay Handbuilding - Intermediate Night
DESCRIPTION:Whether you’ve got a current project or are a brand-newbie wanting to explore clay\, join instructor Jenna Ross & other friendly clay-lovers for a casual evening of creativity at the River Art Centre & Studios. \nNo registration required. Basic instruction is provided to get you started. ….Bring your ideas\, gusto\, project dreams & we’ll see what happens! \nFee to attend each Drop-in is $5 per person. The first (bisque) firing of any pot you decide to keep costs $10 each piece. Then Glazing costs an additional $10 each piece. \nChildren aged 7-14 welcome to participate if accompanied by an adult. No experience necessary\, just an openness to try! See you there! \nFor more information contact the Gallery. info@mccainartgallery.com 506-392-6769
URL:https://carletonnorth.com/event/clay-handbuilding-intermediate-night-3/
LOCATION:8746 Main St\, Florenceville-Bristol\, NB E7L 3G5\, Canada
CATEGORIES:Community Calendar
END:VEVENT
BEGIN:VEVENT
DTSTART;TZID=America/Halifax:20251213T090000
DTEND;TZID=America/Halifax:20251213T160000
DTSTAMP:20260423T113906
CREATED:20251212T222353Z
LAST-MODIFIED:20251212T222353Z
UID:7549112-1765616400-1765641600@carletonnorth.com
SUMMARY:Christmas Bake Sale
DESCRIPTION:Christmas Bake SaleDate:  Saturday December 13\, 2025Time:  9:00AM – 4:00PM Location:  Second Chance Thrift Store\, 55 Allison Road\, Riverbank.  Behind main DunRoamin’ Building in the garages. \nCash only\, all proceeds go towards the rescues in our care
URL:https://carletonnorth.com/event/christmas-bake-sale/
LOCATION:55 Allison Rd\, Riverbank\, NB E7L 4H9\, Canada
CATEGORIES:Community Calendar
END:VEVENT
BEGIN:VEVENT
DTSTART;TZID=America/Halifax:20251213T123000
DTEND;TZID=America/Halifax:20251213T133000
DTSTAMP:20260423T113906
CREATED:20251212T222412Z
LAST-MODIFIED:20251212T222412Z
UID:7549114-1765629000-1765632600@carletonnorth.com
SUMMARY:Stickney Bingo
DESCRIPTION:Stickney Bingo every Saturday at 53 Bell Street in Stickney. Doors :11:30AM Bingo Starts: 12:30PMLocation: at 53 Bell Street \, Stickney. \nThis is dobber bingo which has 50/50 games\, winner take all and a Jack pot game. \nThe Stickney Recreation Center is equipped with a ramp and stair lift and a rear entrance at ground level. All are welcome.
URL:https://carletonnorth.com/event/stickney-bingo-8/
LOCATION:53 Bell St\, Stickney\, NB E7L 4C7\, Canada
CATEGORIES:Community Calendar
END:VEVENT
BEGIN:VEVENT
DTSTART;TZID=America/Halifax:20251213T130000
DTEND;TZID=America/Halifax:20251213T133000
DTSTAMP:20260423T113906
CREATED:20251212T222402Z
LAST-MODIFIED:20251212T222402Z
UID:7549113-1765630800-1765632600@carletonnorth.com
SUMMARY:Kids Christmas Bingo
DESCRIPTION:Bingo & SantaDate:  December 13\, 2025Time:  1:00PMLocation:  Upper Kent Rec Centre\, 240 Upper Kent Rd \nJoin the Upper Kent Rec Centre for Kids Christmas Bingo.  Free for children 4-13 (accompanied by an adult).  Have an afternoon of fun\, family\, food & bingo!
URL:https://carletonnorth.com/event/kids-christmas-bingo/
LOCATION:240 Upper Kent Rd\, Upper Kent\, NB E7J 2E6\, Canada
CATEGORIES:Community Calendar
END:VEVENT
BEGIN:VEVENT
DTSTART;VALUE=DATE:20251214
DTEND;VALUE=DATE:20251215
DTSTAMP:20260423T113906
CREATED:20251214T230757Z
LAST-MODIFIED:20251214T230757Z
UID:7584049-1765670400-1765756799@carletonnorth.com
SUMMARY:Polar Express Experience
DESCRIPTION:Polar Express ExperienceDate:  December 14\, 2025Location: Shogomoc Train Station\, 9189 Main St\, Florenceville-Bristol \nThe Tourism Department presents the Polar Express Experience at the Shogomoc Train Station. Join us on an imaginative journey to the “North Pole”! Climb aboard the train car and explore the Station for an adventure you won’t forget! $5/person (Kids under 3 Free) \nUpdate:  SOLD OUT   You must call to buy your tickets.  To purchase tickets\, contact the Tourism Department at (506) 392-6763 Ext. 210 \nPlease note\, tickets will not be held without payment. For a smoother experience\, please book tickets by group.
URL:https://carletonnorth.com/event/polar-express-experience/
LOCATION:Shogomoc Train Station\, 9189 Main St\, Florenceville-Bristol\, NB E7L 2Y3\, Canada
CATEGORIES:Community Calendar
END:VEVENT
BEGIN:VEVENT
DTSTART;TZID=America/Halifax:20251214T190000
DTEND;TZID=America/Halifax:20251214T210000
DTSTAMP:20260423T113906
CREATED:20251214T230804Z
LAST-MODIFIED:20251214T230804Z
UID:7584050-1765738800-1765746000@carletonnorth.com
SUMMARY:Kin Club Bingo
DESCRIPTION:Kin Club BingoDate:  Weekly on SundayTime:  7:00PM – 9:00PMLocation:  Florenceville Kin Centre\, 381 Centreville Rd. Florenceville-Bristol \nThe Kin Club Weekly Bingo Takes Place every Sunday\, with door opening at 6pm and games starting at 7pm.Cost: $10 books\, $5 books\, $1 Specials and $25 package deals and more.
URL:https://carletonnorth.com/event/kin-club-bingo-94/
LOCATION:Florenceville Kin Center\, 381 Centreville Rd\, Florenceville-Bristol\, NB E7L 3K5\, Canada
CATEGORIES:Community Calendar
END:VEVENT
BEGIN:VEVENT
DTSTART;TZID=America/Halifax:20251214T193000
DTEND;TZID=America/Halifax:20251214T203000
DTSTAMP:20260423T113906
CREATED:20251214T230811Z
LAST-MODIFIED:20251214T230811Z
UID:7584051-1765740600-1765744200@carletonnorth.com
SUMMARY:COIG - Christmas Show - Carleton Victoria Arts Council
DESCRIPTION:COIG – Christmas Show – Carleton Victoria Arts CouncilDate:  Dec 14\, 2025Time:  7:30PMLocation:  Weldon Matthews Theatre| Carleton North High School\,  30 School St. \nJoin Carleton Victoria Arts at the 4th show of their 47th season.COIG – Christmas.  One of Atlantic Canada’s most exhilarating traditional Celtic groups brings their award-winning musicianship to the holiday stage.  With the fiery Celtic high-energy style as its musical core\, Coig easily shifts between century-old tunes of past generations to original and upbeat compositions\, featuring the band’s range of over a dozen instruments (vocal\, fiddles\, piano\, guitars\, banjo\, mandolin\, viola\, bouzouki\, whistles\, and more).  With driving tunes\, haunting songs and infectious energy. Coig is an unparalleled music force. \nCost:  $30 adults / $15 students \nTickets:  Reserve via email:  carletonvictoriaarts@gmail.com  | Online:  www.eventbirght.ca |  In Person:  Andrew & Laura McCain Library\, Florenceville-Bristol
URL:https://carletonnorth.com/event/coig-christmas-show-carleton-victoria-arts-council/
LOCATION:30 School St\, Florenceville-Bristol\, NB E7L 2G2\, Canada
CATEGORIES:Community Calendar
END:VEVENT
BEGIN:VEVENT
DTSTART;TZID=America/Halifax:20251215T130000
DTEND;TZID=America/Halifax:20251215T133000
DTSTAMP:20260423T113906
CREATED:20251214T230821Z
LAST-MODIFIED:20251214T230821Z
UID:7584052-1765803600-1765805400@carletonnorth.com
SUMMARY:Senior Stretching
DESCRIPTION:Date:  Every Monday in JulyTime:  1:00PM – 1:30PMLocation:  Beechwood Senior ComplexEvent Details:   \nNursing Home Without Walls is offering Senior Stretching at Beechwood Senior Complex at 1:00pm.  This is a great opportunity to get moving and to socialize.  Includes some light seated exercise with NHWW staff. For more information or to join call NHWW (506) 278-3197
URL:https://carletonnorth.com/event/senior-stretching-133/
LOCATION:Beechwood Senior Complex
CATEGORIES:Community Calendar
END:VEVENT
BEGIN:VEVENT
DTSTART;TZID=America/Halifax:20251215T140000
DTEND;TZID=America/Halifax:20251215T143000
DTSTAMP:20260423T113906
CREATED:20251214T230828Z
LAST-MODIFIED:20251214T230828Z
UID:7584053-1765807200-1765809000@carletonnorth.com
SUMMARY:Senior Stretching
DESCRIPTION:Date:  Weekly every Monday in JulyTIme:  2:00PM – 2:30PMLocation:   River View Manor Complex \nEvent Details: \nNursing Home Without Walls is offering Senior Stretching at River View Manor Complex at 2:00pm.  This is a great opportunity to get moving and to socialize.  Includes some light seated exercise with NHWW staff. \nFor more information or to join call NHWW (506)278-3197
URL:https://carletonnorth.com/event/senior-stretching-134/
LOCATION:River View Manor Complex\, 96 Hospital St\, Bath\, NB E7J 1B9\, Canada
CATEGORIES:Community Calendar
END:VEVENT
BEGIN:VEVENT
DTSTART;VALUE=DATE:20251216
DTEND;VALUE=DATE:20251217
DTSTAMP:20260423T113906
CREATED:20251214T230835Z
LAST-MODIFIED:20251216T235252Z
UID:7584054-1765843200-1765929599@carletonnorth.com
SUMMARY:Lunch at the Country Side Pub & Grill & Small Works
DESCRIPTION:Lunch at the Country Side Pub & Grill & Small Works – Nursing Home Without Walls River View ManorDate:  December 16\, 2025Location:  Country Side Pub & Grill ( Old Florenceville Motor Inn) \nJoin NHWW for Lunch at the Country Side Pub & Grill (the old FlorencevilleMotor Inn) and then off to the Andrew & Laura McCain Art Gallery for Small Works 2025.  Please sign up before December the 10th 2025.
URL:https://carletonnorth.com/event/lunch-at-the-country-side-pub-grill-small-works/
LOCATION:239 Burnham Rd\, Florenceville-Bristol\, NB E7L 1Z1\, Canada
CATEGORIES:Community Calendar
END:VEVENT
BEGIN:VEVENT
DTSTART;TZID=America/Halifax:20251216T180000
DTEND;TZID=America/Halifax:20251216T210000
DTSTAMP:20260423T113906
CREATED:20251214T230845Z
LAST-MODIFIED:20251216T235250Z
UID:7584055-1765908000-1765918800@carletonnorth.com
SUMMARY:Turkey Tip-Off: Fundraiser
DESCRIPTION:Turkey Tip-OffDate:  December 16\, 2025Time:  Girls Game 6:00PM | Boys Game 7:45Location:  Carleton North High School Gym\, 30 School St. Florenceville-Bristol \nThe Tourism Department is spreading holiday cheer!We’re once again collecting donations of turkeys to help local school families enjoy a festive holiday meal. Every contribution helps make the season a little brighter for those in need. \nTo add some fun to the cause\, we’re also hosting our Turkey Tip-Off community event on December 16 at the Carleton North Gym during the double header vs. Woodstock. Come out\, cheer on the teams\, and support a great local cause! \nIf you’d like to donate a turkey or learn more\, please contact us at (506) 392-6763 ext. 209 — your kindness truly makes a difference!
URL:https://carletonnorth.com/event/turkey-tip-off-fundraiser/
LOCATION:Carleton North High School\, 30 School St\, Florenceville-Bristol\, NB E7L 2G2\, Canada
CATEGORIES:Community Calendar
END:VEVENT
BEGIN:VEVENT
DTSTART;TZID=America/Halifax:20251217T100000
DTEND;TZID=America/Halifax:20251217T103000
DTSTAMP:20260423T113906
CREATED:20251214T230901Z
LAST-MODIFIED:20251216T235253Z
UID:7584056-1765965600-1765967400@carletonnorth.com
SUMMARY:Senior Stretching
DESCRIPTION:Date:  Weekly Every Wednesday in JulyTime:  10:00AM – 10:30AMLocation:  Shiktehawk Place \nEvent Details: \nNursing Home Without Walls is offering Senior Stretching at Shiktehawk Place at 10:00am.  This is a great opportunity to get moving and to socialize.  Includes some light seated exercise. \nFor more information or to join contact NHWW (506)278-3197
URL:https://carletonnorth.com/event/senior-stretching-135/
LOCATION:Shiktehawk Place
CATEGORIES:Community Calendar
END:VEVENT
BEGIN:VEVENT
DTSTART;TZID=America/Halifax:20251217T111500
DTEND;TZID=America/Halifax:20251217T114500
DTSTAMP:20260423T113906
CREATED:20251214T230922Z
LAST-MODIFIED:20251216T235250Z
UID:7584057-1765970100-1765971900@carletonnorth.com
SUMMARY:Senior Stretching
DESCRIPTION:Date:  Weekly Every Wednesday in JuneTime:  11:15AM – 11:45PMLocation:  Centreville Baptist ChurchEvent Details: \nNursing Home Without Walls is offering Senior Stretching at Centreville Baptist at 11:15am.  This is a great opportunity to get moving and to socialize.  Includes some light seated exercise with NHWW staff. \nFor more information or to join contact NHWW (506) 278-3197
URL:https://carletonnorth.com/event/senior-stretching-136/
LOCATION:Shiktehawk Place
CATEGORIES:Community Calendar
END:VEVENT
END:VCALENDAR