BEGIN:VCALENDAR
VERSION:2.0
PRODID:-//District of Carleton North - ECPv6.15.20//NONSGML v1.0//EN
CALSCALE:GREGORIAN
METHOD:PUBLISH
X-ORIGINAL-URL:https://carletonnorth.com
X-WR-CALDESC:Events for District of Carleton North
REFRESH-INTERVAL;VALUE=DURATION:PT1H
X-Robots-Tag:noindex
X-PUBLISHED-TTL:PT1H
BEGIN:VTIMEZONE
TZID:America/Halifax
BEGIN:DAYLIGHT
TZOFFSETFROM:-0400
TZOFFSETTO:-0300
TZNAME:ADT
DTSTART:20240310T060000
END:DAYLIGHT
BEGIN:STANDARD
TZOFFSETFROM:-0300
TZOFFSETTO:-0400
TZNAME:AST
DTSTART:20241103T050000
END:STANDARD
BEGIN:DAYLIGHT
TZOFFSETFROM:-0400
TZOFFSETTO:-0300
TZNAME:ADT
DTSTART:20250309T060000
END:DAYLIGHT
BEGIN:STANDARD
TZOFFSETFROM:-0300
TZOFFSETTO:-0400
TZNAME:AST
DTSTART:20251102T050000
END:STANDARD
BEGIN:DAYLIGHT
TZOFFSETFROM:-0400
TZOFFSETTO:-0300
TZNAME:ADT
DTSTART:20260308T060000
END:DAYLIGHT
BEGIN:STANDARD
TZOFFSETFROM:-0300
TZOFFSETTO:-0400
TZNAME:AST
DTSTART:20261101T050000
END:STANDARD
END:VTIMEZONE
BEGIN:VEVENT
DTSTART;TZID=America/Halifax:20251105T130000
DTEND;TZID=America/Halifax:20251105T160000
DTSTAMP:20260422T192844
CREATED:20251104T112328Z
LAST-MODIFIED:20251104T112328Z
UID:6924342-1762347600-1762358400@carletonnorth.com
SUMMARY:Senior Puzzles\, Social & Cards
DESCRIPTION:Senior Puzzles\, Social & CardsDate:  Weekly on WednesdaysTime:  1:00PM – 4:00PMLocation:  R.G. ‘Bun’ Veysey Active Living Centre\,  40 McCain St. Florenceville-Bristol \nEnjoy an afternoon of card games\, snacks\, tea and fun!  Play a variation of puzzles. Feel free to bring puzzles to trade! \nCost:   $3 for entry (55+)
URL:https://carletonnorth.com/event/senior-puzzles-social-cards-73/
LOCATION:40 McCain St\, Florenceville-Bristol\, NB E7L 3J4\, Canada
CATEGORIES:Community Calendar
END:VEVENT
BEGIN:VEVENT
DTSTART;TZID=America/Halifax:20251105T170000
DTEND;TZID=America/Halifax:20251105T200000
DTSTAMP:20260422T192844
CREATED:20251104T112336Z
LAST-MODIFIED:20251104T112336Z
UID:6924343-1762362000-1762372800@carletonnorth.com
SUMMARY:Eolectric Open House Information Session
DESCRIPTION:Eolectric Proposed Wind Project – Open HouseDate: November 5Time: 5PM-8PM \nImportant Disclaimer \nThis event is organized solely by Eolectric and St. Mary’s First Nation and is not affiliated with the District of Carleton North. All inquiries\, comments\, or concerns regarding this event or the St. Mary’s First Nation & Eolectric Wind Farm Project should be directed to info@eolectric.com.
URL:https://carletonnorth.com/event/eolectric-open-house-information-session/
LOCATION:Glassville Community Centre\, 1429 NB-580\, Glassville\, NB E7L 1A8\, Canada
CATEGORIES:Community Calendar
END:VEVENT
BEGIN:VEVENT
DTSTART;TZID=America/Halifax:20251105T183000
DTEND;TZID=America/Halifax:20251105T200000
DTSTAMP:20260422T192844
CREATED:20251104T112345Z
LAST-MODIFIED:20251104T112345Z
UID:6924344-1762367400-1762372800@carletonnorth.com
SUMMARY:Midweek Mindful Yoga Series with Mag
DESCRIPTION:Midweek Mindful Yoga Series with MagDate:  Wednesdays | Oct 1 – Nov 19 (8 weeks)Time:  6:30PM – 8:00PMLocation:  Pure Therapy\, 6 Welch St. Florenceville-Bristol \nMidweek Mindful Movement – 8-Week Yoga Serieswith Instructor Magen Charters\, RSMT & CYT \nWednesdays • Oct 1 – Nov 19 ( 8 weeks)6:30 – 8:00 PM • Pure Therapy \nBuild focus\, flexibility\, and balance through weekly meditation\, gentle flow\, and yin yoga all in one class.• For all levels \nFull 8-week commitment Required.No refunds for missed classes\, but you may send a friend in your place.Limited Space. \nCost $200 \nSign up @puretherapy.ca
URL:https://carletonnorth.com/event/midweek-mindful-yoga-series-with-mag-6/
LOCATION:6 Welch St\, Florenceville-Bristol\, NB E7L 2E4\, Canada
CATEGORIES:Community Calendar
END:VEVENT
BEGIN:VEVENT
DTSTART;TZID=America/Halifax:20251106T140000
DTEND;TZID=America/Halifax:20251106T160000
DTSTAMP:20260422T192844
CREATED:20251106T120815Z
LAST-MODIFIED:20251106T120815Z
UID:6956479-1762437600-1762444800@carletonnorth.com
SUMMARY:Memory Cafe - NHWW & Alzheimer Society
DESCRIPTION:Date:  November 6\, 2025Time:  2:00PM -4:00PMLocation:  Community Hall\, 8696 Main St. Florenceville-Bristol \nEvent Details:For people living with dementia\, their family members\, friends\, and caregivers.  The Memory Cafe is a FREE program for people living with all stages of dementia and their families to meet others\, learn\, and have fun! \nJoin us to:   \n\nConnect\nChat\nLearn\nHave Fun\nEnjoy Refreshments\n\nAll are welcome to join this free  program!  This program is offered by the Alzheimer Society in partnership with Nursing Home Without Walls.   \nFor more information:  email:  info@alzheimernb.ca                                           call:  506-459-4280                                   website:  www.alzheimer.ca/nb
URL:https://carletonnorth.com/event/memory-cafe-nhww-alzheimer-society-4/
LOCATION:8696 Main St\, Florenceville-Bristol\, NB E7L 3G8\, Canada
CATEGORIES:Community Calendar
END:VEVENT
BEGIN:VEVENT
DTSTART;TZID=America/Halifax:20251106T180000
DTEND;TZID=America/Halifax:20251106T200000
DTSTAMP:20260422T192844
CREATED:20251106T120821Z
LAST-MODIFIED:20251106T120821Z
UID:6956480-1762452000-1762459200@carletonnorth.com
SUMMARY:Clay Handbuilding - Newbie Night
DESCRIPTION:Whether you’ve got a current project or are a brand-newbie wanting to explore clay\, join instructor Jenna Ross & other friendly clay-lovers for a casual evening of creativity at the River Art Centre & Studios. \nNo registration required. Basic instruction is provided to get you started. ….Bring your ideas\, gusto\, project dreams & we’ll see what happens! \nFee to attend each Drop-in is $5 per person. The first (bisque) firing of any pot you decide to keep costs $10 each piece. Then Glazing costs an additional $10 each piece. \nChildren aged 7-14 welcome to participate if accompanied by an adult. No experience necessary\, just an openness to try! See you there! \nFor more information contact the Gallery. info@mccainartgallery.com 506-392-6769
URL:https://carletonnorth.com/event/clay-handbuilding-newbie-night-9/
LOCATION:8746 Main St\, Florenceville-Bristol\, NB E7L 3G5\, Canada
CATEGORIES:Community Calendar
END:VEVENT
BEGIN:VEVENT
DTSTART;TZID=America/Halifax:20251108T080000
DTEND;TZID=America/Halifax:20251108T110000
DTSTAMP:20260422T192844
CREATED:20251106T120834Z
LAST-MODIFIED:20251108T125253Z
UID:6956482-1762588800-1762599600@carletonnorth.com
SUMMARY:Breakfast at Juniper Community Centre
DESCRIPTION:Breakfast at Juniper Community CentreDate: Weekly on SaturdayTime:  8:00AM – 11:00AMLocation:  Juniper Community Centre\, 267 Juniper Rd\, Juniper \nDon’t forget to join us for Breakfast  from 8am – 11am at the Juniper Community Centre.   Great company and a fantastic way to start your weekend. Everyone is welcome—bring your family\, friends\, and neighbors! 💛 \nBring someone who needs a delicious Saturday morning pick-me-up! 🍳🥓 \n#CommunityBreakfast #SaturdayVibes #GoodFoodGoodCompany \nhttps://www.facebook.com/JCC506
URL:https://carletonnorth.com/event/breakfast-at-juniper-community-centre-27/
LOCATION:Juniper Community Centre\, 267 Juniper Rd\, Juniper\, NB E7L 1H1\, Canada
CATEGORIES:Community Calendar
END:VEVENT
BEGIN:VEVENT
DTSTART;TZID=America/Halifax:20251108T090000
DTEND;TZID=America/Halifax:20251108T140000
DTSTAMP:20260422T192844
CREATED:20251106T120828Z
LAST-MODIFIED:20251108T125252Z
UID:6956481-1762592400-1762610400@carletonnorth.com
SUMMARY:Christmas Craft Fair
DESCRIPTION:Juniper Community Centre presents: Christmas Craft FairDate: November 8\,  2025Time: 9:00AM – 2:00PM \n506-425-3085 for information or to become a vendorhttps://www.facebook.com/JCC506
URL:https://carletonnorth.com/event/christmas-craft-fair/
LOCATION:Juniper Community Centre\, 267 Juniper Rd\, Juniper\, NB E7L 1H1\, Canada
CATEGORIES:Community Calendar
END:VEVENT
BEGIN:VEVENT
DTSTART;TZID=America/Halifax:20251108T123000
DTEND;TZID=America/Halifax:20251108T133000
DTSTAMP:20260422T192844
CREATED:20251106T120842Z
LAST-MODIFIED:20251108T125255Z
UID:6956483-1762605000-1762608600@carletonnorth.com
SUMMARY:Stickney Bingo
DESCRIPTION:Stickney Bingo every Saturday at 53 Bell Street in Stickney. Doors :11:30AM Bingo Starts: 12:30PMLocation: at 53 Bell Street \, Stickney. \nThis is dobber bingo which has 50/50 games\, winner take all and a Jack pot game. \nThe Stickney Recreation Center is equipped with a ramp and stair lift and a rear entrance at ground level. All are welcome.
URL:https://carletonnorth.com/event/stickney-bingo-3/
LOCATION:53 Bell St\, Stickney\, NB E7L 4C7\, Canada
CATEGORIES:Community Calendar
END:VEVENT
BEGIN:VEVENT
DTSTART;TZID=America/Halifax:20251109T113000
DTEND;TZID=America/Halifax:20251109T120000
DTSTAMP:20260422T192844
CREATED:20251106T120856Z
LAST-MODIFIED:20251109T130757Z
UID:6956484-1762687800-1762689600@carletonnorth.com
SUMMARY:Remembrance Day Service in Stickney
DESCRIPTION:Remembrance Day Service in StickneyDate: November 9\, 2025Time: 11:30AMLocation: Stickney and Area Rec Association. 53 Bell Street\, Stickney \nPlease dress for the weather. Everyone is welcome
URL:https://carletonnorth.com/event/remembrance-day-service-in-stickney/
LOCATION:53 Bell St\, Stickney\, NB E7L 4C7\, Canada
CATEGORIES:Community Calendar
END:VEVENT
BEGIN:VEVENT
DTSTART;TZID=America/Halifax:20251109T190000
DTEND;TZID=America/Halifax:20251109T210000
DTSTAMP:20260422T192844
CREATED:20251106T120905Z
LAST-MODIFIED:20251109T130757Z
UID:6956485-1762714800-1762722000@carletonnorth.com
SUMMARY:Kin Club Bingo
DESCRIPTION:Kin Club BingoDate:  Weekly on SundayTime:  7:00PM – 9:00PMLocation:  Florenceville Kin Centre\, 381 Centreville Rd. Florenceville-Bristol \nThe Kin Club Weekly Bingo Takes Place every Sunday\, with door opening at 6pm and games starting at 7pm.Cost: $10 books\, $5 books\, $1 Specials and $25 package deals and more.
URL:https://carletonnorth.com/event/kin-club-bingo-89/
LOCATION:Florenceville Kin Center\, 381 Centreville Rd\, Florenceville-Bristol\, NB E7L 3K5\, Canada
CATEGORIES:Community Calendar
END:VEVENT
BEGIN:VEVENT
DTSTART;TZID=America/Halifax:20251110T130000
DTEND;TZID=America/Halifax:20251110T133000
DTSTAMP:20260422T192844
CREATED:20251106T120912Z
LAST-MODIFIED:20251110T132315Z
UID:6956486-1762779600-1762781400@carletonnorth.com
SUMMARY:Senior Stretching
DESCRIPTION:Date:  Every Monday in JulyTime:  1:00PM – 1:30PMLocation:  Beechwood Senior ComplexEvent Details:   \nNursing Home Without Walls is offering Senior Stretching at Beechwood Senior Complex at 1:00pm.  This is a great opportunity to get moving and to socialize.  Includes some light seated exercise with NHWW staff. For more information or to join call NHWW (506) 278-3197
URL:https://carletonnorth.com/event/senior-stretching-113/
LOCATION:Beechwood Senior Complex
CATEGORIES:Community Calendar
END:VEVENT
BEGIN:VEVENT
DTSTART;TZID=America/Halifax:20251110T140000
DTEND;TZID=America/Halifax:20251110T143000
DTSTAMP:20260422T192844
CREATED:20251106T120919Z
LAST-MODIFIED:20251110T132316Z
UID:6956487-1762783200-1762785000@carletonnorth.com
SUMMARY:Senior Stretching
DESCRIPTION:Date:  Weekly every Monday in JulyTIme:  2:00PM – 2:30PMLocation:   River View Manor Complex \nEvent Details: \nNursing Home Without Walls is offering Senior Stretching at River View Manor Complex at 2:00pm.  This is a great opportunity to get moving and to socialize.  Includes some light seated exercise with NHWW staff. \nFor more information or to join call NHWW (506)278-3197
URL:https://carletonnorth.com/event/senior-stretching-114/
LOCATION:River View Manor Complex\, 96 Hospital St\, Bath\, NB E7J 1B9\, Canada
CATEGORIES:Community Calendar
END:VEVENT
BEGIN:VEVENT
DTSTART;TZID=America/Halifax:20251110T183000
DTEND;TZID=America/Halifax:20251110T200000
DTSTAMP:20260422T192844
CREATED:20251106T120934Z
LAST-MODIFIED:20251110T132317Z
UID:6956489-1762799400-1762804800@carletonnorth.com
SUMMARY:Beginner Friendly Yoga
DESCRIPTION:Beginner Friendly Yoga \nDate:  Weekly On Monday | Oct 20 –  Dec 8Time:  6:30PM – 8:00PMLocation:  Pure Therapy | 6 Welch Street\, Florenceville-Bristol \nBeginner-Friendly Yogawith Coralee • Oct 20 – Dec 8 (8 Weeks) \nJoin this 8-week yoga journey to explore Hatha\, Flow\, Yin\, Pranayama\, Chanting & Meditation. Each week builds on the last\, guiding you toward strength\, balance\, and mindfulness. \nOptions:Drop-in: $20/class (cash)Prepay all 8 weeks: $120 (save 25%) \nMats & props Always provided at Pure Therapy.Pre-registration required. No refunds\, but you may send a friend if you miss a prepaid class. \nSign up @ puretherapy.ca
URL:https://carletonnorth.com/event/beginner-friendly-yoga-4/
LOCATION:6 Welch St\, Florenceville-Bristol\, NB E7L 2E4\, Canada
CATEGORIES:Community Calendar
END:VEVENT
BEGIN:VEVENT
DTSTART;VALUE=DATE:20251111
DTEND;VALUE=DATE:20251112
DTSTAMP:20260422T192844
CREATED:20251106T120928Z
LAST-MODIFIED:20251111T133740Z
UID:6956488-1762819200-1762905599@carletonnorth.com
SUMMARY:Remembrance Day: Municipal Offices Closed
DESCRIPTION:
URL:https://carletonnorth.com/event/remembrance-day-municipal-offices-closed-2/
CATEGORIES:Community Calendar
END:VEVENT
BEGIN:VEVENT
DTSTART;TZID=America/Halifax:20251112T083000
DTEND;TZID=America/Halifax:20251112T110000
DTSTAMP:20260422T192844
CREATED:20251106T120941Z
LAST-MODIFIED:20251111T133741Z
UID:6956490-1762936200-1762945200@carletonnorth.com
SUMMARY:NHWW  Free Vaccination & Blood Pressure Walk-In Clinic
DESCRIPTION:Date:  November 12\, 2025Time:  8:30AM – 11:00AMLocation:  R.G ‘Bun’ Veysey Active Living Centre\, 40 McCain Street Florenceville-BristolCost:  FREEEvent Details: For anyone 60+Having trouble accessing your primary caregiver to receive your seasonal vaccinations\, have your blood pressure\, glucose\, or even your weight checked?  Are you currently without a primary caregiver? \nNHWW has partnered with Northern Carleton Pharmacy to offer a Vaccination & Blood Pressure Drop-In Clinic.  There will be healthcare professionals to administer vaccinations and to check on various aspects of your wellbeing. \nYou can choose to have the influenza and/or Covid 19 vaccination\, and any of the following tested – blood pressure\, glucose\, weight\, and Sp02 level. \nFor more information contact NHWW at 506-278-3197 or email rvmnhww@nb.aibn.com
URL:https://carletonnorth.com/event/nhww-free-vaccination-blood-pressure-walk-in-clinic/
LOCATION:R. G. “Bun” Veysey Active Living Centre\, 40 McCain St\, Florenceville-Bristol\, NB E7L 3J4\, Canada
CATEGORIES:Community Calendar
END:VEVENT
BEGIN:VEVENT
DTSTART;TZID=America/Halifax:20251112T100000
DTEND;TZID=America/Halifax:20251112T103000
DTSTAMP:20260422T192844
CREATED:20251106T120951Z
LAST-MODIFIED:20251111T133742Z
UID:6956491-1762941600-1762943400@carletonnorth.com
SUMMARY:Senior Stretching
DESCRIPTION:Date:  Weekly Every Wednesday in JulyTime:  10:00AM – 10:30AMLocation:  Shiktehawk Place \nEvent Details: \nNursing Home Without Walls is offering Senior Stretching at Shiktehawk Place at 10:00am.  This is a great opportunity to get moving and to socialize.  Includes some light seated exercise. \nFor more information or to join contact NHWW (506)278-3197
URL:https://carletonnorth.com/event/senior-stretching-115/
LOCATION:Shiktehawk Place
CATEGORIES:Community Calendar
END:VEVENT
BEGIN:VEVENT
DTSTART;TZID=America/Halifax:20251112T111500
DTEND;TZID=America/Halifax:20251112T114500
DTSTAMP:20260422T192844
CREATED:20251106T120957Z
LAST-MODIFIED:20251111T133742Z
UID:6956492-1762946100-1762947900@carletonnorth.com
SUMMARY:Senior Stretching
DESCRIPTION:Date:  Weekly Every Wednesday in JuneTime:  11:15AM – 11:45PMLocation:  Centreville Baptist ChurchEvent Details: \nNursing Home Without Walls is offering Senior Stretching at Centreville Baptist at 11:15am.  This is a great opportunity to get moving and to socialize.  Includes some light seated exercise with NHWW staff. \nFor more information or to join contact NHWW (506) 278-3197
URL:https://carletonnorth.com/event/senior-stretching-116/
LOCATION:Shiktehawk Place
CATEGORIES:Community Calendar
END:VEVENT
BEGIN:VEVENT
DTSTART;TZID=America/Halifax:20251112T130000
DTEND;TZID=America/Halifax:20251112T160000
DTSTAMP:20260422T192844
CREATED:20251106T121003Z
LAST-MODIFIED:20251111T133743Z
UID:6956493-1762952400-1762963200@carletonnorth.com
SUMMARY:Senior Puzzles\, Social & Cards
DESCRIPTION:Senior Puzzles\, Social & CardsDate:  Weekly on WednesdaysTime:  1:00PM – 4:00PMLocation:  R.G. ‘Bun’ Veysey Active Living Centre\,  40 McCain St. Florenceville-Bristol \nEnjoy an afternoon of card games\, snacks\, tea and fun!  Play a variation of puzzles. Feel free to bring puzzles to trade! \nCost:   $3 for entry (55+)
URL:https://carletonnorth.com/event/senior-puzzles-social-cards-74/
LOCATION:40 McCain St\, Florenceville-Bristol\, NB E7L 3J4\, Canada
CATEGORIES:Community Calendar
END:VEVENT
BEGIN:VEVENT
DTSTART;TZID=America/Halifax:20251112T183000
DTEND;TZID=America/Halifax:20251112T200000
DTSTAMP:20260422T192844
CREATED:20251106T121025Z
LAST-MODIFIED:20251111T133744Z
UID:6956496-1762972200-1762977600@carletonnorth.com
SUMMARY:Midweek Mindful Yoga Series with Mag
DESCRIPTION:Midweek Mindful Yoga Series with MagDate:  Wednesdays | Oct 1 – Nov 19 (8 weeks)Time:  6:30PM – 8:00PMLocation:  Pure Therapy\, 6 Welch St. Florenceville-Bristol \nMidweek Mindful Movement – 8-Week Yoga Serieswith Instructor Magen Charters\, RSMT & CYT \nWednesdays • Oct 1 – Nov 19 ( 8 weeks)6:30 – 8:00 PM • Pure Therapy \nBuild focus\, flexibility\, and balance through weekly meditation\, gentle flow\, and yin yoga all in one class.• For all levels \nFull 8-week commitment Required.No refunds for missed classes\, but you may send a friend in your place.Limited Space. \nCost $200 \nSign up @puretherapy.ca
URL:https://carletonnorth.com/event/midweek-mindful-yoga-series-with-mag-7/
LOCATION:6 Welch St\, Florenceville-Bristol\, NB E7L 2E4\, Canada
CATEGORIES:Community Calendar
END:VEVENT
BEGIN:VEVENT
DTSTART;TZID=America/Halifax:20251112T190000
DTEND;TZID=America/Halifax:20251112T210000
DTSTAMP:20260422T192844
CREATED:20251106T121018Z
LAST-MODIFIED:20251111T133745Z
UID:6956495-1762974000-1762981200@carletonnorth.com
SUMMARY:District of Carleton North Council Meeting
DESCRIPTION:If you wish to present to Council please submit the online form to the Clerk. Forms must be submitted one week in advance of a Council meeting. \nhttps://carletonnorth.com/town-hall/council-meetings/present-to-council/
URL:https://carletonnorth.com/event/district-of-carleton-north-council-meeting-43/
LOCATION:Town Office\, 19 Station Rd\, Florenceville-Bristol\, NB E7L 3J8\, Canada
CATEGORIES:Community Calendar
END:VEVENT
BEGIN:VEVENT
DTSTART;VALUE=DATE:20251113
DTEND;VALUE=DATE:20251114
DTSTAMP:20260422T192844
CREATED:20251113T140809Z
LAST-MODIFIED:20251113T140809Z
UID:7072798-1762992000-1763078399@carletonnorth.com
SUMMARY:NHWW Free Foot Care Clinic
DESCRIPTION:NHWW – Free Foot Care ClinicDate:  November 13\, 2025 \nIf you are 60+\, do not have Foot Care coverage\, have underlying health conditions and struggle to look after your feet\, give us a call.  Must call to register.  Limited spaces available.  Call (506) 278-3197.  
URL:https://carletonnorth.com/event/nhww-free-foot-care-clinic-2/
CATEGORIES:Community Calendar
END:VEVENT
BEGIN:VEVENT
DTSTART;VALUE=DATE:20251115
DTEND;VALUE=DATE:20251116
DTSTAMP:20260422T192844
CREATED:20251115T145242Z
LAST-MODIFIED:20251115T145242Z
UID:7109450-1763164800-1763251199@carletonnorth.com
SUMMARY:Bottle Drive - Carleton North Boys Hockey Team
DESCRIPTION:Bottle Drive – Carleton North Boys Hockey Team Date:  November 15\, 2025Time: 9:00AM – 2:00PM |  Trailer set up at the Northern Carleton Civic Centre \nHow you can donate: \n1) Door to Door November 15th2) Pick-up | Message us or a parent of the Team3) Trailer set up at NCCC | November 15th 9AM – 2PM4) Donate them to the boys account at Crain’s Bottle Depot in Bath \nThank you for your support!
URL:https://carletonnorth.com/event/bottle-drive-carleton-north-boys-hockey-team/
CATEGORIES:Community Calendar
END:VEVENT
BEGIN:VEVENT
DTSTART;TZID=America/Halifax:20251115T080000
DTEND;TZID=America/Halifax:20251115T110000
DTSTAMP:20260422T192844
CREATED:20251113T140819Z
LAST-MODIFIED:20251115T145241Z
UID:7072799-1763193600-1763204400@carletonnorth.com
SUMMARY:Breakfast at Juniper Community Centre
DESCRIPTION:Breakfast at Juniper Community CentreDate: Weekly on SaturdayTime:  8:00AM – 11:00AMLocation:  Juniper Community Centre\, 267 Juniper Rd\, Juniper \nDon’t forget to join us for Breakfast  from 8am – 11am at the Juniper Community Centre.   Great company and a fantastic way to start your weekend. Everyone is welcome—bring your family\, friends\, and neighbors! 💛 \nBring someone who needs a delicious Saturday morning pick-me-up! 🍳🥓 \n#CommunityBreakfast #SaturdayVibes #GoodFoodGoodCompany \nhttps://www.facebook.com/JCC506
URL:https://carletonnorth.com/event/breakfast-at-juniper-community-centre-28/
LOCATION:Juniper Community Centre\, 267 Juniper Rd\, Juniper\, NB E7L 1H1\, Canada
CATEGORIES:Community Calendar
END:VEVENT
BEGIN:VEVENT
DTSTART;TZID=America/Halifax:20251115T090000
DTEND;TZID=America/Halifax:20251115T110000
DTSTAMP:20260422T192844
CREATED:20251115T145243Z
LAST-MODIFIED:20251115T145243Z
UID:7109451-1763197200-1763204400@carletonnorth.com
SUMMARY:Hockey Breakfast
DESCRIPTION:Hockey BreakfastDate:  Saturday\, November 15\, 2025Time:  9:00AM – 11:00AMLocation:  Community Hall\, Florenceville-Bristol \nJoin us for a hockey breakfast!  The U13A Blue Knights want to serve their fans!All donations assist with tournament fees.
URL:https://carletonnorth.com/event/hockey-breakfast/
LOCATION:8696 Main St\, Florenceville-Bristol\, NB E7L 3G8\, Canada
CATEGORIES:Community Calendar
END:VEVENT
BEGIN:VEVENT
DTSTART;TZID=America/Halifax:20251115T123000
DTEND;TZID=America/Halifax:20251115T133000
DTSTAMP:20260422T192844
CREATED:20251113T140833Z
LAST-MODIFIED:20251115T145241Z
UID:7072800-1763209800-1763213400@carletonnorth.com
SUMMARY:Stickney Bingo
DESCRIPTION:Stickney Bingo every Saturday at 53 Bell Street in Stickney. Doors :11:30AM Bingo Starts: 12:30PMLocation: at 53 Bell Street \, Stickney. \nThis is dobber bingo which has 50/50 games\, winner take all and a Jack pot game. \nThe Stickney Recreation Center is equipped with a ramp and stair lift and a rear entrance at ground level. All are welcome.
URL:https://carletonnorth.com/event/stickney-bingo-4/
LOCATION:53 Bell St\, Stickney\, NB E7L 4C7\, Canada
CATEGORIES:Community Calendar
END:VEVENT
BEGIN:VEVENT
DTSTART;TZID=America/Halifax:20251116T190000
DTEND;TZID=America/Halifax:20251116T210000
DTSTAMP:20260422T192844
CREATED:20251113T140842Z
LAST-MODIFIED:20251115T145243Z
UID:7072801-1763319600-1763326800@carletonnorth.com
SUMMARY:Kin Club Bingo
DESCRIPTION:Kin Club BingoDate:  Weekly on SundayTime:  7:00PM – 9:00PMLocation:  Florenceville Kin Centre\, 381 Centreville Rd. Florenceville-Bristol \nThe Kin Club Weekly Bingo Takes Place every Sunday\, with door opening at 6pm and games starting at 7pm.Cost: $10 books\, $5 books\, $1 Specials and $25 package deals and more.
URL:https://carletonnorth.com/event/kin-club-bingo-90/
LOCATION:Florenceville Kin Center\, 381 Centreville Rd\, Florenceville-Bristol\, NB E7L 3K5\, Canada
CATEGORIES:Community Calendar
END:VEVENT
BEGIN:VEVENT
DTSTART;TZID=America/Halifax:20251117T130000
DTEND;TZID=America/Halifax:20251117T133000
DTSTAMP:20260422T192844
CREATED:20251117T152314Z
LAST-MODIFIED:20251117T152314Z
UID:7142379-1763384400-1763386200@carletonnorth.com
SUMMARY:Senior Stretching
DESCRIPTION:Date:  Every Monday in JulyTime:  1:00PM – 1:30PMLocation:  Beechwood Senior ComplexEvent Details:   \nNursing Home Without Walls is offering Senior Stretching at Beechwood Senior Complex at 1:00pm.  This is a great opportunity to get moving and to socialize.  Includes some light seated exercise with NHWW staff. For more information or to join call NHWW (506) 278-3197
URL:https://carletonnorth.com/event/senior-stretching-117/
LOCATION:Beechwood Senior Complex
CATEGORIES:Community Calendar
END:VEVENT
BEGIN:VEVENT
DTSTART;TZID=America/Halifax:20251117T140000
DTEND;TZID=America/Halifax:20251117T143000
DTSTAMP:20260422T192844
CREATED:20251117T152323Z
LAST-MODIFIED:20251117T152323Z
UID:7142380-1763388000-1763389800@carletonnorth.com
SUMMARY:Senior Stretching
DESCRIPTION:Date:  Weekly every Monday in JulyTIme:  2:00PM – 2:30PMLocation:   River View Manor Complex \nEvent Details: \nNursing Home Without Walls is offering Senior Stretching at River View Manor Complex at 2:00pm.  This is a great opportunity to get moving and to socialize.  Includes some light seated exercise with NHWW staff. \nFor more information or to join call NHWW (506)278-3197
URL:https://carletonnorth.com/event/senior-stretching-118/
LOCATION:River View Manor Complex\, 96 Hospital St\, Bath\, NB E7J 1B9\, Canada
CATEGORIES:Community Calendar
END:VEVENT
BEGIN:VEVENT
DTSTART;TZID=America/Halifax:20251117T183000
DTEND;TZID=America/Halifax:20251117T200000
DTSTAMP:20260422T192844
CREATED:20251117T152332Z
LAST-MODIFIED:20251117T152332Z
UID:7142381-1763404200-1763409600@carletonnorth.com
SUMMARY:Beginner Friendly Yoga
DESCRIPTION:Beginner Friendly Yoga \nDate:  Weekly On Monday | Oct 20 –  Dec 8Time:  6:30PM – 8:00PMLocation:  Pure Therapy | 6 Welch Street\, Florenceville-Bristol \nBeginner-Friendly Yogawith Coralee • Oct 20 – Dec 8 (8 Weeks) \nJoin this 8-week yoga journey to explore Hatha\, Flow\, Yin\, Pranayama\, Chanting & Meditation. Each week builds on the last\, guiding you toward strength\, balance\, and mindfulness. \nOptions:Drop-in: $20/class (cash)Prepay all 8 weeks: $120 (save 25%) \nMats & props Always provided at Pure Therapy.Pre-registration required. No refunds\, but you may send a friend if you miss a prepaid class. \nSign up @ puretherapy.ca
URL:https://carletonnorth.com/event/beginner-friendly-yoga-5/
LOCATION:6 Welch St\, Florenceville-Bristol\, NB E7L 2E4\, Canada
CATEGORIES:Community Calendar
END:VEVENT
BEGIN:VEVENT
DTSTART;TZID=America/Halifax:20251119T100000
DTEND;TZID=America/Halifax:20251119T103000
DTSTAMP:20260422T192844
CREATED:20251117T152342Z
LAST-MODIFIED:20251118T160431Z
UID:7142382-1763546400-1763548200@carletonnorth.com
SUMMARY:Senior Stretching
DESCRIPTION:Date:  Weekly Every Wednesday in JulyTime:  10:00AM – 10:30AMLocation:  Shiktehawk Place \nEvent Details: \nNursing Home Without Walls is offering Senior Stretching at Shiktehawk Place at 10:00am.  This is a great opportunity to get moving and to socialize.  Includes some light seated exercise. \nFor more information or to join contact NHWW (506)278-3197
URL:https://carletonnorth.com/event/senior-stretching-119/
LOCATION:Shiktehawk Place
CATEGORIES:Community Calendar
END:VEVENT
END:VCALENDAR