BEGIN:VCALENDAR
VERSION:2.0
PRODID:-//District of Carleton North - ECPv6.15.20//NONSGML v1.0//EN
CALSCALE:GREGORIAN
METHOD:PUBLISH
X-WR-CALNAME:District of Carleton North
X-ORIGINAL-URL:https://carletonnorth.com
X-WR-CALDESC:Events for District of Carleton North
REFRESH-INTERVAL;VALUE=DURATION:PT1H
X-Robots-Tag:noindex
X-PUBLISHED-TTL:PT1H
BEGIN:VTIMEZONE
TZID:America/Halifax
BEGIN:DAYLIGHT
TZOFFSETFROM:-0400
TZOFFSETTO:-0300
TZNAME:ADT
DTSTART:20240310T060000
END:DAYLIGHT
BEGIN:STANDARD
TZOFFSETFROM:-0300
TZOFFSETTO:-0400
TZNAME:AST
DTSTART:20241103T050000
END:STANDARD
BEGIN:DAYLIGHT
TZOFFSETFROM:-0400
TZOFFSETTO:-0300
TZNAME:ADT
DTSTART:20250309T060000
END:DAYLIGHT
BEGIN:STANDARD
TZOFFSETFROM:-0300
TZOFFSETTO:-0400
TZNAME:AST
DTSTART:20251102T050000
END:STANDARD
BEGIN:DAYLIGHT
TZOFFSETFROM:-0400
TZOFFSETTO:-0300
TZNAME:ADT
DTSTART:20260308T060000
END:DAYLIGHT
BEGIN:STANDARD
TZOFFSETFROM:-0300
TZOFFSETTO:-0400
TZNAME:AST
DTSTART:20261101T050000
END:STANDARD
END:VTIMEZONE
BEGIN:VEVENT
DTSTART;TZID=America/Halifax:20251121T180000
DTEND;TZID=America/Halifax:20251121T200000
DTSTAMP:20260423T062222
CREATED:20251117T152425Z
LAST-MODIFIED:20251121T165242Z
UID:7142387-1763748000-1763755200@carletonnorth.com
SUMMARY:Bath Lion's Club Medical Travel Fund Auction
DESCRIPTION:Bath Lion’s Club Medical Travel Fund AuctionDate:  November 21\, 2025Time:  Viewing begins at 6:00PM | Auction begins at 7:00PM Location:  Bath Lion’s Den\, 163 Church St.  Bath\, NB \nThe Bath Lions Club is a local club that’s part of the largest service organization in the world\, Lions Club International\, and is responsible for servicing the community through various means such as the Medical Travel Fund Auction. This fundraiser raises money to aid any community member with costs associated with medical needs. We all know how financially challenging it can be during these times. Knowing that the Bath Lions Club is there for support alleviates some of the stress and worry and families can focus on the recovery.
URL:https://carletonnorth.com/event/bath-lions-club-medical-travel-fund-auction-2/
LOCATION:163 Church St\, Bath\, NB E7J 1A7\, Canada
CATEGORIES:Community Calendar
END:VEVENT
BEGIN:VEVENT
DTSTART;VALUE=DATE:20251122
DTEND;VALUE=DATE:20251221
DTSTAMP:20260423T062222
CREATED:20251117T153206Z
LAST-MODIFIED:20251220T185823Z
UID:7142449-1763769600-1766275199@carletonnorth.com
SUMMARY:Small Works
DESCRIPTION:Small Works Date:  November 22\, 2025 – December 20\, 2025Time:  November 22\, 2025 | Opening – 10:30AMLocation: The Andrew & Laura McCain Art Gallery\, 8 McCain St.  Florenceville-Bristol \nDetails:Small works is a festive and fun opportunity to find unique and one of a kind holiday gifts by local and regional artists\, for under $200! \nFor more information visit the Gallery on Facebook here:  https://www.facebook.com/McCainArtGallery
URL:https://carletonnorth.com/event/small-works-2/
LOCATION:The Andrew & Laura McCain Art Gallery\, 8 McCain St unit 1\, Florenceville-Bristol\, NB E7L 3H6\, Canada
CATEGORIES:Community Calendar
END:VEVENT
BEGIN:VEVENT
DTSTART;TZID=America/Halifax:20251122T080000
DTEND;TZID=America/Halifax:20251122T110000
DTSTAMP:20260423T062222
CREATED:20251117T152452Z
LAST-MODIFIED:20251121T165243Z
UID:7142390-1763798400-1763809200@carletonnorth.com
SUMMARY:Breakfast at Juniper Community Centre
DESCRIPTION:Breakfast at Juniper Community CentreDate: Weekly on SaturdayTime:  8:00AM – 11:00AMLocation:  Juniper Community Centre\, 267 Juniper Rd\, Juniper \nDon’t forget to join us for Breakfast  from 8am – 11am at the Juniper Community Centre.   Great company and a fantastic way to start your weekend. Everyone is welcome—bring your family\, friends\, and neighbors! 💛 \nBring someone who needs a delicious Saturday morning pick-me-up! 🍳🥓 \n#CommunityBreakfast #SaturdayVibes #GoodFoodGoodCompany \nhttps://www.facebook.com/JCC506
URL:https://carletonnorth.com/event/breakfast-at-juniper-community-centre-29/
LOCATION:Juniper Community Centre\, 267 Juniper Rd\, Juniper\, NB E7L 1H1\, Canada
CATEGORIES:Community Calendar
END:VEVENT
BEGIN:VEVENT
DTSTART;TZID=America/Halifax:20251122T090000
DTEND;TZID=America/Halifax:20251122T140000
DTSTAMP:20260423T062222
CREATED:20251117T152443Z
LAST-MODIFIED:20251122T170737Z
UID:7142389-1763802000-1763820000@carletonnorth.com
SUMMARY:Christmas Craft Fair
DESCRIPTION:Christmas Craft Fair Hotel Dieu St. Joseph – Perth Andover \nDate:  November 22\, 2025Time:  9:00AM – 2:00PMLocation: 10 Woodland Hill\, Perth-Andover\, NB  \nJoin us for Holiday Cheer! Entrance is a non-perishable food item for donation to the Food Bank.
URL:https://carletonnorth.com/event/christmas-craft-fair-2/
LOCATION:10 Woodland Hill\, Perth-Andover\, NB E7H 5H5\, Canada
CATEGORIES:Community Calendar
END:VEVENT
BEGIN:VEVENT
DTSTART;TZID=America/Halifax:20251122T123000
DTEND;TZID=America/Halifax:20251122T133000
DTSTAMP:20260423T062222
CREATED:20251117T152435Z
LAST-MODIFIED:20251122T170736Z
UID:7142388-1763814600-1763818200@carletonnorth.com
SUMMARY:Stickney Bingo
DESCRIPTION:Stickney Bingo every Saturday at 53 Bell Street in Stickney. Doors :11:30AM Bingo Starts: 12:30PMLocation: at 53 Bell Street \, Stickney. \nThis is dobber bingo which has 50/50 games\, winner take all and a Jack pot game. \nThe Stickney Recreation Center is equipped with a ramp and stair lift and a rear entrance at ground level. All are welcome.
URL:https://carletonnorth.com/event/stickney-bingo-5/
LOCATION:53 Bell St\, Stickney\, NB E7L 4C7\, Canada
CATEGORIES:Community Calendar
END:VEVENT
BEGIN:VEVENT
DTSTART;TZID=America/Halifax:20251123T190000
DTEND;TZID=America/Halifax:20251123T210000
DTSTAMP:20260423T062222
CREATED:20251117T152501Z
LAST-MODIFIED:20251123T172236Z
UID:7142391-1763924400-1763931600@carletonnorth.com
SUMMARY:Kin Club Bingo
DESCRIPTION:Kin Club BingoDate:  Weekly on SundayTime:  7:00PM – 9:00PMLocation:  Florenceville Kin Centre\, 381 Centreville Rd. Florenceville-Bristol \nThe Kin Club Weekly Bingo Takes Place every Sunday\, with door opening at 6pm and games starting at 7pm.Cost: $10 books\, $5 books\, $1 Specials and $25 package deals and more.
URL:https://carletonnorth.com/event/kin-club-bingo-91/
LOCATION:Florenceville Kin Center\, 381 Centreville Rd\, Florenceville-Bristol\, NB E7L 3K5\, Canada
CATEGORIES:Community Calendar
END:VEVENT
BEGIN:VEVENT
DTSTART;TZID=America/Halifax:20251124T130000
DTEND;TZID=America/Halifax:20251124T133000
DTSTAMP:20260423T062222
CREATED:20251117T152510Z
LAST-MODIFIED:20251123T172236Z
UID:7142392-1763989200-1763991000@carletonnorth.com
SUMMARY:Senior Stretching
DESCRIPTION:Date:  Every Monday in JulyTime:  1:00PM – 1:30PMLocation:  Beechwood Senior ComplexEvent Details:   \nNursing Home Without Walls is offering Senior Stretching at Beechwood Senior Complex at 1:00pm.  This is a great opportunity to get moving and to socialize.  Includes some light seated exercise with NHWW staff. For more information or to join call NHWW (506) 278-3197
URL:https://carletonnorth.com/event/senior-stretching-121/
LOCATION:Beechwood Senior Complex
CATEGORIES:Community Calendar
END:VEVENT
BEGIN:VEVENT
DTSTART;TZID=America/Halifax:20251124T140000
DTEND;TZID=America/Halifax:20251124T143000
DTSTAMP:20260423T062222
CREATED:20251117T152518Z
LAST-MODIFIED:20251124T173750Z
UID:7142393-1763992800-1763994600@carletonnorth.com
SUMMARY:Senior Stretching
DESCRIPTION:Date:  Weekly every Monday in JulyTIme:  2:00PM – 2:30PMLocation:   River View Manor Complex \nEvent Details: \nNursing Home Without Walls is offering Senior Stretching at River View Manor Complex at 2:00pm.  This is a great opportunity to get moving and to socialize.  Includes some light seated exercise with NHWW staff. \nFor more information or to join call NHWW (506)278-3197
URL:https://carletonnorth.com/event/senior-stretching-122/
LOCATION:River View Manor Complex\, 96 Hospital St\, Bath\, NB E7J 1B9\, Canada
CATEGORIES:Community Calendar
END:VEVENT
BEGIN:VEVENT
DTSTART;TZID=America/Halifax:20251124T183000
DTEND;TZID=America/Halifax:20251124T200000
DTSTAMP:20260423T062222
CREATED:20251117T152528Z
LAST-MODIFIED:20251124T173751Z
UID:7142394-1764009000-1764014400@carletonnorth.com
SUMMARY:Beginner Friendly Yoga
DESCRIPTION:Beginner Friendly Yoga \nDate:  Weekly On Monday | Oct 20 –  Dec 8Time:  6:30PM – 8:00PMLocation:  Pure Therapy | 6 Welch Street\, Florenceville-Bristol \nBeginner-Friendly Yogawith Coralee • Oct 20 – Dec 8 (8 Weeks) \nJoin this 8-week yoga journey to explore Hatha\, Flow\, Yin\, Pranayama\, Chanting & Meditation. Each week builds on the last\, guiding you toward strength\, balance\, and mindfulness. \nOptions:Drop-in: $20/class (cash)Prepay all 8 weeks: $120 (save 25%) \nMats & props Always provided at Pure Therapy.Pre-registration required. No refunds\, but you may send a friend if you miss a prepaid class. \nSign up @ puretherapy.ca
URL:https://carletonnorth.com/event/beginner-friendly-yoga-6/
LOCATION:6 Welch St\, Florenceville-Bristol\, NB E7L 2E4\, Canada
CATEGORIES:Community Calendar
END:VEVENT
BEGIN:VEVENT
DTSTART;TZID=America/Halifax:20251125T110000
DTEND;TZID=America/Halifax:20251125T150000
DTSTAMP:20260423T062222
CREATED:20251117T152536Z
LAST-MODIFIED:20251125T175240Z
UID:7142395-1764068400-1764082800@carletonnorth.com
SUMMARY:Christmas Bazaar
DESCRIPTION:Christmas BazaarDate:  November 25\, 2025Time:  11:00AM – 3:00PMLocation:  River View Manor  | 96 Hospital St\, Bath\, NB \nStop in and enjoy some Christmas Shopping\, socializing and get some baked goods!  All proceeds go directly to activities for our residents.  \nWe are looking for gently used Christmas and other household items for the sale.  Donations can be dropped off Mon to Fri between 8am and 4pm.  As well\, there will be a bake sale on that day.  Donations of baked goods are being accepted on Monday\, Nov. 24th and the morning of Nov. 25th.
URL:https://carletonnorth.com/event/christmas-bazaar/
LOCATION:River View Manor Inc\, 96 Hospital St\, Bath\, NB E7J 1B9\, Canada
CATEGORIES:Community Calendar
END:VEVENT
BEGIN:VEVENT
DTSTART;TZID=America/Halifax:20251125T190000
DTEND;TZID=America/Halifax:20251125T210000
DTSTAMP:20260423T062222
CREATED:20251117T152555Z
LAST-MODIFIED:20251125T175241Z
UID:7142397-1764097200-1764104400@carletonnorth.com
SUMMARY:District of Carleton North Council Meeting
DESCRIPTION:Items for Council’s consideration must be submitted to the Clerk amy.mcintosh@carletonnorht.com one week in advance of a Council meeting.
URL:https://carletonnorth.com/event/district-of-carleton-north-council-meeting-44/
LOCATION:Town Office\, 19 Station Rd\, Florenceville-Bristol\, NB E7L 3J8\, Canada
CATEGORIES:Community Calendar
END:VEVENT
BEGIN:VEVENT
DTSTART;VALUE=DATE:20251126
DTEND;VALUE=DATE:20251127
DTSTAMP:20260423T062222
CREATED:20251117T152545Z
LAST-MODIFIED:20251126T180747Z
UID:7142396-1764115200-1764201599@carletonnorth.com
SUMMARY:NHWW Christmas Shopping Party
DESCRIPTION:NHWW Christmas Shopping PartyDate:  November 26\, 2025Location:  Fredericton \nFREE transportation on the River View Manor Bus.  Sign up starts November 14th.  Seating is limited.  Lunch is on your own.  Call (506) 278-3197 to sign up!
URL:https://carletonnorth.com/event/nhww-christmas-shopping-party/
LOCATION:Fredericton\, NB\, Canada
CATEGORIES:Community Calendar
END:VEVENT
BEGIN:VEVENT
DTSTART;TZID=America/Halifax:20251126T100000
DTEND;TZID=America/Halifax:20251126T103000
DTSTAMP:20260423T062222
CREATED:20251117T152603Z
LAST-MODIFIED:20251125T175242Z
UID:7142398-1764151200-1764153000@carletonnorth.com
SUMMARY:Senior Stretching
DESCRIPTION:Date:  Weekly Every Wednesday in JulyTime:  10:00AM – 10:30AMLocation:  Shiktehawk Place \nEvent Details: \nNursing Home Without Walls is offering Senior Stretching at Shiktehawk Place at 10:00am.  This is a great opportunity to get moving and to socialize.  Includes some light seated exercise. \nFor more information or to join contact NHWW (506)278-3197
URL:https://carletonnorth.com/event/senior-stretching-123/
LOCATION:Shiktehawk Place
CATEGORIES:Community Calendar
END:VEVENT
BEGIN:VEVENT
DTSTART;TZID=America/Halifax:20251126T111500
DTEND;TZID=America/Halifax:20251126T114500
DTSTAMP:20260423T062222
CREATED:20251117T152611Z
LAST-MODIFIED:20251125T175242Z
UID:7142399-1764155700-1764157500@carletonnorth.com
SUMMARY:Senior Stretching
DESCRIPTION:Date:  Weekly Every Wednesday in JuneTime:  11:15AM – 11:45PMLocation:  Centreville Baptist ChurchEvent Details: \nNursing Home Without Walls is offering Senior Stretching at Centreville Baptist at 11:15am.  This is a great opportunity to get moving and to socialize.  Includes some light seated exercise with NHWW staff. \nFor more information or to join contact NHWW (506) 278-3197
URL:https://carletonnorth.com/event/senior-stretching-124/
LOCATION:Shiktehawk Place
CATEGORIES:Community Calendar
END:VEVENT
BEGIN:VEVENT
DTSTART;TZID=America/Halifax:20251126T130000
DTEND;TZID=America/Halifax:20251126T160000
DTSTAMP:20260423T062222
CREATED:20251117T152622Z
LAST-MODIFIED:20251126T180746Z
UID:7142400-1764162000-1764172800@carletonnorth.com
SUMMARY:Senior Puzzles\, Social & Cards
DESCRIPTION:Senior Puzzles\, Social & CardsDate:  Weekly on WednesdaysTime:  1:00PM – 4:00PMLocation:  R.G. ‘Bun’ Veysey Active Living Centre\,  40 McCain St. Florenceville-Bristol \nEnjoy an afternoon of card games\, snacks\, tea and fun!  Play a variation of puzzles. Feel free to bring puzzles to trade! \nCost:   $3 for entry (55+)
URL:https://carletonnorth.com/event/senior-puzzles-social-cards-76/
LOCATION:40 McCain St\, Florenceville-Bristol\, NB E7L 3J4\, Canada
CATEGORIES:Community Calendar
END:VEVENT
BEGIN:VEVENT
DTSTART;TZID=America/Halifax:20251126T183000
DTEND;TZID=America/Halifax:20251126T193000
DTSTAMP:20260423T062222
CREATED:20251117T152630Z
LAST-MODIFIED:20251126T180747Z
UID:7142401-1764181800-1764185400@carletonnorth.com
SUMMARY:Christmas Tree Lighting-Centreville
DESCRIPTION:Centreville Christmas Tree LightingPresented by the Centreville Chamber of Commercehttps://www.facebook.com/CentrevilleChamberCommerce \nLocation: Burtt Street Park\, CentrevilleTime: 6:30PM
URL:https://carletonnorth.com/event/christmas-tree-lighting-centreville/
LOCATION:Burtt Street\, Burtt St\, Centreville\, NB E7K\, Canada
CATEGORIES:Community Calendar
END:VEVENT
BEGIN:VEVENT
DTSTART;TZID=America/Halifax:20251127T180000
DTEND;TZID=America/Halifax:20251127T200000
DTSTAMP:20260423T062222
CREATED:20251117T152649Z
LAST-MODIFIED:20251127T182238Z
UID:7142403-1764266400-1764273600@carletonnorth.com
SUMMARY:Clay Handbuilding - Intermediate Night
DESCRIPTION:Whether you’ve got a current project or are a brand-newbie wanting to explore clay\, join instructor Jenna Ross & other friendly clay-lovers for a casual evening of creativity at the River Art Centre & Studios. \nNo registration required. Basic instruction is provided to get you started. ….Bring your ideas\, gusto\, project dreams & we’ll see what happens! \nFee to attend each Drop-in is $5 per person. The first (bisque) firing of any pot you decide to keep costs $10 each piece. Then Glazing costs an additional $10 each piece. \nChildren aged 7-14 welcome to participate if accompanied by an adult. No experience necessary\, just an openness to try! See you there! \nFor more information contact the Gallery. info@mccainartgallery.com 506-392-6769
URL:https://carletonnorth.com/event/clay-handbuilding-intermediate-night-2/
LOCATION:8746 Main St\, Florenceville-Bristol\, NB E7L 3G5\, Canada
CATEGORIES:Community Calendar
END:VEVENT
BEGIN:VEVENT
DTSTART;TZID=America/Halifax:20251127T183000
DTEND;TZID=America/Halifax:20251127T193000
DTSTAMP:20260423T062222
CREATED:20251117T152639Z
LAST-MODIFIED:20251127T182238Z
UID:7142402-1764268200-1764271800@carletonnorth.com
SUMMARY:Tree Lighting- Riverside Park
DESCRIPTION:Tree Lighting – Riverside Park9173 Main Street\, Florenceville-BristolDate: November 27Time: 6:30PMhttps://www.facebook.com/exploredistrictofcarletonnorth \nFestive treats\, holiday music & 𝑺𝒂𝒏𝒕𝒂!Bring your family and friends to celebrate the start of the Holiday Season!
URL:https://carletonnorth.com/event/tree-lighting-riverside-park/
LOCATION:Riverside Park\, 9173 Main St\, Florenceville-Bristol\, NB E7L 2Y3\, Canada
CATEGORIES:Community Calendar
END:VEVENT
BEGIN:VEVENT
DTSTART;TZID=America/Halifax:20251129T080000
DTEND;TZID=America/Halifax:20251129T110000
DTSTAMP:20260423T062222
CREATED:20251117T152656Z
LAST-MODIFIED:20251128T183742Z
UID:7142404-1764403200-1764414000@carletonnorth.com
SUMMARY:Breakfast at Juniper Community Centre
DESCRIPTION:Breakfast at Juniper Community CentreDate: Weekly on SaturdayTime:  8:00AM – 11:00AMLocation:  Juniper Community Centre\, 267 Juniper Rd\, Juniper \nDon’t forget to join us for Breakfast  from 8am – 11am at the Juniper Community Centre.   Great company and a fantastic way to start your weekend. Everyone is welcome—bring your family\, friends\, and neighbors! 💛 \nBring someone who needs a delicious Saturday morning pick-me-up! 🍳🥓 \n#CommunityBreakfast #SaturdayVibes #GoodFoodGoodCompany \nhttps://www.facebook.com/JCC506
URL:https://carletonnorth.com/event/breakfast-at-juniper-community-centre-30/
LOCATION:Juniper Community Centre\, 267 Juniper Rd\, Juniper\, NB E7L 1H1\, Canada
CATEGORIES:Community Calendar
END:VEVENT
BEGIN:VEVENT
DTSTART;TZID=America/Halifax:20251129T123000
DTEND;TZID=America/Halifax:20251129T133000
DTSTAMP:20260423T062222
CREATED:20251117T152704Z
LAST-MODIFIED:20251128T183743Z
UID:7142405-1764419400-1764423000@carletonnorth.com
SUMMARY:Stickney Bingo
DESCRIPTION:Stickney Bingo every Saturday at 53 Bell Street in Stickney. Doors :11:30AM Bingo Starts: 12:30PMLocation: at 53 Bell Street \, Stickney. \nThis is dobber bingo which has 50/50 games\, winner take all and a Jack pot game. \nThe Stickney Recreation Center is equipped with a ramp and stair lift and a rear entrance at ground level. All are welcome.
URL:https://carletonnorth.com/event/stickney-bingo-6/
LOCATION:53 Bell St\, Stickney\, NB E7L 4C7\, Canada
CATEGORIES:Community Calendar
END:VEVENT
BEGIN:VEVENT
DTSTART;TZID=America/Halifax:20251129T140000
DTEND;TZID=America/Halifax:20251129T160000
DTSTAMP:20260423T062222
CREATED:20251117T152713Z
LAST-MODIFIED:20251129T185343Z
UID:7142406-1764424800-1764432000@carletonnorth.com
SUMMARY:Juniper Community Centre Jamboree
DESCRIPTION:Juniper Community Centre Jamboree2:00PM to 4:00PMThe last Saturday of the Month: follow https://www.facebook.com/JCC506 on Facebook \n \nLive Music by local performers  \nLight Lunch to share with friends and neighbors  \nDoor Prizes for a little extra excitement  \n50/50 Draw – Try your luck and support a great cause!  \nAdmission: By donation – Your contributions help support our community efforts! \nBring your family\, invite your friends\, and let’s make it an afternoon to remember! \nEmail: junipercommunitycentre@gmail.comjunipercc.ca
URL:https://carletonnorth.com/event/juniper-community-centre-jamboree-8/
LOCATION:Juniper Community Centre\, 267 Juniper Rd\, Juniper\, NB E7L 1H1\, Canada
CATEGORIES:Community Calendar
END:VEVENT
BEGIN:VEVENT
DTSTART;TZID=America/Halifax:20251130T120000
DTEND;TZID=America/Halifax:20251130T160000
DTSTAMP:20260423T062222
CREATED:20251120T163833Z
LAST-MODIFIED:20251130T190748Z
UID:7191017-1764504000-1764518400@carletonnorth.com
SUMMARY:53rd Annual Christmas Miracle Telethon
DESCRIPTION:53rd Annual Christmas Miracle TelethonDate:  Sunday\, November 30\, 2025Time:   Accepting donations from 12:00PM – 4:00PMLocation:  Kin Club of Florenceville\, 381 Route 110\, East Centreville \nWe will be doing Facebook live interviews with our partners.  This event is open to the public to come and watch. \nOur goal is to help up to 100 families again in 2025.  There are a lot of families struggling this year due to the rise of the cost of living. \nWe need your help by making a pledge by calling (506 )595-0057 or (506) 391-6076.  Etransfers are welcome to kinclubofflorenceville@gmail.com \nPlease help others in need this holiday season.  100% of the monies raised here stays here.  Serving families  of the Hartland and Carleton North Districts
URL:https://carletonnorth.com/event/53rd-annual-christmas-miracle-telethon/
LOCATION:381 NB-110\, East Centreville\, NB E7K 3C2\, Canada
CATEGORIES:Community Calendar
END:VEVENT
BEGIN:VEVENT
DTSTART;TZID=America/Halifax:20251130T180000
DTEND;TZID=America/Halifax:20251130T183000
DTSTAMP:20260423T062222
CREATED:20251117T152721Z
LAST-MODIFIED:20251130T190749Z
UID:7142407-1764525600-1764527400@carletonnorth.com
SUMMARY:Santa Claus Parade
DESCRIPTION:Santa Claus ParadeParade Route – Bath Community School to Church Street\, left on Mechanic Street\, left on Main Street\, Left on Hospital Street\, back to Bath Community School \nDate:  Sunday\, November 30\, 2025Time:  6:00PMLocation:  Bath\, NB \nCentral & Northern Carleton District Chamber of Commerce is hosting a Santa Claus Parade on Sunday\, November 30th\, at 6PM in Bath\, NB.  For more information\, visit their Facebook:  https://www.facebook.com/CentralNorthernCarleton  or 2025 Santa Claus Parade BathGet your float registered today!
URL:https://carletonnorth.com/event/santa-claus-parade/
LOCATION:Bath\, NB\, Canada
CATEGORIES:Community Calendar
END:VEVENT
BEGIN:VEVENT
DTSTART;TZID=America/Halifax:20251130T190000
DTEND;TZID=America/Halifax:20251130T210000
DTSTAMP:20260423T062222
CREATED:20251117T152729Z
LAST-MODIFIED:20251130T190750Z
UID:7142408-1764529200-1764536400@carletonnorth.com
SUMMARY:Kin Club Bingo
DESCRIPTION:Kin Club BingoDate:  Weekly on SundayTime:  7:00PM – 9:00PMLocation:  Florenceville Kin Centre\, 381 Centreville Rd. Florenceville-Bristol \nThe Kin Club Weekly Bingo Takes Place every Sunday\, with door opening at 6pm and games starting at 7pm.Cost: $10 books\, $5 books\, $1 Specials and $25 package deals and more.
URL:https://carletonnorth.com/event/kin-club-bingo-92/
LOCATION:Florenceville Kin Center\, 381 Centreville Rd\, Florenceville-Bristol\, NB E7L 3K5\, Canada
CATEGORIES:Community Calendar
END:VEVENT
BEGIN:VEVENT
DTSTART;TZID=America/Halifax:20251201T130000
DTEND;TZID=America/Halifax:20251201T133000
DTSTAMP:20260423T062222
CREATED:20251117T152738Z
LAST-MODIFIED:20251130T190750Z
UID:7142409-1764594000-1764595800@carletonnorth.com
SUMMARY:Senior Stretching
DESCRIPTION:Date:  Every Monday in JulyTime:  1:00PM – 1:30PMLocation:  Beechwood Senior ComplexEvent Details:   \nNursing Home Without Walls is offering Senior Stretching at Beechwood Senior Complex at 1:00pm.  This is a great opportunity to get moving and to socialize.  Includes some light seated exercise with NHWW staff. For more information or to join call NHWW (506) 278-3197
URL:https://carletonnorth.com/event/senior-stretching-125/
LOCATION:Beechwood Senior Complex
CATEGORIES:Community Calendar
END:VEVENT
BEGIN:VEVENT
DTSTART;TZID=America/Halifax:20251201T140000
DTEND;TZID=America/Halifax:20251201T143000
DTSTAMP:20260423T062222
CREATED:20251117T152747Z
LAST-MODIFIED:20251130T190751Z
UID:7142410-1764597600-1764599400@carletonnorth.com
SUMMARY:Senior Stretching
DESCRIPTION:Date:  Weekly every Monday in JulyTIme:  2:00PM – 2:30PMLocation:   River View Manor Complex \nEvent Details: \nNursing Home Without Walls is offering Senior Stretching at River View Manor Complex at 2:00pm.  This is a great opportunity to get moving and to socialize.  Includes some light seated exercise with NHWW staff. \nFor more information or to join call NHWW (506)278-3197
URL:https://carletonnorth.com/event/senior-stretching-126/
LOCATION:River View Manor Complex\, 96 Hospital St\, Bath\, NB E7J 1B9\, Canada
CATEGORIES:Community Calendar
END:VEVENT
BEGIN:VEVENT
DTSTART;TZID=America/Halifax:20251201T183000
DTEND;TZID=America/Halifax:20251201T200000
DTSTAMP:20260423T062222
CREATED:20251117T152754Z
LAST-MODIFIED:20251130T190752Z
UID:7142411-1764613800-1764619200@carletonnorth.com
SUMMARY:Beginner Friendly Yoga
DESCRIPTION:Beginner Friendly Yoga \nDate:  Weekly On Monday | Oct 20 –  Dec 8Time:  6:30PM – 8:00PMLocation:  Pure Therapy | 6 Welch Street\, Florenceville-Bristol \nBeginner-Friendly Yogawith Coralee • Oct 20 – Dec 8 (8 Weeks) \nJoin this 8-week yoga journey to explore Hatha\, Flow\, Yin\, Pranayama\, Chanting & Meditation. Each week builds on the last\, guiding you toward strength\, balance\, and mindfulness. \nOptions:Drop-in: $20/class (cash)Prepay all 8 weeks: $120 (save 25%) \nMats & props Always provided at Pure Therapy.Pre-registration required. No refunds\, but you may send a friend if you miss a prepaid class. \nSign up @ puretherapy.ca
URL:https://carletonnorth.com/event/beginner-friendly-yoga-7/
LOCATION:6 Welch St\, Florenceville-Bristol\, NB E7L 2E4\, Canada
CATEGORIES:Community Calendar
END:VEVENT
BEGIN:VEVENT
DTSTART;TZID=America/Halifax:20251202T183000
DTEND;TZID=America/Halifax:20251202T190000
DTSTAMP:20260423T062222
CREATED:20251202T192320Z
LAST-MODIFIED:20251202T192320Z
UID:7385779-1764700200-1764702000@carletonnorth.com
SUMMARY:Wreath Making Workshop
DESCRIPTION:Wreath Making WorkshopDate:  Tuesday December 2\, 2025Time:  6:30PMLocation:  Western Valley Multiplex\, 698 Central St.  Centreville \nJoin the Tourism Department for a Festive Wreath Making Workshop and create your own beautiful custom wreath for the holiday season.    Perfect for your front door\, gifting\, or adding a little extra sparkle to your decor.  Cost is $40\, includes all materials.  Spots are limited\, register today! \nTo register\, contact the Tourism Department at (506) 392-6763 Ext 210
URL:https://carletonnorth.com/event/wreath-making-workshop/
LOCATION:698 Central St\, Centreville\, NB E7K 2M5\, Canada
CATEGORIES:Community Calendar
END:VEVENT
BEGIN:VEVENT
DTSTART;TZID=America/Halifax:20251202T190000
DTEND;TZID=America/Halifax:20251202T210000
DTSTAMP:20260423T062222
CREATED:20251202T192536Z
LAST-MODIFIED:20251202T192536Z
UID:7385793-1764702000-1764709200@carletonnorth.com
SUMMARY:River Valley Toastmasters Club Meeting
DESCRIPTION:River Valley Toastmasters Club MeetingDate:  Dec 2\, 2025Time:  7:00PM  |  Doors open at 6:45PMLocation:  Community Hall |  8696 Main St\, Florenceville-Bristol \nPlease be our guest!  River Valley Toastmasters provides a safe\, fun\, and engaging opportunity to: \n*get comfortable with public speaking*enhance your communication and leadership skills\, and*achieve your own personal growth goals. \nThe doors open by 6:45 PM. For more information\, please contact: jonathan.brillinger@gmail.com. If you are unable to attend in-person we can provide a zoom link.  We hope to see you on Tuesday\, December 2nd!
URL:https://carletonnorth.com/event/river-valley-toastmasters-club-meeting/
LOCATION:8696 Main St\, Florenceville-Bristol\, NB E7L 3G8\, Canada
CATEGORIES:Community Calendar
END:VEVENT
BEGIN:VEVENT
DTSTART;TZID=America/Halifax:20251203T100000
DTEND;TZID=America/Halifax:20251203T103000
DTSTAMP:20260423T062222
CREATED:20251202T192329Z
LAST-MODIFIED:20251202T192329Z
UID:7385780-1764756000-1764757800@carletonnorth.com
SUMMARY:Senior Stretching
DESCRIPTION:Date:  Weekly Every Wednesday in JulyTime:  10:00AM – 10:30AMLocation:  Shiktehawk Place \nEvent Details: \nNursing Home Without Walls is offering Senior Stretching at Shiktehawk Place at 10:00am.  This is a great opportunity to get moving and to socialize.  Includes some light seated exercise. \nFor more information or to join contact NHWW (506)278-3197
URL:https://carletonnorth.com/event/senior-stretching-127/
LOCATION:Shiktehawk Place
CATEGORIES:Community Calendar
END:VEVENT
END:VCALENDAR