BEGIN:VCALENDAR
VERSION:2.0
PRODID:-//District of Carleton North - ECPv6.15.20//NONSGML v1.0//EN
CALSCALE:GREGORIAN
METHOD:PUBLISH
X-WR-CALNAME:District of Carleton North
X-ORIGINAL-URL:https://carletonnorth.com
X-WR-CALDESC:Events for District of Carleton North
REFRESH-INTERVAL;VALUE=DURATION:PT1H
X-Robots-Tag:noindex
X-PUBLISHED-TTL:PT1H
BEGIN:VTIMEZONE
TZID:America/Halifax
BEGIN:DAYLIGHT
TZOFFSETFROM:-0400
TZOFFSETTO:-0300
TZNAME:ADT
DTSTART:20240310T060000
END:DAYLIGHT
BEGIN:STANDARD
TZOFFSETFROM:-0300
TZOFFSETTO:-0400
TZNAME:AST
DTSTART:20241103T050000
END:STANDARD
BEGIN:DAYLIGHT
TZOFFSETFROM:-0400
TZOFFSETTO:-0300
TZNAME:ADT
DTSTART:20250309T060000
END:DAYLIGHT
BEGIN:STANDARD
TZOFFSETFROM:-0300
TZOFFSETTO:-0400
TZNAME:AST
DTSTART:20251102T050000
END:STANDARD
BEGIN:DAYLIGHT
TZOFFSETFROM:-0400
TZOFFSETTO:-0300
TZNAME:ADT
DTSTART:20260308T060000
END:DAYLIGHT
BEGIN:STANDARD
TZOFFSETFROM:-0300
TZOFFSETTO:-0400
TZNAME:AST
DTSTART:20261101T050000
END:STANDARD
END:VTIMEZONE
BEGIN:VEVENT
DTSTART;TZID=America/Halifax:20251006T201500
DTEND;TZID=America/Halifax:20251006T211500
DTSTAMP:20260422T190853
CREATED:20250821T142308Z
LAST-MODIFIED:20251006T085253Z
UID:5762650-1759781700-1759785300@carletonnorth.com
SUMMARY:U15 TRYOUT 1 - MINOR HOCKEY
DESCRIPTION:
URL:https://carletonnorth.com/event/u15-tryout-1-minor-hockey/
END:VEVENT
BEGIN:VEVENT
DTSTART;TZID=America/Halifax:20251006T190000
DTEND;TZID=America/Halifax:20251006T200000
DTSTAMP:20260422T190853
CREATED:20250821T142308Z
LAST-MODIFIED:20251006T085253Z
UID:5762649-1759777200-1759780800@carletonnorth.com
SUMMARY:U13AAA NORTH WEST BULLS
DESCRIPTION:
URL:https://carletonnorth.com/event/u13aaa-north-west-bulls-9/
END:VEVENT
BEGIN:VEVENT
DTSTART;TZID=America/Halifax:20251006T174500
DTEND;TZID=America/Halifax:20251006T184500
DTSTAMP:20260422T190853
CREATED:20250821T142308Z
LAST-MODIFIED:20251006T085252Z
UID:5762648-1759772700-1759776300@carletonnorth.com
SUMMARY:U11 - MINOR HOCKEY
DESCRIPTION:
URL:https://carletonnorth.com/event/u11-minor-hockey-13/
END:VEVENT
BEGIN:VEVENT
DTSTART;TZID=America/Halifax:20251006T160000
DTEND;TZID=America/Halifax:20251006T173000
DTSTAMP:20260422T190853
CREATED:20250822T132324Z
LAST-MODIFIED:20251006T085252Z
UID:5776525-1759766400-1759771800@carletonnorth.com
SUMMARY:CARLETON NORTH BOYS
DESCRIPTION:
URL:https://carletonnorth.com/event/carleton-north-boys-53/
END:VEVENT
BEGIN:VEVENT
DTSTART;TZID=America/Halifax:20251006T120000
DTEND;TZID=America/Halifax:20251006T130000
DTSTAMP:20260422T190853
CREATED:20250927T063750Z
LAST-MODIFIED:20251006T085252Z
UID:6326403-1759752000-1759755600@carletonnorth.com
SUMMARY:ADULT SKATE FREE
DESCRIPTION:
URL:https://carletonnorth.com/event/adult-skate-free-3/
END:VEVENT
BEGIN:VEVENT
DTSTART;TZID=America/Halifax:20251005T190000
DTEND;TZID=America/Halifax:20251005T210000
DTSTAMP:20260422T190853
CREATED:20250924T131303Z
LAST-MODIFIED:20251005T193155Z
UID:6284922-1759690800-1759698000@carletonnorth.com
SUMMARY:Kin Club Bingo
DESCRIPTION:Kin Club BingoDate:  Weekly on SundayTime:  7:00PM – 9:00PMLocation:  Florenceville Kin Centre\, 381 Centreville Rd. Florenceville-Bristol \nThe Kin Club Weekly Bingo Takes Place every Sunday\, with door opening at 6pm and games starting at 7pm.Cost: $10 books\, $5 books\, $1 Specials and $25 package deals and more.
URL:https://carletonnorth.com/event/kin-club-bingo-83/
LOCATION:Florenceville Kin Center\, 381 Centreville Rd\, Florenceville-Bristol\, NB E7L 3K5\, Canada
CATEGORIES:Community Calendar
END:VEVENT
BEGIN:VEVENT
DTSTART;TZID=America/Halifax:20251005T184500
DTEND;TZID=America/Halifax:20251005T194500
DTSTAMP:20260422T190853
CREATED:20250904T123856Z
LAST-MODIFIED:20251005T083740Z
UID:5979915-1759689900-1759693500@carletonnorth.com
SUMMARY:WESTERN VALLEY FEMALES
DESCRIPTION:
URL:https://carletonnorth.com/event/western-valley-females-4/
END:VEVENT
BEGIN:VEVENT
DTSTART;TZID=America/Halifax:20251005T173000
DTEND;TZID=America/Halifax:20251005T183000
DTSTAMP:20260422T190853
CREATED:20251004T082241Z
LAST-MODIFIED:20251005T083740Z
UID:6433772-1759685400-1759689000@carletonnorth.com
SUMMARY:U11 - MINOR HOCKEY
DESCRIPTION:
URL:https://carletonnorth.com/event/u11-minor-hockey-14/
END:VEVENT
BEGIN:VEVENT
DTSTART;TZID=America/Halifax:20251005T160000
DTEND;TZID=America/Halifax:20251005T171500
DTSTAMP:20260422T190853
CREATED:20250821T142307Z
LAST-MODIFIED:20251005T083740Z
UID:5762645-1759680000-1759684500@carletonnorth.com
SUMMARY:U13AAA NORTH WEST BULLS
DESCRIPTION:
URL:https://carletonnorth.com/event/u13aaa-north-west-bulls-8/
END:VEVENT
BEGIN:VEVENT
DTSTART;TZID=America/Halifax:20251005T144500
DTEND;TZID=America/Halifax:20251005T154500
DTSTAMP:20260422T190853
CREATED:20250821T142307Z
LAST-MODIFIED:20251005T083739Z
UID:5762644-1759675500-1759679100@carletonnorth.com
SUMMARY:RIVERVALLEY ROADRUNNERS
DESCRIPTION:
URL:https://carletonnorth.com/event/rivervalley-roadrunners-3/
END:VEVENT
BEGIN:VEVENT
DTSTART;TZID=America/Halifax:20251005T094500
DTEND;TZID=America/Halifax:20251005T143000
DTSTAMP:20260422T190853
CREATED:20250821T142307Z
LAST-MODIFIED:20251005T083739Z
UID:5762643-1759657500-1759674600@carletonnorth.com
SUMMARY:GIRL'S DAY - MINOR HOCKEY
DESCRIPTION:
URL:https://carletonnorth.com/event/girls-day-minor-hockey/
END:VEVENT
BEGIN:VEVENT
DTSTART;TZID=America/Halifax:20251005T083000
DTEND;TZID=America/Halifax:20251005T093000
DTSTAMP:20260422T190853
CREATED:20250821T142307Z
LAST-MODIFIED:20251005T083738Z
UID:5762642-1759653000-1759656600@carletonnorth.com
SUMMARY:U7 - MINOR HOCKEY
DESCRIPTION:
URL:https://carletonnorth.com/event/u7-minor-hockey-44/
END:VEVENT
BEGIN:VEVENT
DTSTART;TZID=America/Halifax:20251004T200000
DTEND;TZID=America/Halifax:20251004T220000
DTSTAMP:20260422T190853
CREATED:20251001T133750Z
LAST-MODIFIED:20251004T082239Z
UID:6389786-1759608000-1759615200@carletonnorth.com
SUMMARY:PRIVATE RENTAL
DESCRIPTION:
URL:https://carletonnorth.com/event/private-rental-41/
END:VEVENT
BEGIN:VEVENT
DTSTART;TZID=America/Halifax:20251004T183000
DTEND;TZID=America/Halifax:20251004T193000
DTSTAMP:20260422T190853
CREATED:20251001T183858Z
LAST-MODIFIED:20251004T082239Z
UID:6393384-1759602600-1759606200@carletonnorth.com
SUMMARY:U13 - MINOR HOCKEY
DESCRIPTION:
URL:https://carletonnorth.com/event/u13-minor-hockey-14/
END:VEVENT
BEGIN:VEVENT
DTSTART;TZID=America/Halifax:20251004T183000
DTEND;TZID=America/Halifax:20251004T193000
DTSTAMP:20260422T190853
CREATED:20250924T131255Z
LAST-MODIFIED:20251004T190803Z
UID:6284893-1759602600-1759606200@carletonnorth.com
SUMMARY:We're Here For You: Dessert Buffet & Auction
DESCRIPTION:We’re Here For You: Dessert Buffet & AuctionDate: October 4\, 2025Time: 6:30PMLocation: Elks Club\, 123 Connell Street\, WoodstockAdmission: $20 – get your tickets onlinehttps://www.zeffy.com/en-CA/ticketing/dessert-buffet-and-auction-woodstock-nbContact Geneva Shaw at 506-324-2074 Genevashaw@hotmail.comwerehereforyounb@gmail.com \nhttps://www.facebook.com/werehereforyoucanada/
URL:https://carletonnorth.com/event/were-here-for-you-dessert-buffet-auction/
LOCATION:Elks Club\, 123 Connell St\, Woodstock\, NB E7M 1K7\, Canada
CATEGORIES:Community Calendar
END:VEVENT
BEGIN:VEVENT
DTSTART;TZID=America/Halifax:20251004T171500
DTEND;TZID=America/Halifax:20251004T181500
DTSTAMP:20260422T190853
CREATED:20250821T142306Z
LAST-MODIFIED:20251004T082239Z
UID:5762640-1759598100-1759601700@carletonnorth.com
SUMMARY:CARLETON NORTH BOYS
DESCRIPTION:
URL:https://carletonnorth.com/event/first-shift-4-minor-hockey-2/
END:VEVENT
BEGIN:VEVENT
DTSTART;TZID=America/Halifax:20251004T160000
DTEND;TZID=America/Halifax:20251004T170000
DTSTAMP:20260422T190853
CREATED:20250821T142306Z
LAST-MODIFIED:20251004T082238Z
UID:5762639-1759593600-1759597200@carletonnorth.com
SUMMARY:U15/U18 - MINOR HOCKEY
DESCRIPTION:
URL:https://carletonnorth.com/event/u15-u18-minor-hockey-2/
END:VEVENT
BEGIN:VEVENT
DTSTART;TZID=America/Halifax:20251004T144500
DTEND;TZID=America/Halifax:20251004T154500
DTSTAMP:20260422T190853
CREATED:20250821T142306Z
LAST-MODIFIED:20251004T082238Z
UID:5762638-1759589100-1759592700@carletonnorth.com
SUMMARY:U13 - MINOR HOCKEY
DESCRIPTION:
URL:https://carletonnorth.com/event/u13-minor-hockey-13/
END:VEVENT
BEGIN:VEVENT
DTSTART;TZID=America/Halifax:20251004T133000
DTEND;TZID=America/Halifax:20251004T143000
DTSTAMP:20260422T190853
CREATED:20250821T142306Z
LAST-MODIFIED:20251004T082238Z
UID:5762637-1759584600-1759588200@carletonnorth.com
SUMMARY:ZWD #6 - MINOR HOCKEY
DESCRIPTION:
URL:https://carletonnorth.com/event/zwd-6-minor-hockey/
END:VEVENT
BEGIN:VEVENT
DTSTART;TZID=America/Halifax:20251004T121500
DTEND;TZID=America/Halifax:20251004T131500
DTSTAMP:20260422T190853
CREATED:20250821T142305Z
LAST-MODIFIED:20251004T082237Z
UID:5762636-1759580100-1759583700@carletonnorth.com
SUMMARY:ZWD #5 - MINOR HOCKEY
DESCRIPTION:
URL:https://carletonnorth.com/event/zwd-5-minor-hockey/
END:VEVENT
BEGIN:VEVENT
DTSTART;TZID=America/Halifax:20251004T110000
DTEND;TZID=America/Halifax:20251004T120000
DTSTAMP:20260422T190853
CREATED:20250821T142305Z
LAST-MODIFIED:20251004T082237Z
UID:5762635-1759575600-1759579200@carletonnorth.com
SUMMARY:U11 - MINOR HOCKEY
DESCRIPTION:
URL:https://carletonnorth.com/event/u11-minor-hockey-12/
END:VEVENT
BEGIN:VEVENT
DTSTART;TZID=America/Halifax:20251004T100000
DTEND;TZID=America/Halifax:20251004T130000
DTSTAMP:20260422T190853
CREATED:20251003T185315Z
LAST-MODIFIED:20251003T185315Z
UID:6424480-1759572000-1759582800@carletonnorth.com
SUMMARY:Open House - Florenceville-Bristol Fire Department
DESCRIPTION:Open House | Florenceville-Bristol Fire DepartmentDate: October 4\, 2025Time:  10:00AM – 1:00PMLocation: 4724 Juniper Road\, Florenceville-Bristol |  Florenceville-Bristol Fire Department \nFree DrawsDemosRefreshments
URL:https://carletonnorth.com/event/open-house-florenceville-bristol-fire-department/
LOCATION:4724 Juniper Rd\, Florenceville-Bristol\, NB E7L 2W9\, Canada
CATEGORIES:Community Calendar
END:VEVENT
BEGIN:VEVENT
DTSTART;TZID=America/Halifax:20251004T094500
DTEND;TZID=America/Halifax:20251004T104500
DTSTAMP:20260422T190853
CREATED:20250821T142305Z
LAST-MODIFIED:20251004T082237Z
UID:5762634-1759571100-1759574700@carletonnorth.com
SUMMARY:U9 - MINOR HOCKEY
DESCRIPTION:
URL:https://carletonnorth.com/event/u9-minor-hockey-34/
END:VEVENT
BEGIN:VEVENT
DTSTART;TZID=America/Halifax:20251004T083000
DTEND;TZID=America/Halifax:20251004T093000
DTSTAMP:20260422T190853
CREATED:20250821T142305Z
LAST-MODIFIED:20251004T082236Z
UID:5762633-1759566600-1759570200@carletonnorth.com
SUMMARY:U7 - MINOR HOCKEY
DESCRIPTION:
URL:https://carletonnorth.com/event/u7-minor-hockey-43/
END:VEVENT
BEGIN:VEVENT
DTSTART;TZID=America/Halifax:20251004T080000
DTEND;TZID=America/Halifax:20251004T110000
DTSTAMP:20260422T190853
CREATED:20250924T131246Z
LAST-MODIFIED:20251003T185306Z
UID:6284864-1759564800-1759575600@carletonnorth.com
SUMMARY:Breakfast at Juniper Community Centre
DESCRIPTION:Breakfast at Juniper Community CentreDate: Weekly on SaturdayTime:  8:00AM – 11:00AMLocation:  Juniper Community Centre\, 267 Juniper Rd\, Juniper \nDon’t forget to join us for Breakfast  from 8am – 11am at the Juniper Community Centre.   Great company and a fantastic way to start your weekend. Everyone is welcome—bring your family\, friends\, and neighbors! 💛 \nBring someone who needs a delicious Saturday morning pick-me-up! 🍳🥓 \n#CommunityBreakfast #SaturdayVibes #GoodFoodGoodCompany \nhttps://www.facebook.com/JCC506
URL:https://carletonnorth.com/event/breakfast-at-juniper-community-centre-23/
LOCATION:Juniper Community Centre\, 267 Juniper Rd\, Juniper\, NB E7L 1H1\, Canada
CATEGORIES:Community Calendar
END:VEVENT
BEGIN:VEVENT
DTSTART;TZID=America/Halifax:20251003T201500
DTEND;TZID=America/Halifax:20251003T211500
DTSTAMP:20260422T190853
CREATED:20250904T123853Z
LAST-MODIFIED:20251003T080735Z
UID:5979914-1759522500-1759526100@carletonnorth.com
SUMMARY:WESTERN VALLEY FEMALES
DESCRIPTION:
URL:https://carletonnorth.com/event/western-valley-females-3/
END:VEVENT
BEGIN:VEVENT
DTSTART;TZID=America/Halifax:20251003T184500
DTEND;TZID=America/Halifax:20251003T200000
DTSTAMP:20260422T190853
CREATED:20251002T182243Z
LAST-MODIFIED:20251003T080735Z
UID:6408380-1759517100-1759521600@carletonnorth.com
SUMMARY:U13AAA NORTH WEST BULLS
DESCRIPTION:
URL:https://carletonnorth.com/event/u13aaa-north-west-bulls-3/
END:VEVENT
BEGIN:VEVENT
DTSTART;TZID=America/Halifax:20251003T173000
DTEND;TZID=America/Halifax:20251003T183000
DTSTAMP:20260422T190853
CREATED:20250905T133755Z
LAST-MODIFIED:20251003T080735Z
UID:5994979-1759512600-1759516200@carletonnorth.com
SUMMARY:RIVERVALLEY ROADRUNNERS
DESCRIPTION:
URL:https://carletonnorth.com/event/rivervalley-roadrunners-4/
END:VEVENT
BEGIN:VEVENT
DTSTART;TZID=America/Halifax:20251003T120000
DTEND;TZID=America/Halifax:20251003T130000
DTSTAMP:20260422T190853
CREATED:20250927T063745Z
LAST-MODIFIED:20251003T080734Z
UID:6326402-1759492800-1759496400@carletonnorth.com
SUMMARY:ADULT SKATE FREE
DESCRIPTION:
URL:https://carletonnorth.com/event/adult-skate-free-2/
END:VEVENT
BEGIN:VEVENT
DTSTART;VALUE=DATE:20251003
DTEND;VALUE=DATE:20251004
DTSTAMP:20260422T190853
CREATED:20250924T131235Z
LAST-MODIFIED:20251003T185258Z
UID:6284824-1759449600-1759535999@carletonnorth.com
SUMMARY:Drive-In Movie Night
DESCRIPTION:🍿 Drive-In Nights are BACK!  \nTime:  Doors open at 7:00PM\, movie starts at dusk \nLocation:  Bath Fairgrounds\, 200 Main St. Bath\, NB \nGet ready for Drive-In movie night beginning September 12th at the Bath Fair Grounds! \nAdmission for each movie night is donated to a different charity each week (see below): \nNight 1 | Sept 12 | Moana 2: Sanctuary HouseNight 2 | Sept 19 | The Mighty Ducks: Toy & TurkeyNight 3 | Sept 26 | Paddington In Peru: We’ve Got Your Back River ValleyNight 4 | Oct 3 | Lilo & Stitch: Valley Food Bank \nAdmission is by donation \nThe District is grateful for their partners: McCain Foods (Canada) & Home Zone Electronics
URL:https://carletonnorth.com/event/drive-in-movie-night-4/
LOCATION:200 Main St\, Bath\, NB E7L 2B6\, Canada
CATEGORIES:Community Calendar
END:VEVENT
END:VCALENDAR