BEGIN:VCALENDAR
VERSION:2.0
PRODID:-//District of Carleton North - ECPv6.15.20//NONSGML v1.0//EN
CALSCALE:GREGORIAN
METHOD:PUBLISH
X-WR-CALNAME:District of Carleton North
X-ORIGINAL-URL:https://carletonnorth.com
X-WR-CALDESC:Events for District of Carleton North
REFRESH-INTERVAL;VALUE=DURATION:PT1H
X-Robots-Tag:noindex
X-PUBLISHED-TTL:PT1H
BEGIN:VTIMEZONE
TZID:America/Halifax
BEGIN:DAYLIGHT
TZOFFSETFROM:-0400
TZOFFSETTO:-0300
TZNAME:ADT
DTSTART:20240310T060000
END:DAYLIGHT
BEGIN:STANDARD
TZOFFSETFROM:-0300
TZOFFSETTO:-0400
TZNAME:AST
DTSTART:20241103T050000
END:STANDARD
BEGIN:DAYLIGHT
TZOFFSETFROM:-0400
TZOFFSETTO:-0300
TZNAME:ADT
DTSTART:20250309T060000
END:DAYLIGHT
BEGIN:STANDARD
TZOFFSETFROM:-0300
TZOFFSETTO:-0400
TZNAME:AST
DTSTART:20251102T050000
END:STANDARD
BEGIN:DAYLIGHT
TZOFFSETFROM:-0400
TZOFFSETTO:-0300
TZNAME:ADT
DTSTART:20260308T060000
END:DAYLIGHT
BEGIN:STANDARD
TZOFFSETFROM:-0300
TZOFFSETTO:-0400
TZNAME:AST
DTSTART:20261101T050000
END:STANDARD
END:VTIMEZONE
BEGIN:VEVENT
DTSTART;TZID=America/Halifax:20250604T083000
DTEND;TZID=America/Halifax:20250604T103000
DTSTAMP:20260422T190805
CREATED:20250603T133814Z
LAST-MODIFIED:20250603T133814Z
UID:4599079-1749025800-1749033000@carletonnorth.com
SUMMARY:Novice Pickleball Drop-Ins
DESCRIPTION:Novice Pickleball Drop-ins\, Wednesdays from 8:30AM-10:30AMR.G. “Bun” Veysey Active Living CentreAll ages and skill levels welcomeCost: $3- Adults $2-Senior/55+ \n \nFor any questions\, please contact: \n📧 recreation@carletonnorth.com \n☎ (506) 392-6763 Ext. 220
URL:https://carletonnorth.com/event/novice-pickleball-drop-ins-37/
LOCATION:40 McCain St\, Florenceville-Bristol\, NB E7L 3J4\, Canada
CATEGORIES:Community Calendar
END:VEVENT
BEGIN:VEVENT
DTSTART;TZID=America/Halifax:20250604T100000
DTEND;TZID=America/Halifax:20250604T110000
DTSTAMP:20260422T190805
CREATED:20250603T133807Z
LAST-MODIFIED:20250604T135248Z
UID:4599078-1749031200-1749034800@carletonnorth.com
SUMMARY:Senior Stretching
DESCRIPTION:Date:  Weekly Every Wednesday in JuneTime:  10:00AM – 11:00AMLocation:  Shiktehawk Place \nEvent Details: \nNursing Home Without Walls is offering Senior Stretching at Shiktehawk Place at 10:00am.  This is a great opportunity to get moving and to socialize.  Includes some light seated exercise. \nFor more information or to join contact NHWW (506)278-3197
URL:https://carletonnorth.com/event/senior-stretching-50/
LOCATION:Shiktehawk Place
CATEGORIES:Community Calendar
END:VEVENT
BEGIN:VEVENT
DTSTART;TZID=America/Halifax:20250604T111500
DTEND;TZID=America/Halifax:20250604T121500
DTSTAMP:20260422T190805
CREATED:20250603T133821Z
LAST-MODIFIED:20250604T135249Z
UID:4599080-1749035700-1749039300@carletonnorth.com
SUMMARY:Senior Stretching
DESCRIPTION:Date:  Weekly Every Wednesday in JuneTime:  11:15AM – 12:15PMLocation:  Centreville Baptist ChurchEvent Details: \nNursing Home Without Walls is offering Senior Stretching at Centreville Baptist at 11:15am.  This is a great opportunity to get moving and to socialize.  Includes some light seated exercise with NHWW staff. \nFor more information or to join contact NHWW (506) 278-3197
URL:https://carletonnorth.com/event/senior-stretching-51/
LOCATION:Shiktehawk Place
CATEGORIES:Community Calendar
END:VEVENT
BEGIN:VEVENT
DTSTART;TZID=America/Halifax:20250604T130000
DTEND;TZID=America/Halifax:20250604T160000
DTSTAMP:20260422T190806
CREATED:20250603T133830Z
LAST-MODIFIED:20250604T135249Z
UID:4599081-1749042000-1749052800@carletonnorth.com
SUMMARY:Senior Puzzles\, Social & Cards
DESCRIPTION:They have snacks\, tea\, and play a variation of puzzles. you can also bring puzzles to trade!\nfrom 1pm-4pm $3 for entry (55+)\nEnjoy an afternoon of card games\, snacks\, and fun!
URL:https://carletonnorth.com/event/senior-puzzles-social-cards-53/
LOCATION:40 McCain St\, Florenceville-Bristol\, NB E7L 3J4\, Canada
CATEGORIES:Community Calendar
END:VEVENT
BEGIN:VEVENT
DTSTART;TZID=America/Halifax:20250604T173000
DTEND;TZID=America/Halifax:20250604T203000
DTSTAMP:20260422T190806
CREATED:20250603T133837Z
LAST-MODIFIED:20250604T135250Z
UID:4599082-1749058200-1749069000@carletonnorth.com
SUMMARY:Rockwall Drop-in
DESCRIPTION:Rockwall Drop-ins\nCost: $3 Adult | $2 55+\n506-392-6763 ext 220 for more information
URL:https://carletonnorth.com/event/rockwall-drop-in-53/
LOCATION:40 McCain St\, Florenceville-Bristol\, NB E7L 3J4\, Canada
CATEGORIES:Community Calendar
END:VEVENT
BEGIN:VEVENT
DTSTART;TZID=America/Halifax:20250605T080000
DTEND;TZID=America/Halifax:20250605T180000
DTSTAMP:20260422T190806
CREATED:20250603T133924Z
LAST-MODIFIED:20250605T140742Z
UID:4599088-1749110400-1749146400@carletonnorth.com
SUMMARY:Yard Sale Fundraiser
DESCRIPTION:Date:  May 22\, 2025Time:  8:00AM – 6:00PMLocation:  Bannon Bible Camp\, 85 Jericho Rd\, Bannon \nStarting May 22 and open each weekend until June 21.  \nYard Sale open Thursdays and Fridays 8am to 6pm; Saturdays 8am to Noon. \nProceeds for Bannon Bible Camp.  \nContact Ruth Sawler at ruan@nbnet.nb.ca.
URL:https://carletonnorth.com/event/yard-sale-fundraiser-7/
LOCATION:Bannon Bible Camp\, 85 Jericho Rd\, Bannon\, NB E7L 3T1\, Canada
CATEGORIES:Community Calendar
END:VEVENT
BEGIN:VEVENT
DTSTART;TZID=America/Halifax:20250605T130000
DTEND;TZID=America/Halifax:20250605T150000
DTSTAMP:20260422T190806
CREATED:20250603T133844Z
LAST-MODIFIED:20250605T140741Z
UID:4599083-1749128400-1749135600@carletonnorth.com
SUMMARY:Drop -In  Adult/Senior Pickleball
DESCRIPTION:Adult/Senior Pickleball Drop-Ins \nDate:  Wednesdays  Time:   1:00AM-3:00PMLocation:  R.G. “Bun” Veysey Active Living Centre \nEvent Details:All skill levels welcomeCost: $3- Adults $2-Senior/55+ \nFor any questions\, please contact:📧 recreation@carletonnorth.com☎ (506) 392-6763 Ext. 220
URL:https://carletonnorth.com/event/drop-in-adult-senior-pickleball/
LOCATION:R. G. “Bun” Veysey Active Living Centre\, 40 McCain St\, Florenceville-Bristol\, NB E7L 3J4\, Canada
CATEGORIES:Community Calendar
END:VEVENT
BEGIN:VEVENT
DTSTART;TZID=America/Halifax:20250605T130000
DTEND;TZID=America/Halifax:20250605T150000
DTSTAMP:20260422T190806
CREATED:20250603T133854Z
LAST-MODIFIED:20250605T140740Z
UID:4599084-1749128400-1749135600@carletonnorth.com
SUMMARY:Rockwall Drop-Ins
DESCRIPTION:Rockwall Drop-ins\nCost: $3 Adult | $2 55+\n506-392-6763 ext 220 for more information
URL:https://carletonnorth.com/event/rockwall-drop-ins-156/
LOCATION:R. G. “Bun” Veysey Active Living Centre\, 40 McCain Street\, Florenceville-Bristol\, NB
CATEGORIES:Community Calendar
END:VEVENT
BEGIN:VEVENT
DTSTART;TZID=America/Halifax:20250605T170000
DTEND;TZID=America/Halifax:20250605T190000
DTSTAMP:20260422T190806
CREATED:20250603T133901Z
LAST-MODIFIED:20250605T140742Z
UID:4599085-1749142800-1749150000@carletonnorth.com
SUMMARY:Ladies Night Pickleball Drop-In
DESCRIPTION:Ladies  Night Pickleball Drop-In \nDate:  Wednesdays  Time:   1:00AM-3:00PMLocation:  R.G. “Bun” Veysey Active Living Centre \nEvent Details:All skill levels welcomeCost: $3- Adults $2-Senior/55+ \nFor any questions\, please contact:📧 recreation@carletonnorth.com☎ (506) 392-6763 Ext. 220
URL:https://carletonnorth.com/event/ladies-night-pickleball-drop-in/
LOCATION:R. G. “Bun” Veysey Active Living Centre\, 40 McCain St\, Florenceville-Bristol\, NB E7L 3J4\, Canada
CATEGORIES:Community Calendar
END:VEVENT
BEGIN:VEVENT
DTSTART;TZID=America/Halifax:20250605T173000
DTEND;TZID=America/Halifax:20250605T203000
DTSTAMP:20260422T190806
CREATED:20250603T133917Z
LAST-MODIFIED:20250605T140741Z
UID:4599087-1749144600-1749155400@carletonnorth.com
SUMMARY:Rockwall Drop-ins
DESCRIPTION:Rockwall Drop-ins\nCost: $3 Adult | $2 55+\nThursdays\n1:00PM-3:00PM\n5:30PM-8:30PM\nFor more information: 506-392-6763 ext. 220
URL:https://carletonnorth.com/event/rockwall-drop-ins-157/
LOCATION:40 McCain St\, Florenceville-Bristol\, NB E7L 3J4\, Canada
CATEGORIES:Community Calendar
END:VEVENT
BEGIN:VEVENT
DTSTART;TZID=America/Halifax:20250605T180000
DTEND;TZID=America/Halifax:20250605T200000
DTSTAMP:20260422T190806
CREATED:20250603T133908Z
LAST-MODIFIED:20250605T140742Z
UID:4599086-1749146400-1749153600@carletonnorth.com
SUMMARY:Clay Handbuilding - Newbie Night
DESCRIPTION:Whether you’ve got a current project or are a brand-newbie wanting to explore clay\, join instructor Jenna Ross & other friendly clay-lovers for a casual evening of creativity at the River Art Centre & Studios. \nNo registration required. Basic instruction is provided to get you started. ….Bring your ideas\, gusto\, project dreams & we’ll see what happens! \nFee to attend each Drop-in is $5 per person. The first (bisque) firing of any pot you decide to keep costs $10 each piece. Then Glazing costs an additional $10 each piece. \nChildren aged 7-14 welcome to participate if accompanied by an adult. No experience necessary\, just an openness to try! See you there! \nFor more information contact the Gallery. info@mccainartgallery.com 506-392-6769
URL:https://carletonnorth.com/event/clay-handbuilding-newbie-night-4/
LOCATION:8746 Main St\, Florenceville-Bristol\, NB E7L 3G5\, Canada
CATEGORIES:Community Calendar
END:VEVENT
BEGIN:VEVENT
DTSTART;TZID=America/Halifax:20250606T080000
DTEND;TZID=America/Halifax:20250606T180000
DTSTAMP:20260422T190806
CREATED:20250603T133940Z
LAST-MODIFIED:20250606T142324Z
UID:4599090-1749196800-1749232800@carletonnorth.com
SUMMARY:Yard Sale Fundraiser
DESCRIPTION:Starting May 22 and open each weekend until June 21.  \nYard Sale open Thursdays and Fridays 8am to 6pm; Saturdays 8am to Noon. \nProceeds for Bannon Bible Camp.  \nContact Ruth Sawler at ruan@nbnet.nb.ca.
URL:https://carletonnorth.com/event/yard-sale-fundraiser-8/
LOCATION:Bannon Bible Camp\, 85 Jericho Rd\, Bannon\, NB E7L 3T1\, Canada
CATEGORIES:Community Calendar
END:VEVENT
BEGIN:VEVENT
DTSTART;TZID=America/Halifax:20250606T083000
DTEND;TZID=America/Halifax:20250606T103000
DTSTAMP:20260422T190806
CREATED:20250603T133932Z
LAST-MODIFIED:20250605T140743Z
UID:4599089-1749198600-1749205800@carletonnorth.com
SUMMARY:Drop-in Pickleball - Adult/Senior
DESCRIPTION:Drop-In Senior/Adult PickleballDate:  TuesdaysTime:   8:30AM – 10:30AMLocation:  R.G. “Bun” Veysey Active Living Centre \nDetails:  \nAll skill levels welcomeCost: $3- Adults $2-Senior/55+ \nFor any questions\, please contact:📧 recreation@carletonnorth.com☎ (506) 392-6763 Ext. 220
URL:https://carletonnorth.com/event/drop-in-pickleball-adult-senior/
LOCATION:40 McCain St\, Florenceville-Bristol\, NB E7L 3J4\, Canada\, Northern Carleton Recreation Centre
CATEGORIES:Community Calendar
END:VEVENT
BEGIN:VEVENT
DTSTART;TZID=America/Halifax:20250606T173000
DTEND;TZID=America/Halifax:20250606T203000
DTSTAMP:20260422T190806
CREATED:20250603T133947Z
LAST-MODIFIED:20250606T142323Z
UID:4599091-1749231000-1749241800@carletonnorth.com
SUMMARY:Rock Wall Drop-Ins
DESCRIPTION:Rockwall Drop-insCost: $3 Adult | $2 55+ \n For more information: 506-392-6763 ext. 220
URL:https://carletonnorth.com/event/rock-wall-drop-ins-6/
LOCATION:R. G. “Bun” Veysey Active Living Centre\, 40 McCain St\, Florenceville-Bristol\, NB E7L 3J4\, Canada
CATEGORIES:Community Calendar
END:VEVENT
BEGIN:VEVENT
DTSTART;TZID=America/Halifax:20250606T180000
DTEND;TZID=America/Halifax:20250606T210000
DTSTAMP:20260422T190806
CREATED:20250603T133954Z
LAST-MODIFIED:20250606T142324Z
UID:4599092-1749232800-1749243600@carletonnorth.com
SUMMARY:Friday Night Social at Upper Kent Rec
DESCRIPTION:Friday Night Social at The Upper Kent Rec Centre \nFridays: 6:00PM – 9:00PM \nEntry by DonationFollow on Facebook for the weekly menu at https://www.facebook.com/profile.php?id=100082114163442
URL:https://carletonnorth.com/event/friday-night-social-at-upper-kent-rec-7/
LOCATION:Upper Kent Recreation Centre\, 240 Upper Kent Rd\, Upper Kent\, NB E7J 2E6\, Canada
CATEGORIES:Community Calendar
END:VEVENT
BEGIN:VEVENT
DTSTART;TZID=America/Halifax:20250607T080000
DTEND;TZID=America/Halifax:20250607T110000
DTSTAMP:20260422T190806
CREATED:20250603T134002Z
LAST-MODIFIED:20250606T142327Z
UID:4599093-1749283200-1749294000@carletonnorth.com
SUMMARY:Breakfast at Juniper Community Centre
DESCRIPTION:Don’t forget to join us for Breakfast  from 8am – 11am at the Juniper Community Centre.   Great company and a fantastic way to start your weekend. Everyone is welcome—bring your family\, friends\, and neighbors! 💛 \nBring someone who needs a delicious Saturday morning pick-me-up! 🍳🥓 \n#CommunityBreakfast #SaturdayVibes #GoodFoodGoodCompany \nhttps://www.facebook.com/JCC506
URL:https://carletonnorth.com/event/breakfast-at-juniper-community-centre-7/
LOCATION:Juniper Community Centre\, 267 Juniper Rd\, Juniper\, NB E7L 1H1\, Canada
CATEGORIES:Community Calendar
END:VEVENT
BEGIN:VEVENT
DTSTART;TZID=America/Halifax:20250607T080000
DTEND;TZID=America/Halifax:20250607T120000
DTSTAMP:20260422T190806
CREATED:20250603T134031Z
LAST-MODIFIED:20250607T143741Z
UID:4599097-1749283200-1749297600@carletonnorth.com
SUMMARY:Yard Sale Fundraiser
DESCRIPTION:Date:  May 22\, 2025Time:  8:00AM – 12:00PMLocation:  Bannon Bible Camp\, 85 Jericho Rd\, Bannon \nStarting May 22 and open each weekend until June 21.  \nYard Sale open Thursdays and Fridays 8am to 6pm; Saturdays 8am to Noon. \nProceeds for Bannon Bible Camp.  \nContact Ruth Sawler at ruan@nbnet.nb.ca.
URL:https://carletonnorth.com/event/yard-sale-fundraiser-9/
LOCATION:Bannon Bible Camp\, 85 Jericho Rd\, Bannon\, NB E7L 3T1\, Canada
CATEGORIES:Community Calendar
END:VEVENT
BEGIN:VEVENT
DTSTART;TZID=America/Halifax:20250607T090000
DTEND;TZID=America/Halifax:20250607T120000
DTSTAMP:20260422T190806
CREATED:20250603T134024Z
LAST-MODIFIED:20250607T143742Z
UID:4599096-1749286800-1749297600@carletonnorth.com
SUMMARY:Rockwall Drop-ins
DESCRIPTION:Rockwall Drop-ins\nCost: $3 Adult | $2 55+\nSaturdays & Sundays\n9:00AM-12:00PM\n3:30PM-6:30PM\nFor more information: 506-392-6763 ext. 220
URL:https://carletonnorth.com/event/rockwall-drop-ins-163/
LOCATION:R. G. “Bun” Veysey Active Living Centre\, 40 McCain St\, Florenceville-Bristol\, NB E7L 3J4\, Canada
CATEGORIES:Community Calendar
END:VEVENT
BEGIN:VEVENT
DTSTART;TZID=America/Halifax:20250607T100000
DTEND;TZID=America/Halifax:20250607T140000
DTSTAMP:20260422T190806
CREATED:20250606T142327Z
LAST-MODIFIED:20250607T143741Z
UID:4644910-1749290400-1749304800@carletonnorth.com
SUMMARY:Coin Show
DESCRIPTION:Coin ShowDate:  June 7\, 2025Time:  10:00AM – 2:00PMLocation:  Community Hall\, 8696 Main ST.  Florenceville-BristolEvent Details: Buy & Sell coins\, bank notes and tokens \nNo admission Fee \nSponsored by Darren Underhill & Paul DeMerchant
URL:https://carletonnorth.com/event/coin-show-2/
LOCATION:Florenceville-Bristol Community Hall\, 8696 Main St\, Florenceville-Bristol\, NB E7L 3G8\, Canada
CATEGORIES:Community Calendar
END:VEVENT
BEGIN:VEVENT
DTSTART;TZID=America/Halifax:20250607T100000
DTEND;TZID=America/Halifax:20250607T160000
DTSTAMP:20260422T190806
CREATED:20250603T134009Z
LAST-MODIFIED:20250607T143741Z
UID:4599094-1749290400-1749312000@carletonnorth.com
SUMMARY:DunRoamin's Family Fun Day
DESCRIPTION:DunRoamin’s Family Fun Day & Fundraiser \nDate: June 7\, 2025Time:  10:00AM -4:00PMLocation:  55 Allison Rd\, RiverbankFarm Market vendors\, live music including the Down River Band\, Wednesday Evening Fiddlers\, Never Too Late and more! Lots of kids games\, a silent auction\, bouncy castle\, yard sale\, thrift store\, and much more! Check out our Facebook page!! \nFundraiser: proceeds will be used to assist with cost of medical care for strays \n🐾 Live Music🐾 Market Vendors🐾 Food Vendors🐾 Yard Sale🐾 Children’s Games/Bouncy Castle🐾 Bake Sale (June 7th only)🐾 Reading for Rescues🐾 Thrift Store \ninquiries@dunroaminstrayandrescue.com \nhttps://www.facebook.com/DunRoamin.strayandrescue
URL:https://carletonnorth.com/event/dunroamin-family-day-event/
LOCATION:55 Allison Rd\, Riverbank\, NB E7L 4H9\, Canada
CATEGORIES:Community Calendar
END:VEVENT
BEGIN:VEVENT
DTSTART;TZID=America/Halifax:20250607T110000
DTEND;TZID=America/Halifax:20250607T140000
DTSTAMP:20260422T190806
CREATED:20250603T134016Z
LAST-MODIFIED:20250607T143742Z
UID:4599095-1749294000-1749304800@carletonnorth.com
SUMMARY:Bath Fire Department Open House: 60th Anniversary
DESCRIPTION:Bath Fire Department Open House: 60th AnniversaryJune 7 11:00AM-2:00PM \n🚨OPEN HOUSE🚨 \n🔥Join us on Saturday June 7th for our open house 🔥Help us celebrate Bath Fire Department turning 60!🔥Meet the firefighters🔥Tour the trucks and the stations 🔥Enjoy a BBQ🔥Take in demos and hands on fun🔥A short ceremony🔥Possible visit from Sparky \nCeremony and Speeches: 12:30PMhttps://www.facebook.com/profile.php?id=100080075350278
URL:https://carletonnorth.com/event/bath-fire-department-open-house-60th-anniversary/
LOCATION:Bath Fire Hall\, 241 Church St\, Bath\, ON K0H 1G0\, Canada
CATEGORIES:Community Calendar
END:VEVENT
BEGIN:VEVENT
DTSTART;TZID=America/Halifax:20250607T130000
DTEND;TZID=America/Halifax:20250607T150000
DTSTAMP:20260422T190806
CREATED:20250603T134037Z
LAST-MODIFIED:20250607T143742Z
UID:4599098-1749301200-1749308400@carletonnorth.com
SUMMARY:Product Photography Workshop
DESCRIPTION:Date:  June\, 2025Time:  1:00PM – 3:00PMLocation:  River Art Centre;  8746 Main St. Florenceville-Bristol \nEvent Details: \nWant to take better photos of your products? Join us for a hands-on Product Photography workshop with David Bailey on Saturday\, June 7 from 1–3 PM at the River Art Centre! \nWhether you’re showcasing your work online\, building a website\, or boosting your social media\, this session will help you present your products in the best light—literally! \nCost:  $20 – Bring your own device & product \nContact the gallery to register: 506-392-6769 | info@mccainartgallery.comSpace is limited—don’t miss this creative opportunity with pro photographer David Bailey!
URL:https://carletonnorth.com/event/product-photography-workshop/
LOCATION:8746 Main St\, Florenceville-Bristol\, NB E7L 3G5\, Canada
CATEGORIES:Community Calendar
END:VEVENT
BEGIN:VEVENT
DTSTART;TZID=America/Halifax:20250607T153000
DTEND;TZID=America/Halifax:20250607T183000
DTSTAMP:20260422T190806
CREATED:20250603T134046Z
LAST-MODIFIED:20250607T143743Z
UID:4599099-1749310200-1749321000@carletonnorth.com
SUMMARY:Rockwall Drop-ins
DESCRIPTION:Rockwall Drop-ins\nCost: $3 Adult | $2 55+\nSaturdays & Sundays\n9:00AM-12:00PM\n3:30PM-6:30PM\nFor more information: 506-392-6763 ext. 220
URL:https://carletonnorth.com/event/rockwall-drop-ins-164/
LOCATION:R. G. “Bun” Veysey Active Living Centre\, 40 McCain St\, Florenceville-Bristol\, NB E7L 3J4\, Canada
CATEGORIES:Community Calendar
END:VEVENT
BEGIN:VEVENT
DTSTART;TZID=America/Halifax:20250608T090000
DTEND;TZID=America/Halifax:20250608T120000
DTSTAMP:20260422T190806
CREATED:20250603T134053Z
LAST-MODIFIED:20250608T145247Z
UID:4599100-1749373200-1749384000@carletonnorth.com
SUMMARY:Rockwall Drop-ins
DESCRIPTION:Rockwall Drop-ins\nCost: $3 Adult | $2 55+\nSaturdays & Sundays\n9:00AM-12:00PM\n3:30PM-6:30PM\nFor more information: 506-392-6763 ext. 220
URL:https://carletonnorth.com/event/rockwall-drop-ins-170/
LOCATION:R. G. “Bun” Veysey Active Living Centre\, 40 McCain St\, Florenceville-Bristol\, NB E7L 3J4\, Canada
CATEGORIES:Community Calendar
END:VEVENT
BEGIN:VEVENT
DTSTART;TZID=America/Halifax:20250608T153000
DTEND;TZID=America/Halifax:20250608T183000
DTSTAMP:20260422T190806
CREATED:20250603T134100Z
LAST-MODIFIED:20250608T145247Z
UID:4599101-1749396600-1749407400@carletonnorth.com
SUMMARY:Rockwall Drop-ins
DESCRIPTION:Rockwall Drop-ins\nCost: $3 Adult | $2 55+\nSaturdays & Sundays\n9:00AM-12:00PM\n3:30PM-6:30PM\nFor more information: 506-392-6763 ext. 220
URL:https://carletonnorth.com/event/rockwall-drop-ins-171/
LOCATION:R. G. “Bun” Veysey Active Living Centre\, 40 McCain St\, Florenceville-Bristol\, NB E7L 3J4\, Canada
CATEGORIES:Community Calendar
END:VEVENT
BEGIN:VEVENT
DTSTART;TZID=America/Halifax:20250608T190000
DTEND;TZID=America/Halifax:20250608T210000
DTSTAMP:20260422T190806
CREATED:20250603T134108Z
LAST-MODIFIED:20250608T145248Z
UID:4599102-1749409200-1749416400@carletonnorth.com
SUMMARY:Kin Club Bingo
DESCRIPTION:The Kin Club Weekly Bingo Takes Place every Sunday\, with door opening at 6pm and games starting at 7pm.\nCost: $10 books\, $5 books\, $1 Specials and $25 package deals and more.
URL:https://carletonnorth.com/event/kin-club-bingo-75/
LOCATION:Florenceville Kin Center\, 381 Centreville Rd\, Florenceville-Bristol\, NB E7L 3K5\, Canada
CATEGORIES:Community Calendar
END:VEVENT
BEGIN:VEVENT
DTSTART;TZID=America/Halifax:20250609T130000
DTEND;TZID=America/Halifax:20250609T140000
DTSTAMP:20260422T190806
CREATED:20250603T134122Z
LAST-MODIFIED:20250609T150846Z
UID:4599104-1749474000-1749477600@carletonnorth.com
SUMMARY:Senior Stretching
DESCRIPTION:Date:  Every Monday in JuneTime:  1:00PM – 2:00PMLocation:  Beechwood Senior ComplexEvent Details:   \nNursing Home Without Walls is offering Senior Stretching at Beechwood Senior Complex at 1:00pm.  This is a great opportunity to get moving and to socialize.  Includes some light seated exercise with NHWW staff. For more information or to join call NHWW (506) 278-3197
URL:https://carletonnorth.com/event/senior-stretching-53/
LOCATION:Beechwood Senior Complex
CATEGORIES:Community Calendar
END:VEVENT
BEGIN:VEVENT
DTSTART;TZID=America/Halifax:20250609T140000
DTEND;TZID=America/Halifax:20250609T150000
DTSTAMP:20260422T190806
CREATED:20250603T134115Z
LAST-MODIFIED:20250609T150846Z
UID:4599103-1749477600-1749481200@carletonnorth.com
SUMMARY:Senior Stretching
DESCRIPTION:Date:  Weekly every Monday in JuneTIme:  2:00PM – 3:00PMLocation:   River View Manor Complex \nEvent Details: \nNursing Home Without Walls is offering Senior Stretching at River View Manor Complex at 2:00pm.  This is a great opportunity to get moving and to socialize.  Includes some light seated exercise with NHWW staff. \nFor more information or to join call NHWW (506)278-3197
URL:https://carletonnorth.com/event/senior-stretching-52/
LOCATION:River View Manor Complex\, 96 Hospital St\, Bath\, NB E7J 1B9\, Canada
CATEGORIES:Community Calendar
END:VEVENT
BEGIN:VEVENT
DTSTART;TZID=America/Halifax:20250609T160000
DTEND;TZID=America/Halifax:20250609T190000
DTSTAMP:20260422T190806
CREATED:20250609T150847Z
LAST-MODIFIED:20250609T150847Z
UID:4689690-1749484800-1749495600@carletonnorth.com
SUMMARY:Rockwall Drop-in
DESCRIPTION:Rockwall Drop-ins\nCost: $3 Adult | $2 55+\n506-392-6763 ext 220 for more information
URL:https://carletonnorth.com/event/rockwall-drop-in-215/
LOCATION:40 McCain St\, Florenceville-Bristol\, NB E7L 3J4\, Canada
CATEGORIES:Community Calendar
END:VEVENT
BEGIN:VEVENT
DTSTART;TZID=America/Halifax:20250610T083000
DTEND;TZID=America/Halifax:20250610T103000
DTSTAMP:20260422T190806
CREATED:20250606T142331Z
LAST-MODIFIED:20250609T150847Z
UID:4644911-1749544200-1749551400@carletonnorth.com
SUMMARY:Regular Drop-in Pickleball
DESCRIPTION:Adult/Senior Drop-In PickleballDate:  Weekly on TuesdaysTime:   8:30AM – 10:30AMLocation:  R.G. “Bun” Veysey Active Living Centre \nDetails:  \nAll skill levels welcomeCost: $3- Adults $2-Senior/55+ \nFor any questions\, please contact:📧 recreation@carletonnorth.com☎ (506) 392-6763 Ext. 220
URL:https://carletonnorth.com/event/regular-drop-in-pickleball/
LOCATION:40 McCain St\, Florenceville-Bristol\, NB E7L 3J4\, Canada\, Northern Carleton Recreation Centre
CATEGORIES:Community Calendar
END:VEVENT
END:VCALENDAR