BEGIN:VCALENDAR
VERSION:2.0
PRODID:-//District of Carleton North - ECPv6.15.20//NONSGML v1.0//EN
CALSCALE:GREGORIAN
METHOD:PUBLISH
X-ORIGINAL-URL:https://carletonnorth.com
X-WR-CALDESC:Events for District of Carleton North
REFRESH-INTERVAL;VALUE=DURATION:PT1H
X-Robots-Tag:noindex
X-PUBLISHED-TTL:PT1H
BEGIN:VTIMEZONE
TZID:America/Halifax
BEGIN:DAYLIGHT
TZOFFSETFROM:-0400
TZOFFSETTO:-0300
TZNAME:ADT
DTSTART:20240310T060000
END:DAYLIGHT
BEGIN:STANDARD
TZOFFSETFROM:-0300
TZOFFSETTO:-0400
TZNAME:AST
DTSTART:20241103T050000
END:STANDARD
BEGIN:DAYLIGHT
TZOFFSETFROM:-0400
TZOFFSETTO:-0300
TZNAME:ADT
DTSTART:20250309T060000
END:DAYLIGHT
BEGIN:STANDARD
TZOFFSETFROM:-0300
TZOFFSETTO:-0400
TZNAME:AST
DTSTART:20251102T050000
END:STANDARD
BEGIN:DAYLIGHT
TZOFFSETFROM:-0400
TZOFFSETTO:-0300
TZNAME:ADT
DTSTART:20260308T060000
END:DAYLIGHT
BEGIN:STANDARD
TZOFFSETFROM:-0300
TZOFFSETTO:-0400
TZNAME:AST
DTSTART:20261101T050000
END:STANDARD
END:VTIMEZONE
BEGIN:VEVENT
DTSTART;VALUE=DATE:20250530
DTEND;VALUE=DATE:20250531
DTSTAMP:20260422T192541
CREATED:20250503T175404Z
LAST-MODIFIED:20250530T083823Z
UID:4158285-1748563200-1748649599@carletonnorth.com
SUMMARY:NHWW Grocery Run-Woodstock
DESCRIPTION:Nursing Home Without Walls is offering FREE transportation for a Grocery Run.  Do you find it difficult to get to the larger grocery stores? Leave the driving and parking to us.  Multiple pick up/drop off locations between Bath\, Florenceville-Bristol\, and Centreville can be arranged.  \n \n Reach out to inquire 506-278-3197\, limited seats available.   \nLast day to register is May 20th
URL:https://carletonnorth.com/event/nhww-grocery-run-woodstock/
LOCATION:Woodstock\, NB\, Canada
CATEGORIES:Community Calendar
END:VEVENT
BEGIN:VEVENT
DTSTART;TZID=America/Halifax:20250530T080000
DTEND;TZID=America/Halifax:20250530T180000
DTSTAMP:20260422T192541
CREATED:20250507T185342Z
LAST-MODIFIED:20250530T083825Z
UID:4217091-1748592000-1748628000@carletonnorth.com
SUMMARY:Yard Sale Fundraiser
DESCRIPTION:Starting May 22 and open each weekend until June 21.  \nYard Sale open Thursdays and Fridays 8am to 6pm; Saturdays 8am to Noon. \nProceeds for Bannon Bible Camp.  \nContact Ruth Sawler at ruan@nbnet.nb.ca.
URL:https://carletonnorth.com/event/yard-sale-fundraiser-5/
LOCATION:Bannon Bible Camp\, 85 Jericho Rd\, Bannon\, NB E7L 3T1\, Canada
CATEGORIES:Community Calendar
END:VEVENT
BEGIN:VEVENT
DTSTART;TZID=America/Halifax:20250530T083000
DTEND;TZID=America/Halifax:20250530T103000
DTSTAMP:20260422T192541
CREATED:20250306T194003Z
LAST-MODIFIED:20250530T083823Z
UID:3308866-1748593800-1748601000@carletonnorth.com
SUMMARY:Drop-in Pickleball
DESCRIPTION:Tuesday & Friday Pickleball\, 8:30AM-10:30AMR.G. “Bun” Veysey Active Living CentreAll ages and skill levels welcomeCost: $3- Adults $2-Senior/55+ \nFor any questions\, please contact: \n📧 recreation@carletonnorth.com \n☎ (506) 392-6763 Ext. 220
URL:https://carletonnorth.com/event/drop-in-pickleball-189/
LOCATION:40 McCain St\, Florenceville-Bristol\, NB E7L 3J4\, Canada\, Northern Carleton Recreation Centre
CATEGORIES:Community Calendar
END:VEVENT
BEGIN:VEVENT
DTSTART;TZID=America/Halifax:20250530T103000
DTEND;TZID=America/Halifax:20250530T113000
DTSTAMP:20260422T192541
CREATED:20250401T095428Z
LAST-MODIFIED:20250530T083824Z
UID:3684269-1748601000-1748604600@carletonnorth.com
SUMMARY:Talk With Me:  Song & Rhymes
DESCRIPTION:Come play\, learn and grow together!  Fun and engaging activities for children aged birth-5 years.  Activities include story time and singing\, arts and crafts.\nFor more information and to register call 1-866-423-8800 or visit Talk With Me Program – Woodstock facebook page.
URL:https://carletonnorth.com/event/talk-with-me-song-rhymes-9/
LOCATION:Andrew & Laura McCain Public Library\, 8 McCain St\, Florenceville-Bristol\, NB E7L 3H6\, Canada
CATEGORIES:Community Calendar
END:VEVENT
BEGIN:VEVENT
DTSTART;TZID=America/Halifax:20250530T173000
DTEND;TZID=America/Halifax:20250530T203000
DTSTAMP:20260422T192541
CREATED:20250501T172315Z
LAST-MODIFIED:20250530T083824Z
UID:4127621-1748626200-1748637000@carletonnorth.com
SUMMARY:Rock Wall Drop-Ins
DESCRIPTION:Rockwall Drop-insCost: $3 Adult | $2 55+ \n For more information: 506-392-6763 ext. 220
URL:https://carletonnorth.com/event/rock-wall-drop-ins-5/
LOCATION:R. G. “Bun” Veysey Active Living Centre\, 40 McCain St\, Florenceville-Bristol\, NB E7L 3J4\, Canada
CATEGORIES:Community Calendar
END:VEVENT
BEGIN:VEVENT
DTSTART;TZID=America/Halifax:20250530T180000
DTEND;TZID=America/Halifax:20250530T210000
DTSTAMP:20260422T192541
CREATED:20250424T153840Z
LAST-MODIFIED:20250530T083825Z
UID:4025438-1748628000-1748638800@carletonnorth.com
SUMMARY:Friday Night Social at Upper Kent Rec
DESCRIPTION:Friday Night Social at The Upper Kent Rec Centre \nFridays: 6:00PM – 9:00PM \nEntry by DonationFollow on Facebook for the weekly menu at https://www.facebook.com/profile.php?id=100082114163442
URL:https://carletonnorth.com/event/friday-night-social-at-upper-kent-rec-6/
LOCATION:Upper Kent Recreation Centre\, 240 Upper Kent Rd\, Upper Kent\, NB E7J 2E6\, Canada
CATEGORIES:Community Calendar
END:VEVENT
BEGIN:VEVENT
DTSTART;TZID=America/Halifax:20250531T080000
DTEND;TZID=America/Halifax:20250531T110000
DTSTAMP:20260422T192541
CREATED:20250424T153840Z
LAST-MODIFIED:20250531T085250Z
UID:4025439-1748678400-1748689200@carletonnorth.com
SUMMARY:Breakfast at Juniper Community Centre
DESCRIPTION:Don’t forget to join us for Breakfast  from 8am – 11am at the Juniper Community Centre.   Great company and a fantastic way to start your weekend. Everyone is welcome—bring your family\, friends\, and neighbors! 💛 \nBring someone who needs a delicious Saturday morning pick-me-up! 🍳🥓 \n#CommunityBreakfast #SaturdayVibes #GoodFoodGoodCompany \nhttps://www.facebook.com/JCC506
URL:https://carletonnorth.com/event/breakfast-at-juniper-community-centre-6/
LOCATION:Juniper Community Centre\, 267 Juniper Rd\, Juniper\, NB E7L 1H1\, Canada
CATEGORIES:Community Calendar
END:VEVENT
BEGIN:VEVENT
DTSTART;TZID=America/Halifax:20250531T080000
DTEND;TZID=America/Halifax:20250531T110000
DTSTAMP:20260422T192541
CREATED:20250424T153840Z
LAST-MODIFIED:20250531T085248Z
UID:4025440-1748678400-1748689200@carletonnorth.com
SUMMARY:Pancake Breakfast: Knowlesville Art & Nature Centre
DESCRIPTION:Come enjoy plate of Speerville Flour pancakes\, fruit\, coffee & tea and the family friendly atmosphere of the Knowlesville Art & Nature Centre\nMonthly Pancake Breakfast\n8:00AM to 11:00AM \nCost is by donation\, with all proceeds going to the Knowlesville Art & Nature Centre
URL:https://carletonnorth.com/event/pancake-breakfast-knowlesville-art-nature-centre-2/
LOCATION:111 Simms Rd\, Knowlesville\, NB E7L 4P7\, Canada
CATEGORIES:Community Calendar
END:VEVENT
BEGIN:VEVENT
DTSTART;TZID=America/Halifax:20250531T080000
DTEND;TZID=America/Halifax:20250531T120000
DTSTAMP:20260422T192541
CREATED:20250507T185344Z
LAST-MODIFIED:20250531T085249Z
UID:4217092-1748678400-1748692800@carletonnorth.com
SUMMARY:Yard Sale Fundraiser
DESCRIPTION:Date:  May 22\, 2025Time:  8:00AM – 12:00PMLocation:  Bannon Bible Camp\, 85 Jericho Rd\, Bannon \nStarting May 22 and open each weekend until June 21.  \nYard Sale open Thursdays and Fridays 8am to 6pm; Saturdays 8am to Noon. \nProceeds for Bannon Bible Camp.  \nContact Ruth Sawler at ruan@nbnet.nb.ca.
URL:https://carletonnorth.com/event/yard-sale-fundraiser-6/
LOCATION:Bannon Bible Camp\, 85 Jericho Rd\, Bannon\, NB E7L 3T1\, Canada
CATEGORIES:Community Calendar
END:VEVENT
BEGIN:VEVENT
DTSTART;TZID=America/Halifax:20250531T090000
DTEND;TZID=America/Halifax:20250531T120000
DTSTAMP:20260422T192541
CREATED:20250417T135354Z
LAST-MODIFIED:20250531T085249Z
UID:3921913-1748682000-1748692800@carletonnorth.com
SUMMARY:Rockwall Drop-ins
DESCRIPTION:Rockwall Drop-ins\nCost: $3 Adult | $2 55+\nSaturdays & Sundays\n9:00AM-12:00PM\n3:30PM-6:30PM\nFor more information: 506-392-6763 ext. 220
URL:https://carletonnorth.com/event/rockwall-drop-ins-561/
LOCATION:R. G. “Bun” Veysey Active Living Centre\, 40 McCain St\, Florenceville-Bristol\, NB E7L 3J4\, Canada
CATEGORIES:Community Calendar
END:VEVENT
BEGIN:VEVENT
DTSTART;TZID=America/Halifax:20250531T110000
DTEND;TZID=America/Halifax:20250531T140000
DTSTAMP:20260422T192541
CREATED:20250514T203913Z
LAST-MODIFIED:20250531T085248Z
UID:4320836-1748689200-1748700000@carletonnorth.com
SUMMARY:Farewell BBQ Fundraiser
DESCRIPTION:Farewell BBQ FundraiserArmour’s MeatsMay 31st 11:00AM – 2:00PM \nAll money raised will be donated to The Bath Fire DepartmentMenu: Hamburgers\, Hot Dogs\, French Fries\, Pop\, Water \n\nThere will be a draw for a Blackstone Tailgater BBQ\,with a value of around $750.00 and door prizes \nPlan to stop by and have some greatfood. \n 
URL:https://carletonnorth.com/event/farewell-bbq-fundraiser/
LOCATION:Armour’s Meat Ltd\, 9938 NB-105\, Beechwood\, NB E7J 1V7\, Canada
CATEGORIES:Community Calendar
END:VEVENT
BEGIN:VEVENT
DTSTART;TZID=America/Halifax:20250531T140000
DTEND;TZID=America/Halifax:20250531T160000
DTSTAMP:20260422T192541
CREATED:20250424T153841Z
LAST-MODIFIED:20250531T085250Z
UID:4025441-1748700000-1748707200@carletonnorth.com
SUMMARY:Juniper Community Centre Jamboree
DESCRIPTION:Juniper Community Centre Jamboree2:00PM to 4:00PMThe last Saturday of the Month: follow https://www.facebook.com/JCC506 on Facebook \n \nLive Music by local performers  \nLight Lunch to share with friends and neighbors  \nDoor Prizes for a little extra excitement  \n50/50 Draw – Try your luck and support a great cause!  \nAdmission: By donation – Your contributions help support our community efforts! \nBring your family\, invite your friends\, and let’s make it an afternoon to remember! \nEmail: junipercommunitycentre@gmail.comjunipercc.ca
URL:https://carletonnorth.com/event/juniper-community-centre-jamboree-2/
LOCATION:Juniper Community Centre\, 267 Juniper Rd\, Juniper\, NB E7L 1H1\, Canada
CATEGORIES:Community Calendar
END:VEVENT
BEGIN:VEVENT
DTSTART;TZID=America/Halifax:20250531T153000
DTEND;TZID=America/Halifax:20250531T183000
DTSTAMP:20260422T192541
CREATED:20250417T135355Z
LAST-MODIFIED:20250531T085250Z
UID:3921914-1748705400-1748716200@carletonnorth.com
SUMMARY:Rockwall Drop-ins
DESCRIPTION:Rockwall Drop-ins\nCost: $3 Adult | $2 55+\nSaturdays & Sundays\n9:00AM-12:00PM\n3:30PM-6:30PM\nFor more information: 506-392-6763 ext. 220
URL:https://carletonnorth.com/event/rockwall-drop-ins-562/
LOCATION:R. G. “Bun” Veysey Active Living Centre\, 40 McCain St\, Florenceville-Bristol\, NB E7L 3J4\, Canada
CATEGORIES:Community Calendar
END:VEVENT
BEGIN:VEVENT
DTSTART;TZID=America/Halifax:20250601T090000
DTEND;TZID=America/Halifax:20250601T120000
DTSTAMP:20260422T192541
CREATED:20250417T135356Z
LAST-MODIFIED:20250531T085251Z
UID:3921915-1748768400-1748779200@carletonnorth.com
SUMMARY:Rockwall Drop-ins
DESCRIPTION:Rockwall Drop-ins\nCost: $3 Adult | $2 55+\nSaturdays & Sundays\n9:00AM-12:00PM\n3:30PM-6:30PM\nFor more information: 506-392-6763 ext. 220
URL:https://carletonnorth.com/event/rockwall-drop-ins-563/
LOCATION:R. G. “Bun” Veysey Active Living Centre\, 40 McCain St\, Florenceville-Bristol\, NB E7L 3J4\, Canada
CATEGORIES:Community Calendar
END:VEVENT
BEGIN:VEVENT
DTSTART;TZID=America/Halifax:20250601T153000
DTEND;TZID=America/Halifax:20250601T183000
DTSTAMP:20260422T192541
CREATED:20250417T135356Z
LAST-MODIFIED:20250531T085251Z
UID:3921916-1748791800-1748802600@carletonnorth.com
SUMMARY:Rockwall Drop-ins
DESCRIPTION:Rockwall Drop-ins\nCost: $3 Adult | $2 55+\nSaturdays & Sundays\n9:00AM-12:00PM\n3:30PM-6:30PM\nFor more information: 506-392-6763 ext. 220
URL:https://carletonnorth.com/event/rockwall-drop-ins-564/
LOCATION:R. G. “Bun” Veysey Active Living Centre\, 40 McCain St\, Florenceville-Bristol\, NB E7L 3J4\, Canada
CATEGORIES:Community Calendar
END:VEVENT
BEGIN:VEVENT
DTSTART;TZID=America/Halifax:20250601T190000
DTEND;TZID=America/Halifax:20250601T210000
DTSTAMP:20260422T192541
CREATED:20250114T225958Z
LAST-MODIFIED:20250531T085252Z
UID:2564648-1748804400-1748811600@carletonnorth.com
SUMMARY:Kin Club Bingo
DESCRIPTION:The Kin Club Weekly Bingo Takes Place every Sunday\, with door opening at 6pm and games starting at 7pm.\nCost: $10 books\, $5 books\, $1 Specials and $25 package deals and more.
URL:https://carletonnorth.com/event/kin-club-bingo-74/
LOCATION:Florenceville Kin Center\, 381 Centreville Rd\, Florenceville-Bristol\, NB E7L 3K5\, Canada
CATEGORIES:Community Calendar
END:VEVENT
BEGIN:VEVENT
DTSTART;TZID=America/Halifax:20250602T173000
DTEND;TZID=America/Halifax:20250602T203000
DTSTAMP:20260422T192541
CREATED:20250114T225959Z
LAST-MODIFIED:20250531T085253Z
UID:2564650-1748885400-1748896200@carletonnorth.com
SUMMARY:Rockwall Drop-in
DESCRIPTION:Rockwall Drop-ins\nCost: $3 Adult | $2 55+\n506-392-6763 ext 220 for more information
URL:https://carletonnorth.com/event/rockwall-drop-in-51/
LOCATION:40 McCain St\, Florenceville-Bristol\, NB E7L 3J4\, Canada
CATEGORIES:Community Calendar
END:VEVENT
BEGIN:VEVENT
DTSTART;TZID=America/Halifax:20250602T180000
DTEND;TZID=America/Halifax:20250602T200000
DTSTAMP:20260422T192541
CREATED:20250515T205352Z
LAST-MODIFIED:20250531T085252Z
UID:4335295-1748887200-1748894400@carletonnorth.com
SUMMARY:Garden Club ANNUAL Plant Auction
DESCRIPTION:Annual Plant AuctionDate:  June 2\, 2025Time:  6:00PM – 8:00PMLocation:  Riverside Park Gazebo – 9173 Main Street Florenceville-BristolRain/weather Date:  June 9\, 2025  Location:   Riverside Park Gazebo – 9173 Main Street Florenceville-Bristol \nNot to Be Missed! Best Deals! \nEvent Details: \nBring along divided plants (annuals\, perennials\, house plants) extra seedlings\, Garden Art and pots to be auctioned off for our FUNDRAISER. \nNo invasive plants please! \nPlease LABEL PLANTS with as much info as possible: Plant name/variety\, annual\, perennial\, biennial\, colour\, plant height and any planting info. \nBring your own lawn chairs\, water and bug spray. \nQUESTIONS?  Contact: Michelle Corcoran mcorcoranRD@gmail.com \nProceeds help support Garden Club activities and events (meeting speakers\, projects\, garden tours\, etc.).
URL:https://carletonnorth.com/event/garden-club-annual-plant-auction/
LOCATION:Riverside Park\, 9173 Main St\, Florenceville-Bristol\, NB E7L 2Y3\, Canada
CATEGORIES:Community Calendar
END:VEVENT
BEGIN:VEVENT
DTSTART;TZID=America/Halifax:20250602T184500
DTEND;TZID=America/Halifax:20250602T204500
DTSTAMP:20260422T192541
CREATED:20250307T195605Z
LAST-MODIFIED:20250531T085253Z
UID:3323395-1748889900-1748897100@carletonnorth.com
SUMMARY:Ladies Night Pickleball
DESCRIPTION:Ladies Night Pickleball\nMondays 6:45PM  – 8:45PM\nCost: $3 Adult/ $2 55+\nContact Recreation Department:  506-392-6763 ext. 220 or recreation@carletonnorth.com
URL:https://carletonnorth.com/event/ladies-night-pickleball-95/
LOCATION:R. G. “Bun” Veysey Active Living Centre\, Florenceville-Bristol\, NB
CATEGORIES:Community Calendar
END:VEVENT
BEGIN:VEVENT
DTSTART;TZID=America/Halifax:20250603T093000
DTEND;TZID=America/Halifax:20250603T113000
DTSTAMP:20260422T192541
CREATED:20250603T133743Z
LAST-MODIFIED:20250603T133743Z
UID:4599075-1748943000-1748950200@carletonnorth.com
SUMMARY:Play Group: St. Leo's Church
DESCRIPTION:The Valley Family Resource Centre: Play GroupWednesdays 9:30AM – 11:30AMSt. Leo’s Church\, 60 Perkins Way\, Florenceville-BristolUse the Side\, Basement Door entrance \nRunning from September to JuneRegistration/More Information: 506-325-2299/ heidi.homer@frc-crf.comRegistration Form: https://docs.google.com/forms/d/e/1FAIpQLSfax8DDMZzgKvN6QzkDk9UuFZ_KswBWLHKVCf1A5eAyyktzvQ/viewform
URL:https://carletonnorth.com/event/play-group-st-leos-church-21/
LOCATION:St Leo the Great’s Church\, 60 Perkins Way\, Florenceville-Bristol\, NB E7L 3H9\, Canada
CATEGORIES:Community Calendar
END:VEVENT
BEGIN:VEVENT
DTSTART;TZID=America/Halifax:20250603T173000
DTEND;TZID=America/Halifax:20250603T203000
DTSTAMP:20260422T192541
CREATED:20250603T133750Z
LAST-MODIFIED:20250603T133750Z
UID:4599076-1748971800-1748982600@carletonnorth.com
SUMMARY:Rockwall Drop-in
DESCRIPTION:Rockwall Drop-ins\nCost: $3 Adult | $2 55+\n506-392-6763 ext 220 for more information
URL:https://carletonnorth.com/event/rockwall-drop-in-52/
LOCATION:40 McCain St\, Florenceville-Bristol\, NB E7L 3J4\, Canada
CATEGORIES:Community Calendar
END:VEVENT
BEGIN:VEVENT
DTSTART;TZID=America/Halifax:20250603T180000
DTEND;TZID=America/Halifax:20250603T210000
DTSTAMP:20260422T192541
CREATED:20250603T133758Z
LAST-MODIFIED:20250603T133758Z
UID:4599077-1748973600-1748984400@carletonnorth.com
SUMMARY:Tuesday Night Bingo
DESCRIPTION:Tuesday Night Bingo February 25th –  June 17th 2025 at the Upper Kent Rec Centre.  Doors open at 6:00pm – game starts at 7:00pm.  25 cents/3 cards/ toonie #/ final game winner takes all.  For more information\, check out Upper Kent Recreation Centre facebook page
URL:https://carletonnorth.com/event/tuesday-night-bingo-2/
LOCATION:240 Upper Kent Rd\, Upper Kent\, NB E7J 2E6\, Canada
CATEGORIES:Community Calendar
END:VEVENT
BEGIN:VEVENT
DTSTART;TZID=America/Halifax:20250604T083000
DTEND;TZID=America/Halifax:20250604T103000
DTSTAMP:20260422T192541
CREATED:20250603T133814Z
LAST-MODIFIED:20250603T133814Z
UID:4599079-1749025800-1749033000@carletonnorth.com
SUMMARY:Novice Pickleball Drop-Ins
DESCRIPTION:Novice Pickleball Drop-ins\, Wednesdays from 8:30AM-10:30AMR.G. “Bun” Veysey Active Living CentreAll ages and skill levels welcomeCost: $3- Adults $2-Senior/55+ \n \nFor any questions\, please contact: \n📧 recreation@carletonnorth.com \n☎ (506) 392-6763 Ext. 220
URL:https://carletonnorth.com/event/novice-pickleball-drop-ins-37/
LOCATION:40 McCain St\, Florenceville-Bristol\, NB E7L 3J4\, Canada
CATEGORIES:Community Calendar
END:VEVENT
BEGIN:VEVENT
DTSTART;TZID=America/Halifax:20250604T100000
DTEND;TZID=America/Halifax:20250604T110000
DTSTAMP:20260422T192541
CREATED:20250603T133807Z
LAST-MODIFIED:20250604T135248Z
UID:4599078-1749031200-1749034800@carletonnorth.com
SUMMARY:Senior Stretching
DESCRIPTION:Date:  Weekly Every Wednesday in JuneTime:  10:00AM – 11:00AMLocation:  Shiktehawk Place \nEvent Details: \nNursing Home Without Walls is offering Senior Stretching at Shiktehawk Place at 10:00am.  This is a great opportunity to get moving and to socialize.  Includes some light seated exercise. \nFor more information or to join contact NHWW (506)278-3197
URL:https://carletonnorth.com/event/senior-stretching-50/
LOCATION:Shiktehawk Place
CATEGORIES:Community Calendar
END:VEVENT
BEGIN:VEVENT
DTSTART;TZID=America/Halifax:20250604T111500
DTEND;TZID=America/Halifax:20250604T121500
DTSTAMP:20260422T192541
CREATED:20250603T133821Z
LAST-MODIFIED:20250604T135249Z
UID:4599080-1749035700-1749039300@carletonnorth.com
SUMMARY:Senior Stretching
DESCRIPTION:Date:  Weekly Every Wednesday in JuneTime:  11:15AM – 12:15PMLocation:  Centreville Baptist ChurchEvent Details: \nNursing Home Without Walls is offering Senior Stretching at Centreville Baptist at 11:15am.  This is a great opportunity to get moving and to socialize.  Includes some light seated exercise with NHWW staff. \nFor more information or to join contact NHWW (506) 278-3197
URL:https://carletonnorth.com/event/senior-stretching-51/
LOCATION:Shiktehawk Place
CATEGORIES:Community Calendar
END:VEVENT
BEGIN:VEVENT
DTSTART;TZID=America/Halifax:20250604T130000
DTEND;TZID=America/Halifax:20250604T160000
DTSTAMP:20260422T192541
CREATED:20250603T133830Z
LAST-MODIFIED:20250604T135249Z
UID:4599081-1749042000-1749052800@carletonnorth.com
SUMMARY:Senior Puzzles\, Social & Cards
DESCRIPTION:They have snacks\, tea\, and play a variation of puzzles. you can also bring puzzles to trade!\nfrom 1pm-4pm $3 for entry (55+)\nEnjoy an afternoon of card games\, snacks\, and fun!
URL:https://carletonnorth.com/event/senior-puzzles-social-cards-53/
LOCATION:40 McCain St\, Florenceville-Bristol\, NB E7L 3J4\, Canada
CATEGORIES:Community Calendar
END:VEVENT
BEGIN:VEVENT
DTSTART;TZID=America/Halifax:20250604T173000
DTEND;TZID=America/Halifax:20250604T203000
DTSTAMP:20260422T192541
CREATED:20250603T133837Z
LAST-MODIFIED:20250604T135250Z
UID:4599082-1749058200-1749069000@carletonnorth.com
SUMMARY:Rockwall Drop-in
DESCRIPTION:Rockwall Drop-ins\nCost: $3 Adult | $2 55+\n506-392-6763 ext 220 for more information
URL:https://carletonnorth.com/event/rockwall-drop-in-53/
LOCATION:40 McCain St\, Florenceville-Bristol\, NB E7L 3J4\, Canada
CATEGORIES:Community Calendar
END:VEVENT
BEGIN:VEVENT
DTSTART;TZID=America/Halifax:20250605T080000
DTEND;TZID=America/Halifax:20250605T180000
DTSTAMP:20260422T192541
CREATED:20250603T133924Z
LAST-MODIFIED:20250605T140742Z
UID:4599088-1749110400-1749146400@carletonnorth.com
SUMMARY:Yard Sale Fundraiser
DESCRIPTION:Date:  May 22\, 2025Time:  8:00AM – 6:00PMLocation:  Bannon Bible Camp\, 85 Jericho Rd\, Bannon \nStarting May 22 and open each weekend until June 21.  \nYard Sale open Thursdays and Fridays 8am to 6pm; Saturdays 8am to Noon. \nProceeds for Bannon Bible Camp.  \nContact Ruth Sawler at ruan@nbnet.nb.ca.
URL:https://carletonnorth.com/event/yard-sale-fundraiser-7/
LOCATION:Bannon Bible Camp\, 85 Jericho Rd\, Bannon\, NB E7L 3T1\, Canada
CATEGORIES:Community Calendar
END:VEVENT
BEGIN:VEVENT
DTSTART;TZID=America/Halifax:20250605T130000
DTEND;TZID=America/Halifax:20250605T150000
DTSTAMP:20260422T192541
CREATED:20250603T133844Z
LAST-MODIFIED:20250605T140741Z
UID:4599083-1749128400-1749135600@carletonnorth.com
SUMMARY:Drop -In  Adult/Senior Pickleball
DESCRIPTION:Adult/Senior Pickleball Drop-Ins \nDate:  Wednesdays  Time:   1:00AM-3:00PMLocation:  R.G. “Bun” Veysey Active Living Centre \nEvent Details:All skill levels welcomeCost: $3- Adults $2-Senior/55+ \nFor any questions\, please contact:📧 recreation@carletonnorth.com☎ (506) 392-6763 Ext. 220
URL:https://carletonnorth.com/event/drop-in-adult-senior-pickleball/
LOCATION:R. G. “Bun” Veysey Active Living Centre\, 40 McCain St\, Florenceville-Bristol\, NB E7L 3J4\, Canada
CATEGORIES:Community Calendar
END:VEVENT
BEGIN:VEVENT
DTSTART;TZID=America/Halifax:20250605T130000
DTEND;TZID=America/Halifax:20250605T150000
DTSTAMP:20260422T192541
CREATED:20250603T133854Z
LAST-MODIFIED:20250605T140740Z
UID:4599084-1749128400-1749135600@carletonnorth.com
SUMMARY:Rockwall Drop-Ins
DESCRIPTION:Rockwall Drop-ins\nCost: $3 Adult | $2 55+\n506-392-6763 ext 220 for more information
URL:https://carletonnorth.com/event/rockwall-drop-ins-156/
LOCATION:R. G. “Bun” Veysey Active Living Centre\, 40 McCain Street\, Florenceville-Bristol\, NB
CATEGORIES:Community Calendar
END:VEVENT
END:VCALENDAR