BEGIN:VCALENDAR
VERSION:2.0
PRODID:-//District of Carleton North - ECPv6.15.20//NONSGML v1.0//EN
CALSCALE:GREGORIAN
METHOD:PUBLISH
X-ORIGINAL-URL:https://carletonnorth.com
X-WR-CALDESC:Events for District of Carleton North
REFRESH-INTERVAL;VALUE=DURATION:PT1H
X-Robots-Tag:noindex
X-PUBLISHED-TTL:PT1H
BEGIN:VTIMEZONE
TZID:America/Halifax
BEGIN:DAYLIGHT
TZOFFSETFROM:-0400
TZOFFSETTO:-0300
TZNAME:ADT
DTSTART:20240310T060000
END:DAYLIGHT
BEGIN:STANDARD
TZOFFSETFROM:-0300
TZOFFSETTO:-0400
TZNAME:AST
DTSTART:20241103T050000
END:STANDARD
BEGIN:DAYLIGHT
TZOFFSETFROM:-0400
TZOFFSETTO:-0300
TZNAME:ADT
DTSTART:20250309T060000
END:DAYLIGHT
BEGIN:STANDARD
TZOFFSETFROM:-0300
TZOFFSETTO:-0400
TZNAME:AST
DTSTART:20251102T050000
END:STANDARD
BEGIN:DAYLIGHT
TZOFFSETFROM:-0400
TZOFFSETTO:-0300
TZNAME:ADT
DTSTART:20260308T060000
END:DAYLIGHT
BEGIN:STANDARD
TZOFFSETFROM:-0300
TZOFFSETTO:-0400
TZNAME:AST
DTSTART:20261101T050000
END:STANDARD
END:VTIMEZONE
BEGIN:VEVENT
DTSTART;VALUE=DATE:20251004
DTEND;VALUE=DATE:20251109
DTSTAMP:20260422T192544
CREATED:20251002T183734Z
LAST-MODIFIED:20251108T125254Z
UID:6408388-1759536000-1762646399@carletonnorth.com
SUMMARY:Art Exhibit: Totality
DESCRIPTION:TotalityDate:  October 4 – November 8Location:  Andrew & Laura McCain Art Gallery | 8 McCain ST. Florenceville-Bristol \nRelive the day of the Total Eclipse.  Will include community photos of family & friends\, eclipse artifacts\, photographs from David Hunter’s space balloon and the best evert total eclipse photographs by artist Jamie Wilson. \nFor more information please contact the gallery at (506) 392-6769 or email  www.mccainartgallery.com
URL:https://carletonnorth.com/event/art-exhibit-totality/
LOCATION:8 McCain St\, Florenceville\, NB E7L\, Canada
CATEGORIES:Community Calendar
END:VEVENT
BEGIN:VEVENT
DTSTART;TZID=America/Halifax:20251008T100000
DTEND;TZID=America/Halifax:20251008T103000
DTSTAMP:20260422T192544
CREATED:20251003T185352Z
LAST-MODIFIED:20251007T195249Z
UID:6424481-1759917600-1759919400@carletonnorth.com
SUMMARY:Senior Stretching
DESCRIPTION:Date:  Weekly Every Wednesday in JulyTime:  10:00AM – 10:30AMLocation:  Shiktehawk Place \nEvent Details: \nNursing Home Without Walls is offering Senior Stretching at Shiktehawk Place at 10:00am.  This is a great opportunity to get moving and to socialize.  Includes some light seated exercise. \nFor more information or to join contact NHWW (506)278-3197
URL:https://carletonnorth.com/event/senior-stretching-82/
LOCATION:Shiktehawk Place
CATEGORIES:Community Calendar
END:VEVENT
BEGIN:VEVENT
DTSTART;TZID=America/Halifax:20251008T111500
DTEND;TZID=America/Halifax:20251008T114500
DTSTAMP:20260422T192544
CREATED:20251002T183734Z
LAST-MODIFIED:20251007T195250Z
UID:6408386-1759922100-1759923900@carletonnorth.com
SUMMARY:Senior Stretching
DESCRIPTION:Date:  Weekly Every Wednesday in JuneTime:  11:15AM – 11:45PMLocation:  Centreville Baptist ChurchEvent Details: \nNursing Home Without Walls is offering Senior Stretching at Centreville Baptist at 11:15am.  This is a great opportunity to get moving and to socialize.  Includes some light seated exercise with NHWW staff. \nFor more information or to join contact NHWW (506) 278-3197
URL:https://carletonnorth.com/event/senior-stretching-516/
LOCATION:Shiktehawk Place
CATEGORIES:Community Calendar
END:VEVENT
BEGIN:VEVENT
DTSTART;TZID=America/Halifax:20251008T120000
DTEND;TZID=America/Halifax:20251008T130000
DTSTAMP:20260422T192544
CREATED:20250927T063753Z
LAST-MODIFIED:20251008T092301Z
UID:6326407-1759924800-1759928400@carletonnorth.com
SUMMARY:ADULT SKATE - FREE
DESCRIPTION:
URL:https://carletonnorth.com/event/adult-skate-free-5/
END:VEVENT
BEGIN:VEVENT
DTSTART;TZID=America/Halifax:20251008T130000
DTEND;TZID=America/Halifax:20251008T160000
DTSTAMP:20260422T192544
CREATED:20250924T131359Z
LAST-MODIFIED:20251007T195250Z
UID:6285115-1759928400-1759939200@carletonnorth.com
SUMMARY:Senior Puzzles\, Social & Cards
DESCRIPTION:Senior Puzzles\, Social & CardsDate:  Weekly on WednesdaysTime:  1:00PM – 4:00PMLocation:  R.G. ‘Bun’ Veysey Active Living Centre\,  40 McCain St. Florenceville-Bristol \nEnjoy an afternoon of card games\, snacks\, tea and fun!  Play a variation of puzzles. Feel free to bring puzzles to trade! \nCost:   $3 for entry (55+)
URL:https://carletonnorth.com/event/senior-puzzles-social-cards-70/
LOCATION:40 McCain St\, Florenceville-Bristol\, NB E7L 3J4\, Canada
CATEGORIES:Community Calendar
END:VEVENT
BEGIN:VEVENT
DTSTART;TZID=America/Halifax:20251008T160000
DTEND;TZID=America/Halifax:20251008T171500
DTSTAMP:20260422T192544
CREATED:20250903T140749Z
LAST-MODIFIED:20251008T092302Z
UID:5966089-1759939200-1759943700@carletonnorth.com
SUMMARY:HARTLAND HUSKIES
DESCRIPTION:
URL:https://carletonnorth.com/event/hartland-huskies-18/
END:VEVENT
BEGIN:VEVENT
DTSTART;TZID=America/Halifax:20251008T174500
DTEND;TZID=America/Halifax:20251008T184500
DTSTAMP:20260422T192544
CREATED:20250821T142309Z
LAST-MODIFIED:20251008T092302Z
UID:5762653-1759945500-1759949100@carletonnorth.com
SUMMARY:U9 - MINOR HOCKEY
DESCRIPTION:
URL:https://carletonnorth.com/event/u9-minor-hockey-35/
END:VEVENT
BEGIN:VEVENT
DTSTART;TZID=America/Halifax:20251008T183000
DTEND;TZID=America/Halifax:20251008T200000
DTSTAMP:20260422T192544
CREATED:20250924T131411Z
LAST-MODIFIED:20251008T200739Z
UID:6285156-1759948200-1759953600@carletonnorth.com
SUMMARY:Midweek Mindful Yoga Series with Mag
DESCRIPTION:Midweek Mindful Yoga Series with MagDate:  Wednesdays | Oct 1 – Nov 19 (8 weeks)Time:  6:30PM – 8:00PMLocation:  Pure Therapy\, 6 Welch St. Florenceville-Bristol \nMidweek Mindful Movement – 8-Week Yoga Serieswith Instructor Magen Charters\, RSMT & CYT \nWednesdays • Oct 1 – Nov 19 ( 8 weeks)6:30 – 8:00 PM • Pure Therapy \nBuild focus\, flexibility\, and balance through weekly meditation\, gentle flow\, and yin yoga all in one class.• For all levels \nFull 8-week commitment Required.No refunds for missed classes\, but you may send a friend in your place.Limited Space. \nCost $200 \nSign up @puretherapy.ca
URL:https://carletonnorth.com/event/midweek-mindful-yoga-series-with-mag-2/
LOCATION:6 Welch St\, Florenceville-Bristol\, NB E7L 2E4\, Canada
CATEGORIES:Community Calendar
END:VEVENT
BEGIN:VEVENT
DTSTART;TZID=America/Halifax:20251008T190000
DTEND;TZID=America/Halifax:20251008T200000
DTSTAMP:20260422T192544
CREATED:20250821T142309Z
LAST-MODIFIED:20251008T092303Z
UID:5762654-1759950000-1759953600@carletonnorth.com
SUMMARY:U11 TRYOUT 2 -  MINOR HOCKEY
DESCRIPTION:
URL:https://carletonnorth.com/event/u11-tryout-2-minor-hockey/
END:VEVENT
BEGIN:VEVENT
DTSTART;TZID=America/Halifax:20251008T201500
DTEND;TZID=America/Halifax:20251008T211500
DTSTAMP:20260422T192544
CREATED:20250904T183749Z
LAST-MODIFIED:20251008T092303Z
UID:5983547-1759954500-1759958100@carletonnorth.com
SUMMARY:CARLETON NORTH BOYS
DESCRIPTION:
URL:https://carletonnorth.com/event/carleton-north-boys-56/
END:VEVENT
BEGIN:VEVENT
DTSTART;TZID=America/Halifax:20251009T120000
DTEND;TZID=America/Halifax:20251009T130000
DTSTAMP:20260422T192544
CREATED:20250927T063756Z
LAST-MODIFIED:20251009T093739Z
UID:6326409-1760011200-1760014800@carletonnorth.com
SUMMARY:ADULT SHINNY
DESCRIPTION:
URL:https://carletonnorth.com/event/adult-shinny-42/
END:VEVENT
BEGIN:VEVENT
DTSTART;TZID=America/Halifax:20251009T130000
DTEND;TZID=America/Halifax:20251009T140000
DTSTAMP:20260422T192544
CREATED:20250927T063754Z
LAST-MODIFIED:20251009T093738Z
UID:6326408-1760014800-1760018400@carletonnorth.com
SUMMARY:PARENTS & TOTS FREE
DESCRIPTION:
URL:https://carletonnorth.com/event/parents-tots-free-3/
END:VEVENT
BEGIN:VEVENT
DTSTART;TZID=America/Halifax:20251009T140000
DTEND;TZID=America/Halifax:20251009T150000
DTSTAMP:20260422T192544
CREATED:20250927T063756Z
LAST-MODIFIED:20251009T093739Z
UID:6326410-1760018400-1760022000@carletonnorth.com
SUMMARY:SENIOR SKATE FREE
DESCRIPTION:
URL:https://carletonnorth.com/event/senior-skate-free-3/
END:VEVENT
BEGIN:VEVENT
DTSTART;TZID=America/Halifax:20251009T160000
DTEND;TZID=America/Halifax:20251009T171500
DTSTAMP:20260422T192544
CREATED:20250822T132327Z
LAST-MODIFIED:20251009T093740Z
UID:5776527-1760025600-1760030100@carletonnorth.com
SUMMARY:CARLETON NORTH GIRLS
DESCRIPTION:
URL:https://carletonnorth.com/event/carleton-north-girls-49/
END:VEVENT
BEGIN:VEVENT
DTSTART;TZID=America/Halifax:20251009T173000
DTEND;TZID=America/Halifax:20251009T183000
DTSTAMP:20260422T192544
CREATED:20250821T142309Z
LAST-MODIFIED:20251009T093740Z
UID:5762655-1760031000-1760034600@carletonnorth.com
SUMMARY:U9 TIERING 1 - MINOR HOCKEY
DESCRIPTION:
URL:https://carletonnorth.com/event/u9-tiering-1-minor-hockey-2/
END:VEVENT
BEGIN:VEVENT
DTSTART;TZID=America/Halifax:20251009T180000
DTEND;TZID=America/Halifax:20251009T200000
DTSTAMP:20260422T192544
CREATED:20250924T131428Z
LAST-MODIFIED:20251009T202301Z
UID:6285216-1760032800-1760040000@carletonnorth.com
SUMMARY:Clay Handbuilding - Newbie Night
DESCRIPTION:Whether you’ve got a current project or are a brand-newbie wanting to explore clay\, join instructor Jenna Ross & other friendly clay-lovers for a casual evening of creativity at the River Art Centre & Studios. \nNo registration required. Basic instruction is provided to get you started. ….Bring your ideas\, gusto\, project dreams & we’ll see what happens! \nFee to attend each Drop-in is $5 per person. The first (bisque) firing of any pot you decide to keep costs $10 each piece. Then Glazing costs an additional $10 each piece. \nChildren aged 7-14 welcome to participate if accompanied by an adult. No experience necessary\, just an openness to try! See you there! \nFor more information contact the Gallery. info@mccainartgallery.com 506-392-6769
URL:https://carletonnorth.com/event/clay-handbuilding-newbie-night-8/
LOCATION:8746 Main St\, Florenceville-Bristol\, NB E7L 3G5\, Canada
CATEGORIES:Community Calendar
END:VEVENT
BEGIN:VEVENT
DTSTART;TZID=America/Halifax:20251009T184500
DTEND;TZID=America/Halifax:20251009T194500
DTSTAMP:20260422T192544
CREATED:20250821T142310Z
LAST-MODIFIED:20251009T093740Z
UID:5762656-1760035500-1760039100@carletonnorth.com
SUMMARY:U13 TRYOUT 2 - MINOR HOCKEY
DESCRIPTION:
URL:https://carletonnorth.com/event/u13-tryout-2-minor-hockey/
END:VEVENT
BEGIN:VEVENT
DTSTART;TZID=America/Halifax:20251009T200000
DTEND;TZID=America/Halifax:20251009T210000
DTSTAMP:20260422T192544
CREATED:20250821T142310Z
LAST-MODIFIED:20251009T093741Z
UID:5762657-1760040000-1760043600@carletonnorth.com
SUMMARY:U15 TRYOUT 2 - MINOR HOCKEY
DESCRIPTION:
URL:https://carletonnorth.com/event/u15-tryout-2-minor-hockey/
END:VEVENT
BEGIN:VEVENT
DTSTART;VALUE=DATE:20251010
DTEND;VALUE=DATE:20251011
DTSTAMP:20260422T192544
CREATED:20251002T183738Z
LAST-MODIFIED:20251010T203749Z
UID:6408392-1760054400-1760140799@carletonnorth.com
SUMMARY:NHWW Free Foot Care Clinic
DESCRIPTION:NHWW – Free Foot Care ClinicDate:  October 10\, 2025 \nIf you are 60+\, do not have Foot Care coverage\, have underlying health conditions and struggle to look after your feet\, give us a call.  Must call to register.  Limited spaces available.  Call (506) 278-3197.  
URL:https://carletonnorth.com/event/nhww-free-foot-care-clinic/
CATEGORIES:Community Calendar
END:VEVENT
BEGIN:VEVENT
DTSTART;TZID=America/Halifax:20251010T080000
DTEND;TZID=America/Halifax:20251010T120000
DTSTAMP:20260422T192544
CREATED:20251004T082250Z
LAST-MODIFIED:20251010T140743Z
UID:6433773-1760083200-1760097600@carletonnorth.com
SUMMARY:CHAMPIONS HOCKEY CLINICS
DESCRIPTION:
URL:https://carletonnorth.com/event/champions-hockey-clinics/
END:VEVENT
BEGIN:VEVENT
DTSTART;TZID=America/Halifax:20251010T090000
DTEND;TZID=America/Halifax:20251011T150000
DTSTAMP:20260422T192544
CREATED:20251002T183738Z
LAST-MODIFIED:20251010T203749Z
UID:6408391-1760086800-1760194800@carletonnorth.com
SUMMARY:Quilt Show
DESCRIPTION:Quilt ShowDate:  Oct 10th & Oct 11thTime:  9:00AM – 3:00PMLocation:  St. John the Evangelist Church\, 309 Johnville Rd.\, Johnville \nAdmission is by donation.  Come for a drive and enjoy the beautiful quilts and fall foliage.
URL:https://carletonnorth.com/event/quilt-show-3/
LOCATION:309 Johnville Rd\, Johnville\, NB E7J 1J1\, Canada
CATEGORIES:Community Calendar
END:VEVENT
BEGIN:VEVENT
DTSTART;TZID=America/Halifax:20251010T120000
DTEND;TZID=America/Halifax:20251010T130000
DTSTAMP:20260422T192544
CREATED:20250927T063757Z
LAST-MODIFIED:20251010T152238Z
UID:6326411-1760097600-1760101200@carletonnorth.com
SUMMARY:ADULT SKATE FREE
DESCRIPTION:
URL:https://carletonnorth.com/event/adult-skate-free-6/
END:VEVENT
BEGIN:VEVENT
DTSTART;TZID=America/Halifax:20251010T131500
DTEND;TZID=America/Halifax:20251010T141500
DTSTAMP:20260422T192544
CREATED:20251004T082251Z
LAST-MODIFIED:20251010T163736Z
UID:6433774-1760102100-1760105700@carletonnorth.com
SUMMARY:U7 HOCKEY CLINIC
DESCRIPTION:
URL:https://carletonnorth.com/event/u7-hockey-clinic/
END:VEVENT
BEGIN:VEVENT
DTSTART;TZID=America/Halifax:20251010T143000
DTEND;TZID=America/Halifax:20251010T153000
DTSTAMP:20260422T192544
CREATED:20251010T140744Z
LAST-MODIFIED:20251010T175300Z
UID:6525420-1760106600-1760110200@carletonnorth.com
SUMMARY:PUBLIC SKATE
DESCRIPTION:
URL:https://carletonnorth.com/event/public-skate-129/
END:VEVENT
BEGIN:VEVENT
DTSTART;TZID=America/Halifax:20251010T160000
DTEND;TZID=America/Halifax:20251010T170000
DTSTAMP:20260422T192544
CREATED:20251010T140744Z
LAST-MODIFIED:20251010T190845Z
UID:6525421-1760112000-1760115600@carletonnorth.com
SUMMARY:PRIVATE RENTAL
DESCRIPTION:
URL:https://carletonnorth.com/event/private-rental-47/
END:VEVENT
BEGIN:VEVENT
DTSTART;TZID=America/Halifax:20251010T173000
DTEND;TZID=America/Halifax:20251010T183000
DTSTAMP:20260422T192544
CREATED:20251007T090850Z
LAST-MODIFIED:20251010T202243Z
UID:6478014-1760117400-1760121000@carletonnorth.com
SUMMARY:WESTERN VALLEY FEMALES - U11
DESCRIPTION:
URL:https://carletonnorth.com/event/western-valley-females-u11/
END:VEVENT
BEGIN:VEVENT
DTSTART;TZID=America/Halifax:20251010T184500
DTEND;TZID=America/Halifax:20251010T200000
DTSTAMP:20260422T192544
CREATED:20250821T152308Z
LAST-MODIFIED:20251010T225315Z
UID:5763293-1760121900-1760126400@carletonnorth.com
SUMMARY:U13AAA NORTH WEST BULLS
DESCRIPTION:
URL:https://carletonnorth.com/event/u13aaa-north-west-bulls-10/
END:VEVENT
BEGIN:VEVENT
DTSTART;TZID=America/Halifax:20251011T080000
DTEND;TZID=America/Halifax:20251011T110000
DTSTAMP:20260422T192544
CREATED:20250924T131439Z
LAST-MODIFIED:20251010T203748Z
UID:6285222-1760169600-1760180400@carletonnorth.com
SUMMARY:Breakfast at Juniper Community Centre
DESCRIPTION:Breakfast at Juniper Community CentreDate: Weekly on SaturdayTime:  8:00AM – 11:00AMLocation:  Juniper Community Centre\, 267 Juniper Rd\, Juniper \nDon’t forget to join us for Breakfast  from 8am – 11am at the Juniper Community Centre.   Great company and a fantastic way to start your weekend. Everyone is welcome—bring your family\, friends\, and neighbors! 💛 \nBring someone who needs a delicious Saturday morning pick-me-up! 🍳🥓 \n#CommunityBreakfast #SaturdayVibes #GoodFoodGoodCompany \nhttps://www.facebook.com/JCC506
URL:https://carletonnorth.com/event/breakfast-at-juniper-community-centre-24/
LOCATION:Juniper Community Centre\, 267 Juniper Rd\, Juniper\, NB E7L 1H1\, Canada
CATEGORIES:Community Calendar
END:VEVENT
BEGIN:VEVENT
DTSTART;TZID=America/Halifax:20251011T083000
DTEND;TZID=America/Halifax:20251011T093000
DTSTAMP:20260422T192544
CREATED:20250821T152308Z
LAST-MODIFIED:20251011T122236Z
UID:5763294-1760171400-1760175000@carletonnorth.com
SUMMARY:U7 - MINOR HOCKEY
DESCRIPTION:
URL:https://carletonnorth.com/event/u7-minor-hockey-49/
END:VEVENT
BEGIN:VEVENT
DTSTART;TZID=America/Halifax:20251011T090000
DTEND;TZID=America/Halifax:20251011T140000
DTSTAMP:20260422T192544
CREATED:20250924T131446Z
LAST-MODIFIED:20251010T203750Z
UID:6285223-1760173200-1760191200@carletonnorth.com
SUMMARY:3rd Annual Fall Festival
DESCRIPTION:3rd Annual Fall FestivalLocation:  Knights of Columbus\,  22 Hallet Rd. BeechwoodTime:  9:00AM to 2:00PM \nFood Truck on site \nAll admission proceeds will be donated to the local Breakfast ProgramsVendors – contact Hillary Landry https://www.facebook.com/share/19pYyeUUeL/
URL:https://carletonnorth.com/event/3rd-annual-fall-festival/
LOCATION:Knights of Columbus Hall\, Hallett Rd\, Beechwood\, NB E7J 1X2\, Canada
CATEGORIES:Community Calendar
END:VEVENT
END:VCALENDAR