BEGIN:VCALENDAR
VERSION:2.0
PRODID:-//District of Carleton North - ECPv6.15.20//NONSGML v1.0//EN
CALSCALE:GREGORIAN
METHOD:PUBLISH
X-ORIGINAL-URL:https://carletonnorth.com
X-WR-CALDESC:Events for District of Carleton North
REFRESH-INTERVAL;VALUE=DURATION:PT1H
X-Robots-Tag:noindex
X-PUBLISHED-TTL:PT1H
BEGIN:VTIMEZONE
TZID:America/Halifax
BEGIN:DAYLIGHT
TZOFFSETFROM:-0400
TZOFFSETTO:-0300
TZNAME:ADT
DTSTART:20240310T060000
END:DAYLIGHT
BEGIN:STANDARD
TZOFFSETFROM:-0300
TZOFFSETTO:-0400
TZNAME:AST
DTSTART:20241103T050000
END:STANDARD
BEGIN:DAYLIGHT
TZOFFSETFROM:-0400
TZOFFSETTO:-0300
TZNAME:ADT
DTSTART:20250309T060000
END:DAYLIGHT
BEGIN:STANDARD
TZOFFSETFROM:-0300
TZOFFSETTO:-0400
TZNAME:AST
DTSTART:20251102T050000
END:STANDARD
BEGIN:DAYLIGHT
TZOFFSETFROM:-0400
TZOFFSETTO:-0300
TZNAME:ADT
DTSTART:20260308T060000
END:DAYLIGHT
BEGIN:STANDARD
TZOFFSETFROM:-0300
TZOFFSETTO:-0400
TZNAME:AST
DTSTART:20261101T050000
END:STANDARD
END:VTIMEZONE
BEGIN:VEVENT
DTSTART;VALUE=DATE:20251004
DTEND;VALUE=DATE:20251109
DTSTAMP:20260423T151038
CREATED:20251002T183734Z
LAST-MODIFIED:20251108T125254Z
UID:6408388-1759536000-1762646399@carletonnorth.com
SUMMARY:Art Exhibit: Totality
DESCRIPTION:TotalityDate:  October 4 – November 8Location:  Andrew & Laura McCain Art Gallery | 8 McCain ST. Florenceville-Bristol \nRelive the day of the Total Eclipse.  Will include community photos of family & friends\, eclipse artifacts\, photographs from David Hunter’s space balloon and the best evert total eclipse photographs by artist Jamie Wilson. \nFor more information please contact the gallery at (506) 392-6769 or email  www.mccainartgallery.com
URL:https://carletonnorth.com/event/art-exhibit-totality/
LOCATION:8 McCain St\, Florenceville\, NB E7L\, Canada
CATEGORIES:Community Calendar
END:VEVENT
BEGIN:VEVENT
DTSTART;TZID=America/Halifax:20251019T100000
DTEND;TZID=America/Halifax:20251019T110000
DTSTAMP:20260423T151038
CREATED:20250821T162300Z
LAST-MODIFIED:20251019T130750Z
UID:5763941-1760868000-1760871600@carletonnorth.com
SUMMARY:ZWD #9 - CARLETON MINOR HOCKEY
DESCRIPTION:
URL:https://carletonnorth.com/event/zwd-9-carleton-minor-hockey/
END:VEVENT
BEGIN:VEVENT
DTSTART;TZID=America/Halifax:20251019T111500
DTEND;TZID=America/Halifax:20251019T121500
DTSTAMP:20260423T151038
CREATED:20250821T172257Z
LAST-MODIFIED:20251019T142230Z
UID:5764551-1760872500-1760876100@carletonnorth.com
SUMMARY:ZWD #10 - MINOR HOCKEY
DESCRIPTION:
URL:https://carletonnorth.com/event/zwd-10-minor-hockey/
END:VEVENT
BEGIN:VEVENT
DTSTART;TZID=America/Halifax:20251019T123000
DTEND;TZID=America/Halifax:20251019T133000
DTSTAMP:20260423T151038
CREATED:20250904T183758Z
LAST-MODIFIED:20251019T153735Z
UID:5983549-1760877000-1760880600@carletonnorth.com
SUMMARY:CARLETON NORTH BOYS
DESCRIPTION:
URL:https://carletonnorth.com/event/carleton-north-boys-124/
END:VEVENT
BEGIN:VEVENT
DTSTART;TZID=America/Halifax:20251019T144500
DTEND;TZID=America/Halifax:20251019T154500
DTSTAMP:20260423T151038
CREATED:20250909T175350Z
LAST-MODIFIED:20251019T180746Z
UID:6059169-1760885100-1760888700@carletonnorth.com
SUMMARY:PUBLIC SKATE
DESCRIPTION:
URL:https://carletonnorth.com/event/public-skate-53/
END:VEVENT
BEGIN:VEVENT
DTSTART;TZID=America/Halifax:20251019T160000
DTEND;TZID=America/Halifax:20251019T171500
DTSTAMP:20260423T151038
CREATED:20251007T090908Z
LAST-MODIFIED:20251019T192301Z
UID:6478015-1760889600-1760894100@carletonnorth.com
SUMMARY:WESTERN VALLEY FEMALES - U15 GAME
DESCRIPTION:
URL:https://carletonnorth.com/event/western-valley-females-u15-game/
END:VEVENT
BEGIN:VEVENT
DTSTART;TZID=America/Halifax:20251019T181500
DTEND;TZID=America/Halifax:20251019T191500
DTSTAMP:20260423T151038
CREATED:20250927T063809Z
LAST-MODIFIED:20251019T215244Z
UID:6326421-1760897700-1760901300@carletonnorth.com
SUMMARY:MCCAIN INTERPLANT - MISFITS VS POLAR BEARS
DESCRIPTION:
URL:https://carletonnorth.com/event/mccain-interplant-misfits-vs-polar-bears/
END:VEVENT
BEGIN:VEVENT
DTSTART;TZID=America/Halifax:20251019T190000
DTEND;TZID=America/Halifax:20251019T210000
DTSTAMP:20260423T151038
CREATED:20251017T222406Z
LAST-MODIFIED:20251019T225331Z
UID:6646075-1760900400-1760907600@carletonnorth.com
SUMMARY:Kin Club Bingo
DESCRIPTION:Kin Club BingoDate:  Weekly on SundayTime:  7:00PM – 9:00PMLocation:  Florenceville Kin Centre\, 381 Centreville Rd. Florenceville-Bristol \nThe Kin Club Weekly Bingo Takes Place every Sunday\, with door opening at 6pm and games starting at 7pm.Cost: $10 books\, $5 books\, $1 Specials and $25 package deals and more.
URL:https://carletonnorth.com/event/kin-club-bingo-86/
LOCATION:Florenceville Kin Center\, 381 Centreville Rd\, Florenceville-Bristol\, NB E7L 3K5\, Canada
CATEGORIES:Community Calendar
END:VEVENT
BEGIN:VEVENT
DTSTART;TZID=America/Halifax:20251019T193000
DTEND;TZID=America/Halifax:20251019T203000
DTSTAMP:20260423T151038
CREATED:20250927T063809Z
LAST-MODIFIED:20251019T230744Z
UID:6326422-1760902200-1760905800@carletonnorth.com
SUMMARY:MCCAIN INTERPLANT - POTATO KINGS VS MAINTENANCE
DESCRIPTION:
URL:https://carletonnorth.com/event/mccain-interplant-potato-kings-vs-maintenance/
END:VEVENT
BEGIN:VEVENT
DTSTART;TZID=America/Halifax:20251019T204500
DTEND;TZID=America/Halifax:20251019T214500
DTSTAMP:20260423T151038
CREATED:20251015T185344Z
LAST-MODIFIED:20251020T002248Z
UID:6611650-1760906700-1760910300@carletonnorth.com
SUMMARY:CARLETON COUNTY GENTLEMEN - FLYERS VS BEER KINGS
DESCRIPTION:
URL:https://carletonnorth.com/event/carleton-county-gentlemen-flyers-vs-beer-kings/
END:VEVENT
BEGIN:VEVENT
DTSTART;TZID=America/Halifax:20251020T120000
DTEND;TZID=America/Halifax:20251020T130000
DTSTAMP:20260423T151038
CREATED:20250927T063809Z
LAST-MODIFIED:20251020T152319Z
UID:6326423-1760961600-1760965200@carletonnorth.com
SUMMARY:ADULT SKATE FREE
DESCRIPTION:
URL:https://carletonnorth.com/event/adult-skate-free-11/
END:VEVENT
BEGIN:VEVENT
DTSTART;TZID=America/Halifax:20251020T130000
DTEND;TZID=America/Halifax:20251020T133000
DTSTAMP:20260423T151038
CREATED:20251017T222413Z
LAST-MODIFIED:20251019T225331Z
UID:6646076-1760965200-1760967000@carletonnorth.com
SUMMARY:Senior Stretching
DESCRIPTION:Date:  Every Monday in JulyTime:  1:00PM – 1:30PMLocation:  Beechwood Senior ComplexEvent Details:   \nNursing Home Without Walls is offering Senior Stretching at Beechwood Senior Complex at 1:00pm.  This is a great opportunity to get moving and to socialize.  Includes some light seated exercise with NHWW staff. For more information or to join call NHWW (506) 278-3197
URL:https://carletonnorth.com/event/senior-stretching-83/
LOCATION:Beechwood Senior Complex
CATEGORIES:Community Calendar
END:VEVENT
BEGIN:VEVENT
DTSTART;TZID=America/Halifax:20251020T140000
DTEND;TZID=America/Halifax:20251020T143000
DTSTAMP:20260423T151038
CREATED:20251017T222421Z
LAST-MODIFIED:20251019T225332Z
UID:6646077-1760968800-1760970600@carletonnorth.com
SUMMARY:Senior Stretching
DESCRIPTION:Date:  Weekly every Monday in JulyTIme:  2:00PM – 2:30PMLocation:   River View Manor Complex \nEvent Details: \nNursing Home Without Walls is offering Senior Stretching at River View Manor Complex at 2:00pm.  This is a great opportunity to get moving and to socialize.  Includes some light seated exercise with NHWW staff. \nFor more information or to join call NHWW (506)278-3197
URL:https://carletonnorth.com/event/senior-stretching-102/
LOCATION:River View Manor Complex\, 96 Hospital St\, Bath\, NB E7J 1B9\, Canada
CATEGORIES:Community Calendar
END:VEVENT
BEGIN:VEVENT
DTSTART;TZID=America/Halifax:20251020T174500
DTEND;TZID=America/Halifax:20251020T184500
DTSTAMP:20260423T151038
CREATED:20250822T132337Z
LAST-MODIFIED:20251020T213739Z
UID:5776534-1760982300-1760985900@carletonnorth.com
SUMMARY:MINOR HOCKEY
DESCRIPTION:
URL:https://carletonnorth.com/event/minor-hockey-2/
END:VEVENT
BEGIN:VEVENT
DTSTART;TZID=America/Halifax:20251020T183000
DTEND;TZID=America/Halifax:20251020T200000
DTSTAMP:20260423T151038
CREATED:20251017T222427Z
LAST-MODIFIED:20251019T225332Z
UID:6646078-1760985000-1760990400@carletonnorth.com
SUMMARY:Beginner Friendly Yoga
DESCRIPTION:Beginner Friendly Yoga \nDate:  Weekly On Monday | Oct 20 –  Dec 8Time:  6:30PM – 8:00PMLocation:  Pure Therapy | 6 Welch Street\, Florenceville-Bristol \nBeginner-Friendly Yogawith Coralee • Oct 20 – Dec 8 (8 Weeks) \nJoin this 8-week yoga journey to explore Hatha\, Flow\, Yin\, Pranayama\, Chanting & Meditation. Each week builds on the last\, guiding you toward strength\, balance\, and mindfulness. \nOptions:Drop-in: $20/class (cash)Prepay all 8 weeks: $120 (save 25%) \nMats & props Always provided at Pure Therapy.Pre-registration required. No refunds\, but you may send a friend if you miss a prepaid class. \nSign up @ puretherapy.ca
URL:https://carletonnorth.com/event/beginner-friendly-yoga/
LOCATION:6 Welch St\, Florenceville-Bristol\, NB E7L 2E4\, Canada
CATEGORIES:Community Calendar
END:VEVENT
BEGIN:VEVENT
DTSTART;TZID=America/Halifax:20251020T190000
DTEND;TZID=America/Halifax:20251020T200000
DTSTAMP:20260423T151038
CREATED:20250822T132337Z
LAST-MODIFIED:20251020T225242Z
UID:5776535-1760986800-1760990400@carletonnorth.com
SUMMARY:MINOR HOCKEY
DESCRIPTION:
URL:https://carletonnorth.com/event/minor-hockey-3/
END:VEVENT
BEGIN:VEVENT
DTSTART;TZID=America/Halifax:20251020T201500
DTEND;TZID=America/Halifax:20251020T211500
DTSTAMP:20260423T151038
CREATED:20250822T132338Z
LAST-MODIFIED:20251021T000756Z
UID:5776536-1760991300-1760994900@carletonnorth.com
SUMMARY:MINOR HOCKEY
DESCRIPTION:
URL:https://carletonnorth.com/event/minor-hockey-4/
END:VEVENT
BEGIN:VEVENT
DTSTART;TZID=America/Halifax:20251021T120000
DTEND;TZID=America/Halifax:20251021T130000
DTSTAMP:20260423T151038
CREATED:20250927T063810Z
LAST-MODIFIED:20251021T150849Z
UID:6326424-1761048000-1761051600@carletonnorth.com
SUMMARY:ADULT SKATE FREE
DESCRIPTION:
URL:https://carletonnorth.com/event/adult-skate-free-12/
END:VEVENT
BEGIN:VEVENT
DTSTART;TZID=America/Halifax:20251021T130000
DTEND;TZID=America/Halifax:20251021T140000
DTSTAMP:20260423T151038
CREATED:20250927T063811Z
LAST-MODIFIED:20251021T162234Z
UID:6326426-1761051600-1761055200@carletonnorth.com
SUMMARY:PARENTS & TOTS FREE
DESCRIPTION:
URL:https://carletonnorth.com/event/parents-tots-free-6/
END:VEVENT
BEGIN:VEVENT
DTSTART;TZID=America/Halifax:20251021T140000
DTEND;TZID=America/Halifax:20251021T150000
DTSTAMP:20260423T151038
CREATED:20250927T063810Z
LAST-MODIFIED:20251021T173733Z
UID:6326425-1761055200-1761058800@carletonnorth.com
SUMMARY:SENIOR SKATE - FREE
DESCRIPTION:
URL:https://carletonnorth.com/event/senior-skate-free-6/
END:VEVENT
BEGIN:VEVENT
DTSTART;TZID=America/Halifax:20251021T160000
DTEND;TZID=America/Halifax:20251021T171500
DTSTAMP:20260423T151038
CREATED:20250822T132338Z
LAST-MODIFIED:20251021T200742Z
UID:5776537-1761062400-1761066900@carletonnorth.com
SUMMARY:CARLETON NORTH GIRLS
DESCRIPTION:
URL:https://carletonnorth.com/event/carleton-north-girls-52/
END:VEVENT
BEGIN:VEVENT
DTSTART;TZID=America/Halifax:20251021T173000
DTEND;TZID=America/Halifax:20251021T183000
DTSTAMP:20260423T151038
CREATED:20250822T132338Z
LAST-MODIFIED:20251021T212239Z
UID:5776538-1761067800-1761071400@carletonnorth.com
SUMMARY:U11C - MINOR HOCKEY
DESCRIPTION:
URL:https://carletonnorth.com/event/minor-hockey-5/
END:VEVENT
BEGIN:VEVENT
DTSTART;TZID=America/Halifax:20251021T184500
DTEND;TZID=America/Halifax:20251021T194500
DTSTAMP:20260423T151038
CREATED:20250822T132339Z
LAST-MODIFIED:20251021T223855Z
UID:5776539-1761072300-1761075900@carletonnorth.com
SUMMARY:U13C - MINOR HOCKEY
DESCRIPTION:
URL:https://carletonnorth.com/event/minor-hockey-7/
END:VEVENT
BEGIN:VEVENT
DTSTART;TZID=America/Halifax:20251021T200000
DTEND;TZID=America/Halifax:20251021T210000
DTSTAMP:20260423T151038
CREATED:20251021T162235Z
LAST-MODIFIED:20251021T235237Z
UID:6707601-1761076800-1761080400@carletonnorth.com
SUMMARY:U11 WESTERN VALLEY FEMALES
DESCRIPTION:
URL:https://carletonnorth.com/event/u11-western-valley-females/
END:VEVENT
BEGIN:VEVENT
DTSTART;TZID=America/Halifax:20251022T100000
DTEND;TZID=America/Halifax:20251022T103000
DTSTAMP:20260423T151038
CREATED:20251017T222433Z
LAST-MODIFIED:20251021T232235Z
UID:6646079-1761127200-1761129000@carletonnorth.com
SUMMARY:Senior Stretching
DESCRIPTION:Date:  Weekly Every Wednesday in JulyTime:  10:00AM – 10:30AMLocation:  Shiktehawk Place \nEvent Details: \nNursing Home Without Walls is offering Senior Stretching at Shiktehawk Place at 10:00am.  This is a great opportunity to get moving and to socialize.  Includes some light seated exercise. \nFor more information or to join contact NHWW (506)278-3197
URL:https://carletonnorth.com/event/senior-stretching-103/
LOCATION:Shiktehawk Place
CATEGORIES:Community Calendar
END:VEVENT
BEGIN:VEVENT
DTSTART;TZID=America/Halifax:20251022T111500
DTEND;TZID=America/Halifax:20251022T114500
DTSTAMP:20260423T151038
CREATED:20251017T222439Z
LAST-MODIFIED:20251021T232236Z
UID:6646080-1761131700-1761133500@carletonnorth.com
SUMMARY:Senior Stretching
DESCRIPTION:Date:  Weekly Every Wednesday in JuneTime:  11:15AM – 11:45PMLocation:  Centreville Baptist ChurchEvent Details: \nNursing Home Without Walls is offering Senior Stretching at Centreville Baptist at 11:15am.  This is a great opportunity to get moving and to socialize.  Includes some light seated exercise with NHWW staff. \nFor more information or to join contact NHWW (506) 278-3197
URL:https://carletonnorth.com/event/senior-stretching-104/
LOCATION:Shiktehawk Place
CATEGORIES:Community Calendar
END:VEVENT
BEGIN:VEVENT
DTSTART;TZID=America/Halifax:20251022T120000
DTEND;TZID=America/Halifax:20251022T130000
DTSTAMP:20260423T151038
CREATED:20250927T063812Z
LAST-MODIFIED:20251022T152334Z
UID:6326427-1761134400-1761138000@carletonnorth.com
SUMMARY:ADULT SKATE - FREE
DESCRIPTION:
URL:https://carletonnorth.com/event/adult-skate-free-13/
END:VEVENT
BEGIN:VEVENT
DTSTART;TZID=America/Halifax:20251022T130000
DTEND;TZID=America/Halifax:20251022T160000
DTSTAMP:20260423T151038
CREATED:20251017T222447Z
LAST-MODIFIED:20251021T232237Z
UID:6646081-1761138000-1761148800@carletonnorth.com
SUMMARY:Senior Puzzles\, Social & Cards
DESCRIPTION:Senior Puzzles\, Social & CardsDate:  Weekly on WednesdaysTime:  1:00PM – 4:00PMLocation:  R.G. ‘Bun’ Veysey Active Living Centre\,  40 McCain St. Florenceville-Bristol \nEnjoy an afternoon of card games\, snacks\, tea and fun!  Play a variation of puzzles. Feel free to bring puzzles to trade! \nCost:   $3 for entry (55+)
URL:https://carletonnorth.com/event/senior-puzzles-social-cards-71/
LOCATION:40 McCain St\, Florenceville-Bristol\, NB E7L 3J4\, Canada
CATEGORIES:Community Calendar
END:VEVENT
BEGIN:VEVENT
DTSTART;TZID=America/Halifax:20251022T160000
DTEND;TZID=America/Halifax:20251022T164500
DTSTAMP:20260423T151038
CREATED:20250822T132339Z
LAST-MODIFIED:20251022T190807Z
UID:5776541-1761148800-1761151500@carletonnorth.com
SUMMARY:LEARN TO SKATE
DESCRIPTION:
URL:https://carletonnorth.com/event/learn-to-skate-2/
END:VEVENT
BEGIN:VEVENT
DTSTART;TZID=America/Halifax:20251022T164500
DTEND;TZID=America/Halifax:20251022T173000
DTSTAMP:20260423T151038
CREATED:20250822T132339Z
LAST-MODIFIED:20251022T202244Z
UID:5776542-1761151500-1761154200@carletonnorth.com
SUMMARY:LEARN TO SKATE
DESCRIPTION:
URL:https://carletonnorth.com/event/learn-to-skate-3/
END:VEVENT
END:VCALENDAR