BEGIN:VCALENDAR
VERSION:2.0
PRODID:-//District of Carleton North - ECPv6.15.20//NONSGML v1.0//EN
CALSCALE:GREGORIAN
METHOD:PUBLISH
X-WR-CALNAME:District of Carleton North
X-ORIGINAL-URL:https://carletonnorth.com
X-WR-CALDESC:Events for District of Carleton North
REFRESH-INTERVAL;VALUE=DURATION:PT1H
X-Robots-Tag:noindex
X-PUBLISHED-TTL:PT1H
BEGIN:VTIMEZONE
TZID:America/Halifax
BEGIN:DAYLIGHT
TZOFFSETFROM:-0400
TZOFFSETTO:-0300
TZNAME:ADT
DTSTART:20240310T060000
END:DAYLIGHT
BEGIN:STANDARD
TZOFFSETFROM:-0300
TZOFFSETTO:-0400
TZNAME:AST
DTSTART:20241103T050000
END:STANDARD
BEGIN:DAYLIGHT
TZOFFSETFROM:-0400
TZOFFSETTO:-0300
TZNAME:ADT
DTSTART:20250309T060000
END:DAYLIGHT
BEGIN:STANDARD
TZOFFSETFROM:-0300
TZOFFSETTO:-0400
TZNAME:AST
DTSTART:20251102T050000
END:STANDARD
BEGIN:DAYLIGHT
TZOFFSETFROM:-0400
TZOFFSETTO:-0300
TZNAME:ADT
DTSTART:20260308T060000
END:DAYLIGHT
BEGIN:STANDARD
TZOFFSETFROM:-0300
TZOFFSETTO:-0400
TZNAME:AST
DTSTART:20261101T050000
END:STANDARD
END:VTIMEZONE
BEGIN:VEVENT
DTSTART;TZID=America/Halifax:20250727T140000
DTEND;TZID=America/Halifax:20250727T160000
DTSTAMP:20260423T082353
CREATED:20250713T231012Z
LAST-MODIFIED:20250726T232228Z
UID:5198994-1753624800-1753632000@carletonnorth.com
SUMMARY:Public Swim
DESCRIPTION:Public Swim Tuesday\, Wednesday\, Friday\, Saturday and SundayTime:  2:00PM – 4:00PMLocation:  All Pools                   Florenceville-Bristol Pool:  40 McCain Street                   Centreville Pool:  751 Central Street                   Bath Pool:  128 School StreetCost:  $2
URL:https://carletonnorth.com/event/public-swim-17/
CATEGORIES:Pool Schedule
END:VEVENT
BEGIN:VEVENT
DTSTART;TZID=America/Halifax:20250726T140000
DTEND;TZID=America/Halifax:20250726T160000
DTSTAMP:20260423T082353
CREATED:20250713T231011Z
LAST-MODIFIED:20250725T232229Z
UID:5198993-1753538400-1753545600@carletonnorth.com
SUMMARY:Public Swim
DESCRIPTION:Public Swim Tuesday\, Wednesday\, Friday\, Saturday and SundayTime:  2:00PM – 4:00PMLocation:  All Pools                   Florenceville-Bristol Pool:  40 McCain Street                   Centreville Pool:  751 Central Street                   Bath Pool:  128 School StreetCost:  $2
URL:https://carletonnorth.com/event/public-swim-16/
CATEGORIES:Pool Schedule
END:VEVENT
BEGIN:VEVENT
DTSTART;TZID=America/Halifax:20250726T140000
DTEND;TZID=America/Halifax:20250726T160000
DTSTAMP:20260423T082353
CREATED:20250619T191652Z
LAST-MODIFIED:20250726T133737Z
UID:4841241-1753538400-1753545600@carletonnorth.com
SUMMARY:Juniper Community Centre Jamboree
DESCRIPTION:Juniper Community Centre Jamboree2:00PM to 4:00PMThe last Saturday of the Month: follow https://www.facebook.com/JCC506 on Facebook \n \nLive Music by local performers  \nLight Lunch to share with friends and neighbors  \nDoor Prizes for a little extra excitement  \n50/50 Draw – Try your luck and support a great cause!  \nAdmission: By donation – Your contributions help support our community efforts! \nBring your family\, invite your friends\, and let’s make it an afternoon to remember! \nEmail: junipercommunitycentre@gmail.comjunipercc.ca
URL:https://carletonnorth.com/event/juniper-community-centre-jamboree-4/
LOCATION:Juniper Community Centre\, 267 Juniper Rd\, Juniper\, NB E7L 1H1\, Canada
CATEGORIES:Community Calendar
END:VEVENT
BEGIN:VEVENT
DTSTART;TZID=America/Halifax:20250726T080000
DTEND;TZID=America/Halifax:20250726T110000
DTSTAMP:20260423T082353
CREATED:20250619T191650Z
LAST-MODIFIED:20250726T133737Z
UID:4841237-1753516800-1753527600@carletonnorth.com
SUMMARY:Breakfast at Juniper Community Centre
DESCRIPTION:Breakfast at Juniper Community CentreDate: Weekly on SaturdayTime:  8:00AM – 11:00AMLocation:  Juniper Community Centre\, 267 Juniper Rd\, Juniper \nDon’t forget to join us for Breakfast  from 8am – 11am at the Juniper Community Centre.   Great company and a fantastic way to start your weekend. Everyone is welcome—bring your family\, friends\, and neighbors! 💛 \nBring someone who needs a delicious Saturday morning pick-me-up! 🍳🥓 \n#CommunityBreakfast #SaturdayVibes #GoodFoodGoodCompany \nhttps://www.facebook.com/JCC506
URL:https://carletonnorth.com/event/breakfast-at-juniper-community-centre-13/
LOCATION:Juniper Community Centre\, 267 Juniper Rd\, Juniper\, NB E7L 1H1\, Canada
CATEGORIES:Community Calendar
END:VEVENT
BEGIN:VEVENT
DTSTART;TZID=America/Halifax:20250725T180000
DTEND;TZID=America/Halifax:20250725T190000
DTSTAMP:20260423T082353
CREATED:20250713T231011Z
LAST-MODIFIED:20250724T232251Z
UID:5198992-1753466400-1753470000@carletonnorth.com
SUMMARY:Swim Team Lap - All Pools
DESCRIPTION:Swim TeamDate:  Weekly on Mon/Wed/FriTime:  6:00PM – 7:00PMLocation:  All Pools \nPool Locations:Florenceville-Bristol Pool:  40 McCain StreetCentreville Pool:  751 Central StreetBath Pool:  128 School Street
URL:https://carletonnorth.com/event/swim-team-lap-all-pools-4/
CATEGORIES:Pool Schedule
END:VEVENT
BEGIN:VEVENT
DTSTART;TZID=America/Halifax:20250725T140000
DTEND;TZID=America/Halifax:20250725T160000
DTSTAMP:20260423T082353
CREATED:20250713T231011Z
LAST-MODIFIED:20250724T232250Z
UID:5198991-1753452000-1753459200@carletonnorth.com
SUMMARY:Public Swim
DESCRIPTION:Public Swim Tuesday\, Wednesday\, Friday\, Saturday and SundayTime:  2:00PM – 4:00PMLocation:  All Pools                   Florenceville-Bristol Pool:  40 McCain Street                   Centreville Pool:  751 Central Street                   Bath Pool:  128 School StreetCost:  $2
URL:https://carletonnorth.com/event/public-swim-15/
CATEGORIES:Pool Schedule
END:VEVENT
BEGIN:VEVENT
DTSTART;TZID=America/Halifax:20250725T123000
DTEND;TZID=America/Halifax:20250725T133000
DTSTAMP:20260423T082353
CREATED:20250713T231011Z
LAST-MODIFIED:20250724T232250Z
UID:5198990-1753446600-1753450200@carletonnorth.com
SUMMARY:Senior/Lap
DESCRIPTION:Senior/LapDate: Weekly Monday- FridayTime:  12:30PM – 1:30PMLocation:  All Pools                   Florenceville-Bristol Pool:  40 McCain Street                   Centreville Pool:  751 Central Street                   Bath Pool:  128 School StreetCost:  $2
URL:https://carletonnorth.com/event/senior-lap-11/
CATEGORIES:Pool Schedule
END:VEVENT
BEGIN:VEVENT
DTSTART;TZID=America/Halifax:20250725T073000
DTEND;TZID=America/Halifax:20250725T173000
DTSTAMP:20260423T082353
CREATED:20250619T191649Z
LAST-MODIFIED:20250725T133747Z
UID:4841234-1753428600-1753464600@carletonnorth.com
SUMMARY:DCN Summer Day Camp -  Week 4 - Olympics
DESCRIPTION:DCN Summer Day Camp \nWeek 4 – Olympics \nDate:  July 21st\, 22nd & 25thTime:  7:30AM – 5:30PMLocation:  R.G. 'Bun' Veysey Active Living Centre\, 40 McCain St. Florenceville-Bristol \nJoin us for fun theme days including The Amazing Race\, outdooor adventures and the Olympic games \nCamp Information:Summer Camp 2025 is a 9 week program running from July 2nd to August 29th for children ages 6-12. \nThe camp has been designed to offer different activities throughout each day such as rock climbing\, swimming\, crafts\, and sports – ex. badminton\, basketball\, soccer etc. \nThe camp operates as a drop off/pick up program with doors opening at 7:30am and closing at 5:30pm \nPrice Information: \n1 Child | 1 Day – $35 \n1 Child | 2 Days – $70 \n1 Child | 3 Days – $105 \n1 Child | 4-5 Days – $125 (Full Time) \n \n2 Children | 1 Day – $70 \n2 Children | 2 Days – $140 \n2 Children | 3 Days – $210 \n2 Children | 4- 5 Days – $200 (Full Time) \n \n3 Children | 1 Day – $105 \n3 Children | 2 Days – $ 210 \n3 Children | 3 Days – $315 \n3 Children | 4-5 Days – $250 (Full Time) \n \n*+ $35 per child for part time (1-3 days) \, +$50 per child for full time (ex 4-5) days at 3 or more children \nPayment for camp must be made in person PRIOR to the first day of attendance for each week. \nFor any questions\, please contact: 📧recreation@carletonnorth.com or 📞 (506) 392-6763 ext. 220
URL:https://carletonnorth.com/event/dcn-summer-day-camp-week-4-olympics-2/
LOCATION:R. G. “Bun” Veysey Active Living Centre\, 40 McCain St\, Florenceville-Bristol\, NB E7L 3J4\, Canada
CATEGORIES:Community Calendar
END:VEVENT
BEGIN:VEVENT
DTSTART;TZID=America/Halifax:20250724T190000
DTEND;TZID=America/Halifax:20250724T200000
DTSTAMP:20260423T082353
CREATED:20250713T231010Z
LAST-MODIFIED:20250723T232250Z
UID:5198989-1753383600-1753387200@carletonnorth.com
SUMMARY:Free Swim - All Pools
DESCRIPTION:Florenceville-Bristol Pool: 40 McCain Street\nCentreville Pool: 751 Central Street\nBath Pool:128 School Street\nFree Swim Donated by Bath Lions Club
URL:https://carletonnorth.com/event/free-swim-all-pools-16/
CATEGORIES:Pool Schedule
END:VEVENT
BEGIN:VEVENT
DTSTART;TZID=America/Halifax:20250724T183000
DTEND;TZID=America/Halifax:20250724T200000
DTSTAMP:20260423T082353
CREATED:20250619T191649Z
LAST-MODIFIED:20250724T133818Z
UID:4841233-1753381800-1753387200@carletonnorth.com
SUMMARY:Brazilian Jiu Jitsu For beginners (Age 10+)
DESCRIPTION:Brazilian Jiu Jitsu For beginners (Age 10+)Date:  Weekly every Tuesday & Thursday in June\, July  & AugustTime:  6:30PM – 8:00PMLocation:  6 Welch Street\, Florenceville-Bristol – Pure Therapy \nCost:  $20 covers both Tuesday and Thursday classes for the weekOr $20 per drop-in class \nSign Up Online:  puretherapy.ca
URL:https://carletonnorth.com/event/brazilian-jiu-jitsu-for-beginners-age-10-12/
LOCATION:6 Welch St\, Florenceville-Bristol\, NB E7L 2E4\, Canada
CATEGORIES:Community Calendar
END:VEVENT
BEGIN:VEVENT
DTSTART;TZID=America/Halifax:20250724T180000
DTEND;TZID=America/Halifax:20250724T190000
DTSTAMP:20260423T082353
CREATED:20250713T231010Z
LAST-MODIFIED:20250723T232250Z
UID:5198988-1753380000-1753383600@carletonnorth.com
SUMMARY:Adult Lap - All Pools
DESCRIPTION:Adult LapDate: Weekly on ThursdaysTime:  6:00PM – 7:00PMLocation:  All Pools                   Florenceville-Bristol Pool:  40 McCain Street                   Centreville Pool:  751 Central Street                   Bath Pool:  128 School StreetCost:  $2
URL:https://carletonnorth.com/event/adult-lap-all-pools-4/
CATEGORIES:Pool Schedule
END:VEVENT
BEGIN:VEVENT
DTSTART;TZID=America/Halifax:20250724T140000
DTEND;TZID=America/Halifax:20250724T160000
DTSTAMP:20260423T082353
CREATED:20250713T231010Z
LAST-MODIFIED:20250723T232249Z
UID:5198987-1753365600-1753372800@carletonnorth.com
SUMMARY:Free Swim: All Pools
DESCRIPTION:Florenceville-Bristol Pool: 40 McCain Street\nCentreville Pool: 751 Central Street\nBath Pool:128 School Street\nFree Swim Donated by Bath Lions Club
URL:https://carletonnorth.com/event/free-swim-all-pools-15/
CATEGORIES:Pool Schedule
END:VEVENT
BEGIN:VEVENT
DTSTART;TZID=America/Halifax:20250724T123000
DTEND;TZID=America/Halifax:20250724T133000
DTSTAMP:20260423T082353
CREATED:20250713T231010Z
LAST-MODIFIED:20250723T232248Z
UID:5198986-1753360200-1753363800@carletonnorth.com
SUMMARY:Aqua Fitness - Bath Pool
DESCRIPTION:Aqua FitnessDate:  Mondays & ThursdaysTime:  12:30PM – 1:30PMLocation:  Bath Pool:  128 School Street                   Cost:  $5 per class           \nFor more information contact Cisca Bakker at 506-273-0384
URL:https://carletonnorth.com/event/aqua-fitness-bath-pool-8/
LOCATION:128 School St\, Bath\, NB E7J 1C4\, Canada
CATEGORIES:Pool Schedule
END:VEVENT
BEGIN:VEVENT
DTSTART;TZID=America/Halifax:20250724T123000
DTEND;TZID=America/Halifax:20250724T133000
DTSTAMP:20260423T082353
CREATED:20250713T231009Z
LAST-MODIFIED:20250723T232249Z
UID:5198985-1753360200-1753363800@carletonnorth.com
SUMMARY:Senior/Lap - Centreville & Florenceville-Bristol
DESCRIPTION:Senior/LapDate:  Weekly Monday- FridayTime:  12:30PM – 1:30PMLocation:  Florenceville-Bristol Pool:  40 McCain Street                   Centreville Pool:  751 Central Street                   Cost:  $2
URL:https://carletonnorth.com/event/senior-lap-centreville-florenceville-bristol-6/
CATEGORIES:Pool Schedule
END:VEVENT
BEGIN:VEVENT
DTSTART;TZID=America/Halifax:20250724T090000
DTEND;TZID=America/Halifax:20250724T120000
DTSTAMP:20260423T082353
CREATED:20250713T231009Z
LAST-MODIFIED:20250723T232248Z
UID:5198984-1753347600-1753358400@carletonnorth.com
SUMMARY:Morning Swimming Lessons - All Pools
DESCRIPTION:Swimming Lesson SessionsMorning Lessons:  Monday – ThursdayJune 30 – July 17July 21 – August 7August 11 – August 28 \nPool Locations \nFlorenceville-Bristol Pool:  40 McCain StreetCentreville Pool:  751 Central StreetBath Pool:  128 School Street
URL:https://carletonnorth.com/event/morning-swimming-lessons-all-pools-12/
CATEGORIES:Pool Schedule
END:VEVENT
BEGIN:VEVENT
DTSTART;TZID=America/Halifax:20250723T183000
DTEND;TZID=America/Halifax:20250723T193000
DTSTAMP:20260423T082353
CREATED:20250704T102315Z
LAST-MODIFIED:20250723T132250Z
UID:5058457-1753295400-1753299000@carletonnorth.com
SUMMARY:Wednesday Music at the Gazebo
DESCRIPTION:Wednesday at the GazeboTIME: 6:30PM TO 8:30PMEvery Wednesday in July and AugustSchedule to be posted on www.carletonnorth.com \nFor updates: https://www.facebook.com/exploredistrictofcarletonnorth
URL:https://carletonnorth.com/event/wednesday-music-at-the-gazebo-3/
LOCATION:Centreville Gazebo\, 751 Central Street\, Centreville\, NB
CATEGORIES:Community Calendar
END:VEVENT
BEGIN:VEVENT
DTSTART;TZID=America/Halifax:20250723T180000
DTEND;TZID=America/Halifax:20250723T190000
DTSTAMP:20260423T082353
CREATED:20250713T231009Z
LAST-MODIFIED:20250722T232320Z
UID:5198983-1753293600-1753297200@carletonnorth.com
SUMMARY:Swim Team
DESCRIPTION:Swim TeamDate:  Weekly on Mon/Wed/FriTime:  6:00PM – 7:00PMLocation:  All Pools \nPool Locations:Florenceville-Bristol Pool:  40 McCain StreetCentreville Pool:  751 Central StreetBath Pool:  128 School Street
URL:https://carletonnorth.com/event/swim-team-9/
CATEGORIES:Pool Schedule
END:VEVENT
BEGIN:VEVENT
DTSTART;TZID=America/Halifax:20250723T140000
DTEND;TZID=America/Halifax:20250723T160000
DTSTAMP:20260423T082353
CREATED:20250713T231009Z
LAST-MODIFIED:20250722T232319Z
UID:5198982-1753279200-1753286400@carletonnorth.com
SUMMARY:Public Swim
DESCRIPTION:Public Swim Tuesday\, Wednesday\, Friday\, Saturday and SundayTime:  2:00PM – 4:00PMLocation:  All Pools                   Florenceville-Bristol Pool:  40 McCain Street                   Centreville Pool:  751 Central Street                   Bath Pool:  128 School StreetCost:  $2
URL:https://carletonnorth.com/event/public-swim-14/
CATEGORIES:Pool Schedule
END:VEVENT
BEGIN:VEVENT
DTSTART;TZID=America/Halifax:20250723T130000
DTEND;TZID=America/Halifax:20250723T160000
DTSTAMP:20260423T082353
CREATED:20250619T191646Z
LAST-MODIFIED:20250723T132248Z
UID:4841226-1753275600-1753286400@carletonnorth.com
SUMMARY:Senior Puzzles\, Social & Cards
DESCRIPTION:Senior Puzzles\, Social & CardsDate:  Weekly on WednesdaysTime:  1:00PM – 4:00PMLocation:  R.G. ‘Bun’ Veysey Active Living Centre\,  40 McCain St. Florenceville-Bristol \nEnjoy an afternoon of card games\, snacks\, tea and fun!  Play a variation of puzzles. Feel free to bring puzzles to trade! \nCost:   $3 for entry (55+)
URL:https://carletonnorth.com/event/senior-puzzles-social-cards-59/
LOCATION:40 McCain St\, Florenceville-Bristol\, NB E7L 3J4\, Canada
CATEGORIES:Community Calendar
END:VEVENT
BEGIN:VEVENT
DTSTART;TZID=America/Halifax:20250723T123000
DTEND;TZID=America/Halifax:20250723T133000
DTSTAMP:20260423T082353
CREATED:20250713T231008Z
LAST-MODIFIED:20250722T232319Z
UID:5198981-1753273800-1753277400@carletonnorth.com
SUMMARY:Senior/Lap
DESCRIPTION:Senior/LapDate: Weekly Monday- FridayTime:  12:30PM – 1:30PMLocation:  All Pools                   Florenceville-Bristol Pool:  40 McCain Street                   Centreville Pool:  751 Central Street                   Bath Pool:  128 School StreetCost:  $2
URL:https://carletonnorth.com/event/senior-lap-10/
CATEGORIES:Pool Schedule
END:VEVENT
BEGIN:VEVENT
DTSTART;TZID=America/Halifax:20250723T100000
DTEND;TZID=America/Halifax:20250723T110000
DTSTAMP:20260423T082353
CREATED:20250703T100750Z
LAST-MODIFIED:20250723T132250Z
UID:5042941-1753264800-1753268400@carletonnorth.com
SUMMARY:Senior Stretching
DESCRIPTION:Date:  Weekly Every Wednesday in JulyTime:  10:00AM – 11:00AMLocation:  Shiktehawk Place \nEvent Details: \nNursing Home Without Walls is offering Senior Stretching at Shiktehawk Place at 10:00am.  This is a great opportunity to get moving and to socialize.  Includes some light seated exercise. \nFor more information or to join contact NHWW (506)278-3197
URL:https://carletonnorth.com/event/senior-stretching-74/
LOCATION:Shiktehawk Place
CATEGORIES:Community Calendar
END:VEVENT
BEGIN:VEVENT
DTSTART;TZID=America/Halifax:20250723T090000
DTEND;TZID=America/Halifax:20250723T120000
DTSTAMP:20260423T082353
CREATED:20250713T231008Z
LAST-MODIFIED:20250722T232319Z
UID:5198980-1753261200-1753272000@carletonnorth.com
SUMMARY:Morning Swimming Lessons - All Pools
DESCRIPTION:Swimming Lesson SessionsMorning Lessons:  Monday – ThursdayJune 30 – July 17July 21 – August 7August 11 – August 28 \nPool LocationsFlorenceville-Bristol Pool:  40 McCain StreetCentreville Pool:  751 Central StreetBath Pool:  128 School Street
URL:https://carletonnorth.com/event/morning-swimming-lessons-all-pools-11/
CATEGORIES:Pool Schedule
END:VEVENT
BEGIN:VEVENT
DTSTART;TZID=America/Halifax:20250722T190000
DTEND;TZID=America/Halifax:20250722T210000
DTSTAMP:20260423T082353
CREATED:20250619T191645Z
LAST-MODIFIED:20250722T130831Z
UID:4841224-1753210800-1753218000@carletonnorth.com
SUMMARY:District of Carleton North Council Meeting
DESCRIPTION:Items for Council’s consideration must be submitted to the Clerk amy.mcintosh@carletonnorht.com one week in advance of a Council meeting.
URL:https://carletonnorth.com/event/district-of-carleton-north-council-meeting-39/
LOCATION:Town Office\, 19 Station Rd\, Florenceville-Bristol\, NB E7L 3J8\, Canada
CATEGORIES:Community Calendar
END:VEVENT
BEGIN:VEVENT
DTSTART;TZID=America/Halifax:20250722T190000
DTEND;TZID=America/Halifax:20250722T200000
DTSTAMP:20260423T082353
CREATED:20250713T231007Z
LAST-MODIFIED:20250721T232301Z
UID:5198977-1753210800-1753214400@carletonnorth.com
SUMMARY:Public Swim: All Pools
DESCRIPTION:Public SwimDate:  Weekly on TuesdaysLocation:  All Pools                   Florenceville-Bristol Pool: 40 McCain Street                   Centreville Pool: 751 Central Street                   Bath Pool:128 School Street \nCost:  $2
URL:https://carletonnorth.com/event/public-swim-all-pools-4/
CATEGORIES:Pool Schedule
END:VEVENT
BEGIN:VEVENT
DTSTART;TZID=America/Halifax:20250722T183000
DTEND;TZID=America/Halifax:20250722T203000
DTSTAMP:20260423T082353
CREATED:20250704T102312Z
LAST-MODIFIED:20250722T130832Z
UID:5058456-1753209000-1753216200@carletonnorth.com
SUMMARY:Tunesday at Riverside Park
DESCRIPTION:Tunesday – Music at the GazeboNEW TIME: 6:30PM to  8:30PMRiverside Park\, Florenceville-Bristol \nJoin in the fun every Tuesday in July and August. Bring a Chair and enjoy the show.For updates follow the Tourism Facebook page:https://www.facebook.com/exploredistrictofcarletonnorthRain location: Second Wind Music Centre)
URL:https://carletonnorth.com/event/tunesday-at-riverside-park-3/
LOCATION:Riverside Park\, 9173 Main St\, Florenceville-Bristol\, NB E7L 2Y3\, Canada
CATEGORIES:Community Calendar
END:VEVENT
BEGIN:VEVENT
DTSTART;TZID=America/Halifax:20250722T183000
DTEND;TZID=America/Halifax:20250722T200000
DTSTAMP:20260423T082353
CREATED:20250619T191648Z
LAST-MODIFIED:20250722T130832Z
UID:4841231-1753209000-1753214400@carletonnorth.com
SUMMARY:Brazilian Jiu Jitsu For beginners (Age 10+)
DESCRIPTION:Brazilian Jiu Jitsu For beginners (Age 10+)Date:  Weekly every Tuesday & Thursday in June\, July  & AugustTime:  6:30PM – 8:00PMLocation:  6 Welch Street\, Florenceville-Bristol – Pure Therapy \nCost:  $20 covers both Tuesday and Thursday classes for the weekOr $20 per drop-in class \nSign Up Online:  puretherapy.ca
URL:https://carletonnorth.com/event/brazilian-jiu-jitsu-for-beginners-age-10-11/
LOCATION:6 Welch St\, Florenceville-Bristol\, NB E7L 2E4\, Canada
CATEGORIES:Community Calendar
END:VEVENT
BEGIN:VEVENT
DTSTART;TZID=America/Halifax:20250722T180000
DTEND;TZID=America/Halifax:20250722T190000
DTSTAMP:20260423T082353
CREATED:20250713T231008Z
LAST-MODIFIED:20250721T232301Z
UID:5198978-1753207200-1753210800@carletonnorth.com
SUMMARY:Night Swimming Lessons - All Pools
DESCRIPTION:Night Swimming LessonsSession:  July 8 – August 26Time:  6:00PM – 7:00PM Location:  All Pools                   Florenceville-Bristol Pool:  40 McCain Street                   Centreville Pool:  751 Central Street                   Bath Pool:  128 School Street \n                   
URL:https://carletonnorth.com/event/night-swimming-lessons-all-pools-5/
CATEGORIES:Pool Schedule
END:VEVENT
BEGIN:VEVENT
DTSTART;TZID=America/Halifax:20250722T173000
DTEND;TZID=America/Halifax:20250722T184500
DTSTAMP:20260423T082353
CREATED:20250713T231008Z
LAST-MODIFIED:20250721T232300Z
UID:5198979-1753205400-1753209900@carletonnorth.com
SUMMARY:Night Swimming Lessons - All Pools
DESCRIPTION:Night Swimming LessonsSession:  July 8 – August 26Time:  5:30PM – 6:45PM Location:  All Pools                   Florenceville-Bristol Pool:  40 McCain Street                   Centreville Pool:  751 Central Street                   Bath Pool:  128 School Street \n                   
URL:https://carletonnorth.com/event/night-swimming-lessons-all-pools-6/
CATEGORIES:Pool Schedule
END:VEVENT
BEGIN:VEVENT
DTSTART;TZID=America/Halifax:20250722T140000
DTEND;TZID=America/Halifax:20250722T160000
DTSTAMP:20260423T082353
CREATED:20250713T231007Z
LAST-MODIFIED:20250721T232300Z
UID:5198976-1753192800-1753200000@carletonnorth.com
SUMMARY:Public Swim
DESCRIPTION:Public Swim Tuesday\, Wednesday\, Friday\, Saturday and SundayTime:  2:00PM – 4:00PMLocation:  All Pools                   Florenceville-Bristol Pool:  40 McCain Street                   Centreville Pool:  751 Central Street                   Bath Pool:  128 School StreetCost:  $2
URL:https://carletonnorth.com/event/public-swim-13/
CATEGORIES:Pool Schedule
END:VEVENT
BEGIN:VEVENT
DTSTART;TZID=America/Halifax:20250722T123000
DTEND;TZID=America/Halifax:20250722T133000
DTSTAMP:20260423T082353
CREATED:20250713T231007Z
LAST-MODIFIED:20250721T232300Z
UID:5198975-1753187400-1753191000@carletonnorth.com
SUMMARY:Senior/Lap
DESCRIPTION:Senior/LapDate: Weekly Monday- FridayTime:  12:30PM – 1:30PMLocation:  All Pools                   Florenceville-Bristol Pool:  40 McCain Street                   Centreville Pool:  751 Central Street                   Bath Pool:  128 School StreetCost:  $2
URL:https://carletonnorth.com/event/senior-lap-9/
CATEGORIES:Pool Schedule
END:VEVENT
END:VCALENDAR