BEGIN:VCALENDAR
VERSION:2.0
PRODID:-//District of Carleton North - ECPv6.15.20//NONSGML v1.0//EN
CALSCALE:GREGORIAN
METHOD:PUBLISH
X-WR-CALNAME:District of Carleton North
X-ORIGINAL-URL:https://carletonnorth.com
X-WR-CALDESC:Events for District of Carleton North
REFRESH-INTERVAL;VALUE=DURATION:PT1H
X-Robots-Tag:noindex
X-PUBLISHED-TTL:PT1H
BEGIN:VTIMEZONE
TZID:America/Halifax
BEGIN:DAYLIGHT
TZOFFSETFROM:-0400
TZOFFSETTO:-0300
TZNAME:ADT
DTSTART:20240310T060000
END:DAYLIGHT
BEGIN:STANDARD
TZOFFSETFROM:-0300
TZOFFSETTO:-0400
TZNAME:AST
DTSTART:20241103T050000
END:STANDARD
BEGIN:DAYLIGHT
TZOFFSETFROM:-0400
TZOFFSETTO:-0300
TZNAME:ADT
DTSTART:20250309T060000
END:DAYLIGHT
BEGIN:STANDARD
TZOFFSETFROM:-0300
TZOFFSETTO:-0400
TZNAME:AST
DTSTART:20251102T050000
END:STANDARD
BEGIN:DAYLIGHT
TZOFFSETFROM:-0400
TZOFFSETTO:-0300
TZNAME:ADT
DTSTART:20260308T060000
END:DAYLIGHT
BEGIN:STANDARD
TZOFFSETFROM:-0300
TZOFFSETTO:-0400
TZNAME:AST
DTSTART:20261101T050000
END:STANDARD
END:VTIMEZONE
BEGIN:VEVENT
DTSTART;TZID=America/Halifax:20251011T121500
DTEND;TZID=America/Halifax:20251011T131500
DTSTAMP:20260423T084235
CREATED:20250821T152309Z
LAST-MODIFIED:20251011T160735Z
UID:5763297-1760184900-1760188500@carletonnorth.com
SUMMARY:U13 TRYOUT 3 - MINOR HOCKEY
DESCRIPTION:
URL:https://carletonnorth.com/event/u13-tryout-3-minor-hockey/
END:VEVENT
BEGIN:VEVENT
DTSTART;TZID=America/Halifax:20251011T133000
DTEND;TZID=America/Halifax:20251011T143000
DTSTAMP:20260423T084235
CREATED:20250821T152309Z
LAST-MODIFIED:20251011T172242Z
UID:5763298-1760189400-1760193000@carletonnorth.com
SUMMARY:U15 TRYOUT 3 - MINOR HOCKEY
DESCRIPTION:
URL:https://carletonnorth.com/event/u15-tryout-3-minor-hockey/
END:VEVENT
BEGIN:VEVENT
DTSTART;TZID=America/Halifax:20251011T144500
DTEND;TZID=America/Halifax:20251011T154500
DTSTAMP:20260423T084235
CREATED:20250821T152309Z
LAST-MODIFIED:20251011T183734Z
UID:5763299-1760193900-1760197500@carletonnorth.com
SUMMARY:PRACTICE FOR PLAYERS NOT DOING TRYOUTS - MINOR HOCKEY
DESCRIPTION:
URL:https://carletonnorth.com/event/practice-for-players-not-doing-tryouts-minor-hockey/
END:VEVENT
BEGIN:VEVENT
DTSTART;TZID=America/Halifax:20251011T183000
DTEND;TZID=America/Halifax:20251011T200000
DTSTAMP:20260423T084235
CREATED:20251009T093746Z
LAST-MODIFIED:20251011T222256Z
UID:6508552-1760207400-1760212800@carletonnorth.com
SUMMARY:PUBLIC SKATE
DESCRIPTION:
URL:https://carletonnorth.com/event/public-skate-128/
END:VEVENT
BEGIN:VEVENT
DTSTART;TZID=America/Halifax:20251012T090000
DTEND;TZID=America/Halifax:20251012T100000
DTSTAMP:20260423T084235
CREATED:20251010T163741Z
LAST-MODIFIED:20251012T120736Z
UID:6527235-1760259600-1760263200@carletonnorth.com
SUMMARY:PRIVATE RENTAL
DESCRIPTION:
URL:https://carletonnorth.com/event/private-rental-48/
END:VEVENT
BEGIN:VEVENT
DTSTART;TZID=America/Halifax:20251012T101500
DTEND;TZID=America/Halifax:20251012T111500
DTSTAMP:20260423T084235
CREATED:20251009T093747Z
LAST-MODIFIED:20251012T132243Z
UID:6508553-1760264100-1760267700@carletonnorth.com
SUMMARY:PRIVATE RENTAL
DESCRIPTION:
URL:https://carletonnorth.com/event/private-rental-44/
END:VEVENT
BEGIN:VEVENT
DTSTART;TZID=America/Halifax:20251012T113000
DTEND;TZID=America/Halifax:20251012T123000
DTSTAMP:20260423T084235
CREATED:20251009T093748Z
LAST-MODIFIED:20251012T143748Z
UID:6508554-1760268600-1760272200@carletonnorth.com
SUMMARY:PRIVATE RENTAL
DESCRIPTION:
URL:https://carletonnorth.com/event/private-rental-45/
END:VEVENT
BEGIN:VEVENT
DTSTART;TZID=America/Halifax:20251012T140000
DTEND;TZID=America/Halifax:20251012T150000
DTSTAMP:20260423T084235
CREATED:20251008T092311Z
LAST-MODIFIED:20251012T170750Z
UID:6493579-1760277600-1760281200@carletonnorth.com
SUMMARY:PRIVATE RENTAL
DESCRIPTION:
URL:https://carletonnorth.com/event/private-rental-42/
END:VEVENT
BEGIN:VEVENT
DTSTART;TZID=America/Halifax:20251012T151500
DTEND;TZID=America/Halifax:20251012T161500
DTSTAMP:20260423T084235
CREATED:20251008T092312Z
LAST-MODIFIED:20251012T182310Z
UID:6493580-1760282100-1760285700@carletonnorth.com
SUMMARY:PRIVATE RENTAL
DESCRIPTION:
URL:https://carletonnorth.com/event/private-rental-43/
END:VEVENT
BEGIN:VEVENT
DTSTART;TZID=America/Halifax:20251012T163000
DTEND;TZID=America/Halifax:20251012T173000
DTSTAMP:20260423T084235
CREATED:20251009T093749Z
LAST-MODIFIED:20251012T193737Z
UID:6508557-1760286600-1760290200@carletonnorth.com
SUMMARY:PRIVATE RENTAL
DESCRIPTION:
URL:https://carletonnorth.com/event/private-rental-46/
END:VEVENT
BEGIN:VEVENT
DTSTART;TZID=America/Halifax:20251012T190000
DTEND;TZID=America/Halifax:20251012T210000
DTSTAMP:20260423T084235
CREATED:20250924T131515Z
LAST-MODIFIED:20251012T210813Z
UID:6285226-1760295600-1760302800@carletonnorth.com
SUMMARY:Kin Club Bingo
DESCRIPTION:Kin Club BingoDate:  Weekly on SundayTime:  7:00PM – 9:00PMLocation:  Florenceville Kin Centre\, 381 Centreville Rd. Florenceville-Bristol \nThe Kin Club Weekly Bingo Takes Place every Sunday\, with door opening at 6pm and games starting at 7pm.Cost: $10 books\, $5 books\, $1 Specials and $25 package deals and more.
URL:https://carletonnorth.com/event/kin-club-bingo-84/
LOCATION:Florenceville Kin Center\, 381 Centreville Rd\, Florenceville-Bristol\, NB E7L 3K5\, Canada
CATEGORIES:Community Calendar
END:VEVENT
BEGIN:VEVENT
DTSTART;VALUE=DATE:20251013
DTEND;VALUE=DATE:20251014
DTSTAMP:20260423T084235
CREATED:20250821T152310Z
LAST-MODIFIED:20251013T230823Z
UID:5763302-1760313600-1760399999@carletonnorth.com
SUMMARY:THANKSGIVING ARENA CLOSED
DESCRIPTION:
URL:https://carletonnorth.com/event/thanksgiving-arena-closed/
END:VEVENT
BEGIN:VEVENT
DTSTART;VALUE=DATE:20251013
DTEND;VALUE=DATE:20251014
DTSTAMP:20260423T084235
CREATED:20250924T131506Z
LAST-MODIFIED:20251013T212315Z
UID:6285225-1760313600-1760399999@carletonnorth.com
SUMMARY:Thanksgiving Day - Municipal Offices Closed
DESCRIPTION:
URL:https://carletonnorth.com/event/thanksgiving-day-municipal-offices-closed-2/
CATEGORIES:Community Calendar
END:VEVENT
BEGIN:VEVENT
DTSTART;TZID=America/Halifax:20251013T130000
DTEND;TZID=America/Halifax:20251013T133000
DTSTAMP:20260423T084235
CREATED:20251002T183739Z
LAST-MODIFIED:20251012T210813Z
UID:6408393-1760360400-1760362200@carletonnorth.com
SUMMARY:Senior Stretching
DESCRIPTION:Date:  Every Monday in JulyTime:  1:00PM – 1:30PMLocation:  Beechwood Senior ComplexEvent Details:   \nNursing Home Without Walls is offering Senior Stretching at Beechwood Senior Complex at 1:00pm.  This is a great opportunity to get moving and to socialize.  Includes some light seated exercise with NHWW staff. For more information or to join call NHWW (506) 278-3197
URL:https://carletonnorth.com/event/senior-stretching-517/
LOCATION:Beechwood Senior Complex
CATEGORIES:Community Calendar
END:VEVENT
BEGIN:VEVENT
DTSTART;TZID=America/Halifax:20251013T140000
DTEND;TZID=America/Halifax:20251013T143000
DTSTAMP:20260423T084235
CREATED:20251002T183740Z
LAST-MODIFIED:20251012T210814Z
UID:6408394-1760364000-1760365800@carletonnorth.com
SUMMARY:Senior Stretching
DESCRIPTION:Date:  Weekly every Monday in JulyTIme:  2:00PM – 2:30PMLocation:   River View Manor Complex \nEvent Details: \nNursing Home Without Walls is offering Senior Stretching at River View Manor Complex at 2:00pm.  This is a great opportunity to get moving and to socialize.  Includes some light seated exercise with NHWW staff. \nFor more information or to join call NHWW (506)278-3197
URL:https://carletonnorth.com/event/senior-stretching-518/
LOCATION:River View Manor Complex\, 96 Hospital St\, Bath\, NB E7J 1B9\, Canada
CATEGORIES:Community Calendar
END:VEVENT
BEGIN:VEVENT
DTSTART;TZID=America/Halifax:20251014T120000
DTEND;TZID=America/Halifax:20251014T130000
DTSTAMP:20260423T084235
CREATED:20250927T063801Z
LAST-MODIFIED:20251014T152319Z
UID:6326414-1760443200-1760446800@carletonnorth.com
SUMMARY:ADULT SKATE FREE
DESCRIPTION:
URL:https://carletonnorth.com/event/adult-skate-free-8/
END:VEVENT
BEGIN:VEVENT
DTSTART;TZID=America/Halifax:20251014T130000
DTEND;TZID=America/Halifax:20251014T140000
DTSTAMP:20260423T084235
CREATED:20250927T063801Z
LAST-MODIFIED:20251014T163730Z
UID:6326413-1760446800-1760450400@carletonnorth.com
SUMMARY:PARENTS & TOTS FREE
DESCRIPTION:
URL:https://carletonnorth.com/event/parents-tots-free-4/
END:VEVENT
BEGIN:VEVENT
DTSTART;TZID=America/Halifax:20251014T140000
DTEND;TZID=America/Halifax:20251014T150000
DTSTAMP:20260423T084235
CREATED:20250927T063801Z
LAST-MODIFIED:20251014T175250Z
UID:6326415-1760450400-1760454000@carletonnorth.com
SUMMARY:SENIOR SKATE - FREE
DESCRIPTION:
URL:https://carletonnorth.com/event/senior-skate-free-4/
END:VEVENT
BEGIN:VEVENT
DTSTART;TZID=America/Halifax:20251014T160000
DTEND;TZID=America/Halifax:20251014T171500
DTSTAMP:20260423T084235
CREATED:20250822T132331Z
LAST-MODIFIED:20251014T190836Z
UID:5776530-1760457600-1760462100@carletonnorth.com
SUMMARY:CARLETON NORTH GIRLS
DESCRIPTION:
URL:https://carletonnorth.com/event/carleton-north-girls-50/
END:VEVENT
BEGIN:VEVENT
DTSTART;TZID=America/Halifax:20251014T173000
DTEND;TZID=America/Halifax:20251014T183000
DTSTAMP:20260423T084235
CREATED:20250821T152311Z
LAST-MODIFIED:20251014T202310Z
UID:5763304-1760463000-1760466600@carletonnorth.com
SUMMARY:U7 3- MINOR HOCKEY
DESCRIPTION:
URL:https://carletonnorth.com/event/u7-3-minor-hockey/
END:VEVENT
BEGIN:VEVENT
DTSTART;TZID=America/Halifax:20251014T184500
DTEND;TZID=America/Halifax:20251014T194500
DTSTAMP:20260423T084235
CREATED:20250821T152311Z
LAST-MODIFIED:20251014T213731Z
UID:5763305-1760467500-1760471100@carletonnorth.com
SUMMARY:U13 TRYOUT 4 - MINOR HOCKEY
DESCRIPTION:
URL:https://carletonnorth.com/event/u13-tryout-4-minor-hockey/
END:VEVENT
BEGIN:VEVENT
DTSTART;TZID=America/Halifax:20251014T190000
DTEND;TZID=America/Halifax:20251014T210000
DTSTAMP:20260423T084235
CREATED:20250924T131533Z
LAST-MODIFIED:20251013T212316Z
UID:6285228-1760468400-1760475600@carletonnorth.com
SUMMARY:District of Carleton North Council Meeting
DESCRIPTION:If you wish to present to Council please submit the online form to the Clerk. Forms must be submitted one week in advance of a Council meeting. \nhttps://carletonnorth.com/town-hall/council-meetings/present-to-council/
URL:https://carletonnorth.com/event/district-of-carleton-north-council-meeting-40/
LOCATION:Town Office\, 19 Station Rd\, Florenceville-Bristol\, NB E7L 3J8\, Canada
CATEGORIES:Community Calendar
END:VEVENT
BEGIN:VEVENT
DTSTART;TZID=America/Halifax:20251014T200000
DTEND;TZID=America/Halifax:20251014T210000
DTSTAMP:20260423T084235
CREATED:20250821T152311Z
LAST-MODIFIED:20251014T225349Z
UID:5763306-1760472000-1760475600@carletonnorth.com
SUMMARY:U15 TRYOUT 4 - MINOR HOCKEY
DESCRIPTION:
URL:https://carletonnorth.com/event/u15-tryout-4-minor-hockey/
END:VEVENT
BEGIN:VEVENT
DTSTART;VALUE=DATE:20251015
DTEND;VALUE=DATE:20251016
DTSTAMP:20260423T084235
CREATED:20251015T215327Z
LAST-MODIFIED:20251015T215327Z
UID:6613483-1760486400-1760572799@carletonnorth.com
SUMMARY:NHWW Cooking For You x 2
DESCRIPTION:NHWW Cooking For You x 2Date:   October 15\, 2025 \nOne day workshop to cook meals together.  Take two portions home for later plus recipes.  Pre-registration is required.  Call (506) 278-3197 for more information or to register
URL:https://carletonnorth.com/event/nhww-cooking-for-you-x-2/
CATEGORIES:Community Calendar
END:VEVENT
BEGIN:VEVENT
DTSTART;TZID=America/Halifax:20251015T120000
DTEND;TZID=America/Halifax:20251015T130000
DTSTAMP:20260423T084235
CREATED:20250927T063803Z
LAST-MODIFIED:20251015T150736Z
UID:6326416-1760529600-1760533200@carletonnorth.com
SUMMARY:ADULT SKATE - FREE
DESCRIPTION:
URL:https://carletonnorth.com/event/adult-skate-free-9/
END:VEVENT
BEGIN:VEVENT
DTSTART;TZID=America/Halifax:20251015T174500
DTEND;TZID=America/Halifax:20251015T184500
DTSTAMP:20260423T084235
CREATED:20250821T152311Z
LAST-MODIFIED:20251015T212335Z
UID:5763307-1760550300-1760553900@carletonnorth.com
SUMMARY:U9 - MINOR HOCKEY
DESCRIPTION:
URL:https://carletonnorth.com/event/u9-tiering-3-minor-hockey-2/
END:VEVENT
BEGIN:VEVENT
DTSTART;TZID=America/Halifax:20251015T183000
DTEND;TZID=America/Halifax:20251015T200000
DTSTAMP:20260423T084235
CREATED:20251015T215319Z
LAST-MODIFIED:20251015T215319Z
UID:6613482-1760553000-1760558400@carletonnorth.com
SUMMARY:Midweek Mindful Yoga Series with Mag
DESCRIPTION:Midweek Mindful Yoga Series with MagDate:  Wednesdays | Oct 1 – Nov 19 (8 weeks)Time:  6:30PM – 8:00PMLocation:  Pure Therapy\, 6 Welch St. Florenceville-Bristol \nMidweek Mindful Movement – 8-Week Yoga Serieswith Instructor Magen Charters\, RSMT & CYT \nWednesdays • Oct 1 – Nov 19 ( 8 weeks)6:30 – 8:00 PM • Pure Therapy \nBuild focus\, flexibility\, and balance through weekly meditation\, gentle flow\, and yin yoga all in one class.• For all levels \nFull 8-week commitment Required.No refunds for missed classes\, but you may send a friend in your place.Limited Space. \nCost $200 \nSign up @puretherapy.ca
URL:https://carletonnorth.com/event/midweek-mindful-yoga-series-with-mag-3/
LOCATION:6 Welch St\, Florenceville-Bristol\, NB E7L 2E4\, Canada
CATEGORIES:Community Calendar
END:VEVENT
BEGIN:VEVENT
DTSTART;TZID=America/Halifax:20251015T190000
DTEND;TZID=America/Halifax:20251015T200000
DTSTAMP:20260423T084235
CREATED:20250821T152311Z
LAST-MODIFIED:20251015T223729Z
UID:5763308-1760554800-1760558400@carletonnorth.com
SUMMARY:U11 TRYOUT 4 - MINOR HOCKEY
DESCRIPTION:
URL:https://carletonnorth.com/event/u11-tryout-4-minor-hockey/
END:VEVENT
BEGIN:VEVENT
DTSTART;TZID=America/Halifax:20251015T201500
DTEND;TZID=America/Halifax:20251015T211500
DTSTAMP:20260423T084235
CREATED:20250904T183755Z
LAST-MODIFIED:20251015T235230Z
UID:5983548-1760559300-1760562900@carletonnorth.com
SUMMARY:CARLETON NORTH BOYS
DESCRIPTION:
URL:https://carletonnorth.com/event/carleton-north-boys-58/
END:VEVENT
BEGIN:VEVENT
DTSTART;TZID=America/Halifax:20251016T113000
DTEND;TZID=America/Halifax:20251016T120000
DTSTAMP:20260423T084235
CREATED:20251015T215336Z
LAST-MODIFIED:20251015T215336Z
UID:6613484-1760614200-1760616000@carletonnorth.com
SUMMARY:NHWW - Sound Bath
DESCRIPTION:NHWW- Sound Bath  \nDate: Oct 16\, 2025Time: 11:30am WholeBody Wellness\, Denise O’Brien\, N.D.  RNP will be offering a 30 minute Sound Bath.  Deep relaxation\, stress and anxiety reduction and improve your mood and wellbeing!  Must pre-register as space is limited. Location will be given at the time of registration.  
URL:https://carletonnorth.com/event/nhww-sound-bath/
CATEGORIES:Community Calendar
END:VEVENT
END:VCALENDAR