BEGIN:VCALENDAR
VERSION:2.0
PRODID:-//District of Carleton North - ECPv6.15.20//NONSGML v1.0//EN
CALSCALE:GREGORIAN
METHOD:PUBLISH
X-ORIGINAL-URL:https://carletonnorth.com
X-WR-CALDESC:Events for District of Carleton North
REFRESH-INTERVAL;VALUE=DURATION:PT1H
X-Robots-Tag:noindex
X-PUBLISHED-TTL:PT1H
BEGIN:VTIMEZONE
TZID:America/Halifax
BEGIN:DAYLIGHT
TZOFFSETFROM:-0400
TZOFFSETTO:-0300
TZNAME:ADT
DTSTART:20250309T060000
END:DAYLIGHT
BEGIN:STANDARD
TZOFFSETFROM:-0300
TZOFFSETTO:-0400
TZNAME:AST
DTSTART:20251102T050000
END:STANDARD
BEGIN:DAYLIGHT
TZOFFSETFROM:-0400
TZOFFSETTO:-0300
TZNAME:ADT
DTSTART:20260308T060000
END:DAYLIGHT
BEGIN:STANDARD
TZOFFSETFROM:-0300
TZOFFSETTO:-0400
TZNAME:AST
DTSTART:20261101T050000
END:STANDARD
BEGIN:DAYLIGHT
TZOFFSETFROM:-0400
TZOFFSETTO:-0300
TZNAME:ADT
DTSTART:20270314T060000
END:DAYLIGHT
BEGIN:STANDARD
TZOFFSETFROM:-0300
TZOFFSETTO:-0400
TZNAME:AST
DTSTART:20271107T050000
END:STANDARD
END:VTIMEZONE
BEGIN:VEVENT
DTSTART;TZID=America/Halifax:20260612T173000
DTEND;TZID=America/Halifax:20260612T183000
DTSTAMP:20260423T144934
CREATED:20260420T170024Z
LAST-MODIFIED:20260423T170814Z
UID:9105080-1781285400-1781289000@carletonnorth.com
SUMMARY:Friday Night Social
DESCRIPTION:Friday Night SocialDate:  Weekly on FridayTime:  5:30PMLocation:  Upper Kent Rec Centre\, 240 Upper Kent Rd.\, Upper Kent \nEntry by DonationWhile Supplies Last
URL:https://carletonnorth.com/event/friday-night-social-42/
LOCATION:240 Upper Kent Rd\, Upper Kent\, NB E7J 2E6\, Canada
CATEGORIES:Community Calendar
END:VEVENT
BEGIN:VEVENT
DTSTART;VALUE=DATE:20260613
DTEND;VALUE=DATE:20260614
DTSTAMP:20260423T144934
CREATED:20260421T170819Z
LAST-MODIFIED:20260423T170814Z
UID:9105198-1781308800-1781395199@carletonnorth.com
SUMMARY:Breakfast at the Juniper Community Centre
DESCRIPTION:Breakfast at the Juniper Community CentreDate:  Every Saturday until September 26\, 2026Time:  8:00AM -11:00AMLocation:  Juniper Community Centre\, 267 Juniper Rd.\, Juniper \nLet’s have breakfast!  Breakfast is back every Saturday!
URL:https://carletonnorth.com/event/breakfast-at-the-juniper-community-centre-12/
LOCATION:267 Juniper Rd\, Juniper\, NB E7L 1H1\, Canada
CATEGORIES:Community Calendar
END:VEVENT
BEGIN:VEVENT
DTSTART;TZID=America/Halifax:20260613T123000
DTEND;TZID=America/Halifax:20260613T133000
DTSTAMP:20260423T144934
CREATED:20260421T170818Z
LAST-MODIFIED:20260423T170815Z
UID:9105197-1781353800-1781357400@carletonnorth.com
SUMMARY:Stickney Bingo
DESCRIPTION:Stickney Bingo every Saturday at 53 Bell Street in Stickney. Doors :11:30AM Bingo Starts: 12:30PMLocation: at 53 Bell Street \, Stickney. \nThis is dobber bingo which has 50/50 games\, winner take all and a Jack pot game. \nThe Stickney Recreation Center is equipped with a ramp and stair lift and a rear entrance at ground level. All are welcome.
URL:https://carletonnorth.com/event/stickney-bingo-33/
LOCATION:53 Bell St\, Stickney\, NB E7L 4C7\, Canada
CATEGORIES:Community Calendar
END:VEVENT
BEGIN:VEVENT
DTSTART;TZID=America/Halifax:20260614T190000
DTEND;TZID=America/Halifax:20260614T210000
DTSTAMP:20260423T144934
CREATED:20260422T170812Z
LAST-MODIFIED:20260423T170816Z
UID:9105340-1781463600-1781470800@carletonnorth.com
SUMMARY:Kin Club Bingo
DESCRIPTION:Kin Club BingoDate:  Weekly on SundayTime:  7:00PM – 9:00PMLocation:  Florenceville Kin Centre\, 381 Centreville Rd. Florenceville-Bristol \nThe Kin Club Weekly Bingo Takes Place every Sunday\, with door opening at 6pm and games starting at 7pm.Cost: $10 books\, $5 books\, $1 Specials and $25 package deals and more.
URL:https://carletonnorth.com/event/kin-club-bingo-120/
LOCATION:Florenceville Kin Center\, 381 Centreville Rd\, Florenceville-Bristol\, NB E7L 3K5\, Canada
CATEGORIES:Community Calendar
END:VEVENT
END:VCALENDAR