BEGIN:VCALENDAR
VERSION:2.0
PRODID:-//District of Carleton North - ECPv6.15.20//NONSGML v1.0//EN
CALSCALE:GREGORIAN
METHOD:PUBLISH
X-ORIGINAL-URL:https://carletonnorth.com
X-WR-CALDESC:Events for District of Carleton North
REFRESH-INTERVAL;VALUE=DURATION:PT1H
X-Robots-Tag:noindex
X-PUBLISHED-TTL:PT1H
BEGIN:VTIMEZONE
TZID:America/Halifax
BEGIN:DAYLIGHT
TZOFFSETFROM:-0400
TZOFFSETTO:-0300
TZNAME:ADT
DTSTART:20240310T060000
END:DAYLIGHT
BEGIN:STANDARD
TZOFFSETFROM:-0300
TZOFFSETTO:-0400
TZNAME:AST
DTSTART:20241103T050000
END:STANDARD
BEGIN:DAYLIGHT
TZOFFSETFROM:-0400
TZOFFSETTO:-0300
TZNAME:ADT
DTSTART:20250309T060000
END:DAYLIGHT
BEGIN:STANDARD
TZOFFSETFROM:-0300
TZOFFSETTO:-0400
TZNAME:AST
DTSTART:20251102T050000
END:STANDARD
BEGIN:DAYLIGHT
TZOFFSETFROM:-0400
TZOFFSETTO:-0300
TZNAME:ADT
DTSTART:20260308T060000
END:DAYLIGHT
BEGIN:STANDARD
TZOFFSETFROM:-0300
TZOFFSETTO:-0400
TZNAME:AST
DTSTART:20261101T050000
END:STANDARD
END:VTIMEZONE
BEGIN:VEVENT
DTSTART;TZID=America/Halifax:20250624T190000
DTEND;TZID=America/Halifax:20250624T210000
DTSTAMP:20260422T190416
CREATED:20250619T191028Z
LAST-MODIFIED:20250624T235314Z
UID:4840525-1750791600-1750798800@carletonnorth.com
SUMMARY:District of Carleton North Council Meeting
DESCRIPTION:Items for Council’s consideration must be submitted to the Clerk amy.mcintosh@carletonnorht.com one week in advance of a Council meeting.
URL:https://carletonnorth.com/event/district-of-carleton-north-council-meeting-37/
LOCATION:Town Office\, 19 Station Rd\, Florenceville-Bristol\, NB E7L 3J8\, Canada
CATEGORIES:Community Calendar
END:VEVENT
BEGIN:VEVENT
DTSTART;TZID=America/Halifax:20250625T083000
DTEND;TZID=America/Halifax:20250625T103000
DTSTAMP:20260422T190416
CREATED:20250619T191053Z
LAST-MODIFIED:20250624T235314Z
UID:4840528-1750840200-1750847400@carletonnorth.com
SUMMARY:Adult/Senior Pickleball Drop-Ins
DESCRIPTION:Adult/Senior Pickleball Drop-insDate:  Wednesdays June 25\, 2025Time:  8:30AM-10:30AMLocation:  R.G. “Bun” Veysey Active Living Centre \nDetails:All ages and skill levels welcomeCost: $3- Adults $2-Senior/55+ \nFor any questions\, please contact:📧 recreation@carletonnorth.com☎ (506) 392-6763 Ext. 220
URL:https://carletonnorth.com/event/regular-pickleball-drop-ins-4/
LOCATION:40 McCain St\, Florenceville-Bristol\, NB E7L 3J4\, Canada
CATEGORIES:Community Calendar
END:VEVENT
BEGIN:VEVENT
DTSTART;TZID=America/Halifax:20250625T100000
DTEND;TZID=America/Halifax:20250625T110000
DTSTAMP:20260422T190416
CREATED:20250619T191101Z
LAST-MODIFIED:20250624T235314Z
UID:4840529-1750845600-1750849200@carletonnorth.com
SUMMARY:Senior Stretching
DESCRIPTION:Date:  Weekly Every Wednesday in JuneTime:  10:00AM – 11:00AMLocation:  Shiktehawk Place \nEvent Details: \nNursing Home Without Walls is offering Senior Stretching at Shiktehawk Place at 10:00am.  This is a great opportunity to get moving and to socialize.  Includes some light seated exercise. \nFor more information or to join contact NHWW (506)278-3197
URL:https://carletonnorth.com/event/senior-stretching-62/
LOCATION:Shiktehawk Place
CATEGORIES:Community Calendar
END:VEVENT
BEGIN:VEVENT
DTSTART;TZID=America/Halifax:20250625T100000
DTEND;TZID=America/Halifax:20250625T130000
DTSTAMP:20260422T190416
CREATED:20250623T233745Z
LAST-MODIFIED:20250624T235315Z
UID:4904165-1750845600-1750856400@carletonnorth.com
SUMMARY:Rockwall Drop-in
DESCRIPTION:Rockwall Drop-ins\nCost: $3 Adult | $2 55+\n506-392-6763 ext 220 for more information
URL:https://carletonnorth.com/event/rockwall-drop-in-282/
LOCATION:40 McCain St\, Florenceville-Bristol\, NB E7L 3J4\, Canada
CATEGORIES:Community Calendar
END:VEVENT
BEGIN:VEVENT
DTSTART;TZID=America/Halifax:20250625T111500
DTEND;TZID=America/Halifax:20250625T121500
DTSTAMP:20260422T190416
CREATED:20250619T191109Z
LAST-MODIFIED:20250624T235315Z
UID:4840530-1750850100-1750853700@carletonnorth.com
SUMMARY:Senior Stretching
DESCRIPTION:Date:  Weekly Every Wednesday in JuneTime:  11:15AM – 12:15PMLocation:  Centreville Baptist ChurchEvent Details: \nNursing Home Without Walls is offering Senior Stretching at Centreville Baptist at 11:15am.  This is a great opportunity to get moving and to socialize.  Includes some light seated exercise with NHWW staff. \nFor more information or to join contact NHWW (506) 278-3197
URL:https://carletonnorth.com/event/senior-stretching-63/
LOCATION:Shiktehawk Place
CATEGORIES:Community Calendar
END:VEVENT
BEGIN:VEVENT
DTSTART;TZID=America/Halifax:20250625T130000
DTEND;TZID=America/Halifax:20250625T160000
DTSTAMP:20260422T190416
CREATED:20250619T191125Z
LAST-MODIFIED:20250624T235316Z
UID:4840554-1750856400-1750867200@carletonnorth.com
SUMMARY:Senior Puzzles\, Social & Cards
DESCRIPTION:Senior Puzzles\, Social & CardsDate:  Weekly on WednesdaysTime:  1:00PM – 4:00PMLocation:  R.G. ‘Bun’ Veysey Active Living Centre\,  40 McCain St. Florenceville-Bristol \nEnjoy an afternoon of card games\, snacks\, tea and fun!  Play a variation of puzzles. Feel free to bring puzzles to trade! \nCost:   $3 for entry (55+)
URL:https://carletonnorth.com/event/senior-puzzles-social-cards-57/
LOCATION:40 McCain St\, Florenceville-Bristol\, NB E7L 3J4\, Canada
CATEGORIES:Community Calendar
END:VEVENT
BEGIN:VEVENT
DTSTART;TZID=America/Halifax:20250625T160000
DTEND;TZID=America/Halifax:20250625T190000
DTSTAMP:20260422T190416
CREATED:20250619T191116Z
LAST-MODIFIED:20250624T235316Z
UID:4840531-1750867200-1750878000@carletonnorth.com
SUMMARY:Rockwall Drop-in
DESCRIPTION:Rockwall Drop-ins\nCost: $3 Adult | $2 55+\n506-392-6763 ext 220 for more information
URL:https://carletonnorth.com/event/rockwall-drop-in-67/
LOCATION:40 McCain St\, Florenceville-Bristol\, NB E7L 3J4\, Canada
CATEGORIES:Community Calendar
END:VEVENT
BEGIN:VEVENT
DTSTART;TZID=America/Halifax:20250625T180000
DTEND;TZID=America/Halifax:20250625T190000
DTSTAMP:20260422T190416
CREATED:20250623T212238Z
LAST-MODIFIED:20250625T212233Z
UID:4902773-1750874400-1750878000@carletonnorth.com
SUMMARY:Swim Team
DESCRIPTION:Swim TeamDate:  Weekly on Mon/Wed/FriTime:  6:00PM – 7:00PMLocation:  All Pools \nPool Locations:Florenceville-Bristol Pool:  40 McCain StreetCentreville Pool:  751 Central StreetBath Pool:  128 School Street
URL:https://carletonnorth.com/event/swim-team/
CATEGORIES:Pool Schedule
END:VEVENT
BEGIN:VEVENT
DTSTART;TZID=America/Halifax:20250626T100000
DTEND;TZID=America/Halifax:20250626T130000
DTSTAMP:20260422T190416
CREATED:20250623T233747Z
LAST-MODIFIED:20250626T082302Z
UID:4904166-1750932000-1750942800@carletonnorth.com
SUMMARY:Rockwall Drop-in
DESCRIPTION:Rockwall Drop-ins\nCost: $3 Adult | $2 55+\n506-392-6763 ext 220 for more information
URL:https://carletonnorth.com/event/rockwall-drop-in-283/
LOCATION:40 McCain St\, Florenceville-Bristol\, NB E7L 3J4\, Canada
CATEGORIES:Community Calendar
END:VEVENT
BEGIN:VEVENT
DTSTART;TZID=America/Halifax:20250626T160000
DTEND;TZID=America/Halifax:20250626T190000
DTSTAMP:20260422T190416
CREATED:20250619T191148Z
LAST-MODIFIED:20250626T082303Z
UID:4840640-1750953600-1750964400@carletonnorth.com
SUMMARY:Rockwall Drop-ins
DESCRIPTION:Rockwall Drop-ins\nCost: $3 Adult | $2 55+\nThursdays\n1:00PM-3:00PM\n5:30PM-8:30PM\nFor more information: 506-392-6763 ext. 220
URL:https://carletonnorth.com/event/rockwall-drop-ins-147/
LOCATION:40 McCain St\, Florenceville-Bristol\, NB E7L 3J4\, Canada
CATEGORIES:Community Calendar
END:VEVENT
BEGIN:VEVENT
DTSTART;TZID=America/Halifax:20250626T163000
DTEND;TZID=America/Halifax:20250626T183000
DTSTAMP:20260422T190416
CREATED:20250619T191204Z
LAST-MODIFIED:20250626T082303Z
UID:4840697-1750955400-1750962600@carletonnorth.com
SUMMARY:Memory Cafe - NHWW & Alzheimer Society
DESCRIPTION:Date:  June 26\, 2025Time:  4:30PM – 6:30PMLocation:  Community Hall\, 8696 Main St. Florenceville-Bristol \nEvent Details:For people living with dementia\, their family members\, friends\, and caregivers.  The Memory Cafe is a FREE program for people living with all stages of dementia and their families to meet others\, learn\, and have fun! \nJoin us to:   \n\nConnect\nChat\nLearn\nHave Fun\nEnjoy Refreshments\n\nAll are welcome to join this free  program!  This program is offered by the Alzheimer Society in partnership with Nursing Home Without Walls.   \nFor more information:  email:  info@alzheimernb.ca                                           call:  506-459-4280                                   website:  www.alzheimer.ca/nb
URL:https://carletonnorth.com/event/memory-cafe-nhww-alzheimer-society/
LOCATION:8696 Main St\, Florenceville-Bristol\, NB E7L 3G8\, Canada
CATEGORIES:Community Calendar
END:VEVENT
BEGIN:VEVENT
DTSTART;TZID=America/Halifax:20250626T183000
DTEND;TZID=America/Halifax:20250626T200000
DTSTAMP:20260422T190416
CREATED:20250619T191133Z
LAST-MODIFIED:20250626T082302Z
UID:4840582-1750962600-1750968000@carletonnorth.com
SUMMARY:Brazilian Jiu Jitsu For beginners (Age 10+)
DESCRIPTION:Brazilian Jiu Jitsu For beginners (Age 10+)Date:  Weekly every Tuesday & Thursday in June\, July  & AugustTime:  6:30PM – 8:00PMLocation:  6 Welch Street\, Florenceville-Bristol – Pure Therapy \nCost:  $20 covers both Tuesday and Thursday classes for the weekOr $20 per drop-in class \nSign Up Online:  puretherapy.ca
URL:https://carletonnorth.com/event/brazilian-jiu-jitsu-for-beginners-age-10-4/
LOCATION:6 Welch St\, Florenceville-Bristol\, NB E7L 2E4\, Canada
CATEGORIES:Community Calendar
END:VEVENT
BEGIN:VEVENT
DTSTART;TZID=America/Halifax:20250626T183000
DTEND;TZID=America/Halifax:20250626T203000
DTSTAMP:20260422T190416
CREATED:20250619T191140Z
LAST-MODIFIED:20250626T082302Z
UID:4840608-1750962600-1750969800@carletonnorth.com
SUMMARY:Caregiver Support Network: Alzheimer Society
DESCRIPTION:Caregiver Support Network monthly meeting\nThe last Thursday of the month from February to June\n6:30PM  – 8:30PM\nDr. Walter Chesnut Library\, Hartland\nFor more information/inquiries:\ninfo@alzheimernb.ca\n1-800-664-8411\nwww.alzheimer.ca/nb
URL:https://carletonnorth.com/event/caregiver-support-network-alzheimer-society-5/
LOCATION:Dr. Walter Chestnut Library\, 395 Main St Unit 1\, Hartland\, NB E0J 2N3\, Canada
CATEGORIES:Community Calendar
END:VEVENT
BEGIN:VEVENT
DTSTART;VALUE=DATE:20250627
DTEND;VALUE=DATE:20250628
DTSTAMP:20260422T190417
CREATED:20250619T191213Z
LAST-MODIFIED:20250627T083827Z
UID:4840729-1750982400-1751068799@carletonnorth.com
SUMMARY:NHWW Grand Falls Trip
DESCRIPTION:Date:  June 27\, 2025Time:  Day TripLocation:  Grand Falls \nEvent Details:Grand Falls trip to visit the Falls\, have Lunch\, shop at Giant Tiger & Grocery Run \nSpace is limited:  sign up on June 18th & 19th \nCall (506) 278-3197 to sign up
URL:https://carletonnorth.com/event/nhww-grand-falls-trip/
LOCATION:Grand Falls\, NB\, Canada
CATEGORIES:Community Calendar
END:VEVENT
BEGIN:VEVENT
DTSTART;TZID=America/Halifax:20250627T100000
DTEND;TZID=America/Halifax:20250627T130000
DTSTAMP:20260422T190417
CREATED:20250623T233750Z
LAST-MODIFIED:20250627T083826Z
UID:4904167-1751018400-1751029200@carletonnorth.com
SUMMARY:Rockwall Drop-in
DESCRIPTION:Rockwall Drop-ins\nCost: $3 Adult | $2 55+\n506-392-6763 ext 220 for more information
URL:https://carletonnorth.com/event/rockwall-drop-in-284/
LOCATION:40 McCain St\, Florenceville-Bristol\, NB E7L 3J4\, Canada
CATEGORIES:Community Calendar
END:VEVENT
BEGIN:VEVENT
DTSTART;TZID=America/Halifax:20250627T160000
DTEND;TZID=America/Halifax:20250627T190000
DTSTAMP:20260422T190417
CREATED:20250619T191228Z
LAST-MODIFIED:20250627T083827Z
UID:4840784-1751040000-1751050800@carletonnorth.com
SUMMARY:Rock Wall Drop-Ins
DESCRIPTION:Rockwall Drop-insCost: $3 Adult | $2 55+ \n For more information: 506-392-6763 ext. 220
URL:https://carletonnorth.com/event/rock-wall-drop-ins-11/
LOCATION:R. G. “Bun” Veysey Active Living Centre\, 40 McCain St\, Florenceville-Bristol\, NB E7L 3J4\, Canada
CATEGORIES:Community Calendar
END:VEVENT
BEGIN:VEVENT
DTSTART;TZID=America/Halifax:20250627T180000
DTEND;TZID=America/Halifax:20250627T210000
DTSTAMP:20260422T190417
CREATED:20250619T191220Z
LAST-MODIFIED:20250627T083827Z
UID:4840757-1751047200-1751058000@carletonnorth.com
SUMMARY:Friday Night Social at Upper Kent Rec
DESCRIPTION:Friday Night Social at The Upper Kent Rec Centre \nFridays: 6:00PM – 9:00PM \nEntry by DonationFollow on Facebook for the weekly menu at https://www.facebook.com/profile.php?id=100082114163442
URL:https://carletonnorth.com/event/friday-night-social-at-upper-kent-rec-10/
LOCATION:Upper Kent Recreation Centre\, 240 Upper Kent Rd\, Upper Kent\, NB E7J 2E6\, Canada
CATEGORIES:Community Calendar
END:VEVENT
BEGIN:VEVENT
DTSTART;TZID=America/Halifax:20250628T080000
DTEND;TZID=America/Halifax:20250628T110000
DTSTAMP:20260422T190417
CREATED:20250619T191237Z
LAST-MODIFIED:20250628T085239Z
UID:4840815-1751097600-1751108400@carletonnorth.com
SUMMARY:Pancake Breakfast: Knowlesville Art & Nature Centre
DESCRIPTION:Come enjoy plate of Speerville Flour pancakes\, fruit\, coffee & tea and the family friendly atmosphere of the Knowlesville Art & Nature Centre\nMonthly Pancake Breakfast\n8:00AM to 11:00AM \nCost is by donation\, with all proceeds going to the Knowlesville Art & Nature Centre
URL:https://carletonnorth.com/event/pancake-breakfast-knowlesville-art-nature-centre-3/
LOCATION:111 Simms Rd\, Knowlesville\, NB E7L 4P7\, Canada
CATEGORIES:Community Calendar
END:VEVENT
BEGIN:VEVENT
DTSTART;TZID=America/Halifax:20250628T080000
DTEND;TZID=America/Halifax:20250628T110000
DTSTAMP:20260422T190417
CREATED:20250619T191309Z
LAST-MODIFIED:20250628T085238Z
UID:4840933-1751097600-1751108400@carletonnorth.com
SUMMARY:Breakfast at Juniper Community Centre
DESCRIPTION:Breakfast at Juniper Community CentreDate: Weekly on SaturdayTime:  8:00AM – 11:00AMLocation:  Juniper Community Centre\, 267 Juniper Rd\, Juniper \nDon’t forget to join us for Breakfast  from 8am – 11am at the Juniper Community Centre.   Great company and a fantastic way to start your weekend. Everyone is welcome—bring your family\, friends\, and neighbors! 💛 \nBring someone who needs a delicious Saturday morning pick-me-up! 🍳🥓 \n#CommunityBreakfast #SaturdayVibes #GoodFoodGoodCompany \nhttps://www.facebook.com/JCC506
URL:https://carletonnorth.com/event/breakfast-at-juniper-community-centre-12/
LOCATION:Juniper Community Centre\, 267 Juniper Rd\, Juniper\, NB E7L 1H1\, Canada
CATEGORIES:Community Calendar
END:VEVENT
BEGIN:VEVENT
DTSTART;TZID=America/Halifax:20250628T090000
DTEND;TZID=America/Halifax:20250628T120000
DTSTAMP:20260422T190417
CREATED:20250619T191301Z
LAST-MODIFIED:20250628T085240Z
UID:4840905-1751101200-1751112000@carletonnorth.com
SUMMARY:Rockwall Drop-ins
DESCRIPTION:Rockwall Drop-ins\nCost: $3 Adult | $2 55+\nSaturdays & Sundays\n9:00AM-12:00PM\n3:30PM-6:30PM\nFor more information: 506-392-6763 ext. 220
URL:https://carletonnorth.com/event/rockwall-drop-ins-148/
LOCATION:R. G. “Bun” Veysey Active Living Centre\, 40 McCain St\, Florenceville-Bristol\, NB E7L 3J4\, Canada
CATEGORIES:Community Calendar
END:VEVENT
BEGIN:VEVENT
DTSTART;TZID=America/Halifax:20250628T110000
DTEND;TZID=America/Halifax:20250628T140000
DTSTAMP:20260422T190417
CREATED:20250619T191252Z
LAST-MODIFIED:20250628T085240Z
UID:4840872-1751108400-1751119200@carletonnorth.com
SUMMARY:Bath Fire Department Open House: 60th Anniversary
DESCRIPTION:Bath Fire Department Open House: 60th Anniversary \nDate:  June 28\, 2025Time:  11:00AM-2:00PM \n🚨OPEN HOUSE🚨 \n🔥Join us on Saturday June 7th for our open house 🔥Help us celebrate Bath Fire Department turning 60!🔥Meet the firefighters🔥Tour the trucks and the stations 🔥Enjoy a BBQ🔥Take in demos and hands on fun🔥A short ceremony🔥Possible visit from Sparky \nCeremony and Speeches: 12:30PMhttps://www.facebook.com/profile.php?id=100080075350278
URL:https://carletonnorth.com/event/bath-fire-department-open-house-60th-anniversary-2/
LOCATION:Bath Fire Hall\, 241 Church St\, Bath\, ON K0H 1G0\, Canada
CATEGORIES:Community Calendar
END:VEVENT
BEGIN:VEVENT
DTSTART;TZID=America/Halifax:20250628T130000
DTEND;TZID=America/Halifax:20250628T160000
DTSTAMP:20260422T190417
CREATED:20250619T191244Z
LAST-MODIFIED:20250628T085239Z
UID:4840844-1751115600-1751126400@carletonnorth.com
SUMMARY:Tunnel Book Workshop
DESCRIPTION:Date:  June 28\, 2025Time:  1:00PM -4:00PMLocation:  River Art Centre\, 8746 Main St. Florenceville-Bristol \nEvent Details:Discover the magic of storytelling through paper art!Join us on June 28\, 2025\, for a hands-on Tunnel Book Workshop with Fredericton-based artist Meg Clark\, known for her incredible work in bookbinding\, illustration\, and design. Bonus – Meg Clark is also one of the featured artists in our next exhibition—come meet her at the opening reception this Saturday at the gallery! \nYou’ll learn how to create your very own sculptural 3D tunnel book—a layered\, accordion-fold art piece that brings scenes to life! 🌿🌊 \nCost:  $30 per person \nFor more information contact the gallery: 506-392-6769 or info@mccainartgallery.comSpaces are limited—don’t miss this chance to bring your stories to life in 3D form!
URL:https://carletonnorth.com/event/tunnel-book-workshop/
LOCATION:8746 Main St\, Florenceville-Bristol\, NB E7L 3G5\, Canada
CATEGORIES:Community Calendar
END:VEVENT
BEGIN:VEVENT
DTSTART;TZID=America/Halifax:20250628T140000
DTEND;TZID=America/Halifax:20250628T160000
DTSTAMP:20260422T190417
CREATED:20250619T191326Z
LAST-MODIFIED:20250628T085241Z
UID:4840994-1751119200-1751126400@carletonnorth.com
SUMMARY:Juniper Community Centre Jamboree
DESCRIPTION:Juniper Community Centre Jamboree2:00PM to 4:00PMThe last Saturday of the Month: follow https://www.facebook.com/JCC506 on Facebook \n \nLive Music by local performers  \nLight Lunch to share with friends and neighbors  \nDoor Prizes for a little extra excitement  \n50/50 Draw – Try your luck and support a great cause!  \nAdmission: By donation – Your contributions help support our community efforts! \nBring your family\, invite your friends\, and let’s make it an afternoon to remember! \nEmail: junipercommunitycentre@gmail.comjunipercc.ca
URL:https://carletonnorth.com/event/juniper-community-centre-jamboree-3/
LOCATION:Juniper Community Centre\, 267 Juniper Rd\, Juniper\, NB E7L 1H1\, Canada
CATEGORIES:Community Calendar
END:VEVENT
BEGIN:VEVENT
DTSTART;TZID=America/Halifax:20250628T153000
DTEND;TZID=America/Halifax:20250628T183000
DTSTAMP:20260422T190417
CREATED:20250619T191316Z
LAST-MODIFIED:20250628T085241Z
UID:4840960-1751124600-1751135400@carletonnorth.com
SUMMARY:Rockwall Drop-ins
DESCRIPTION:Rockwall Drop-ins\nCost: $3 Adult | $2 55+\nSaturdays & Sundays\n9:00AM-12:00PM\n3:30PM-6:30PM\nFor more information: 506-392-6763 ext. 220
URL:https://carletonnorth.com/event/rockwall-drop-ins-151/
LOCATION:R. G. “Bun” Veysey Active Living Centre\, 40 McCain St\, Florenceville-Bristol\, NB E7L 3J4\, Canada
CATEGORIES:Community Calendar
END:VEVENT
BEGIN:VEVENT
DTSTART;TZID=America/Halifax:20250629T090000
DTEND;TZID=America/Halifax:20250629T120000
DTSTAMP:20260422T190417
CREATED:20250619T191333Z
LAST-MODIFIED:20250629T090737Z
UID:4841021-1751187600-1751198400@carletonnorth.com
SUMMARY:Rockwall Drop-ins
DESCRIPTION:Rockwall Drop-ins\nCost: $3 Adult | $2 55+\nSaturdays & Sundays\n9:00AM-12:00PM\n3:30PM-6:30PM\nFor more information: 506-392-6763 ext. 220
URL:https://carletonnorth.com/event/rockwall-drop-ins-154/
LOCATION:R. G. “Bun” Veysey Active Living Centre\, 40 McCain St\, Florenceville-Bristol\, NB E7L 3J4\, Canada
CATEGORIES:Community Calendar
END:VEVENT
BEGIN:VEVENT
DTSTART;TZID=America/Halifax:20250629T153000
DTEND;TZID=America/Halifax:20250629T183000
DTSTAMP:20260422T190417
CREATED:20250619T191341Z
LAST-MODIFIED:20250629T090737Z
UID:4841048-1751211000-1751221800@carletonnorth.com
SUMMARY:Rockwall Drop-ins
DESCRIPTION:Rockwall Drop-ins\nCost: $3 Adult | $2 55+\nSaturdays & Sundays\n9:00AM-12:00PM\n3:30PM-6:30PM\nFor more information: 506-392-6763 ext. 220
URL:https://carletonnorth.com/event/rockwall-drop-ins-155/
LOCATION:R. G. “Bun” Veysey Active Living Centre\, 40 McCain St\, Florenceville-Bristol\, NB E7L 3J4\, Canada
CATEGORIES:Community Calendar
END:VEVENT
BEGIN:VEVENT
DTSTART;TZID=America/Halifax:20250629T190000
DTEND;TZID=America/Halifax:20250629T210000
DTSTAMP:20260422T190417
CREATED:20250619T191350Z
LAST-MODIFIED:20250629T090737Z
UID:4841080-1751223600-1751230800@carletonnorth.com
SUMMARY:Kin Club Bingo
DESCRIPTION:Kin Club BingoDate:  Weekly on SundayTime:  7:00PM – 9:00PMLocation:  Florenceville Kin Centre\, 381 Centreville Rd. Florenceville-Bristol \nThe Kin Club Weekly Bingo Takes Place every Sunday\, with door opening at 6pm and games starting at 7pm.Cost: $10 books\, $5 books\, $1 Specials and $25 package deals and more.
URL:https://carletonnorth.com/event/kin-club-bingo-79/
LOCATION:Florenceville Kin Center\, 381 Centreville Rd\, Florenceville-Bristol\, NB E7L 3K5\, Canada
CATEGORIES:Community Calendar
END:VEVENT
BEGIN:VEVENT
DTSTART;TZID=America/Halifax:20250630T090000
DTEND;TZID=America/Halifax:20250630T120000
DTSTAMP:20260422T190417
CREATED:20250623T212238Z
LAST-MODIFIED:20250629T213739Z
UID:4902774-1751274000-1751284800@carletonnorth.com
SUMMARY:Morning Swimming Lessons - All Pools
DESCRIPTION:Swimming Lesson SessionsMorning Lessons:  Monday – ThursdayJune 30 – July 17July 21 – August 7August 11 – August 28Pool Locations \nFlorenceville-Bristol Pool:  40 McCain StreetCentreville Pool:  751 Central StreetBath Pool:  128 School Street
URL:https://carletonnorth.com/event/morning-swimming-lessons-all-pools/
CATEGORIES:Pool Schedule
END:VEVENT
BEGIN:VEVENT
DTSTART;TZID=America/Halifax:20250630T100000
DTEND;TZID=America/Halifax:20250630T130000
DTSTAMP:20260422T190417
CREATED:20250623T233757Z
LAST-MODIFIED:20250630T092302Z
UID:4904168-1751277600-1751288400@carletonnorth.com
SUMMARY:Rockwall Drop-in
DESCRIPTION:Rockwall Drop-ins\nCost: $3 Adult | $2 55+\n506-392-6763 ext 220 for more information
URL:https://carletonnorth.com/event/rockwall-drop-in-285/
LOCATION:40 McCain St\, Florenceville-Bristol\, NB E7L 3J4\, Canada
CATEGORIES:Community Calendar
END:VEVENT
BEGIN:VEVENT
DTSTART;TZID=America/Halifax:20250630T123000
DTEND;TZID=America/Halifax:20250630T133000
DTSTAMP:20260422T190417
CREATED:20250623T212239Z
LAST-MODIFIED:20250629T213739Z
UID:4902775-1751286600-1751290200@carletonnorth.com
SUMMARY:Senior/Lap - Centreville & Florenceville-Bristol
DESCRIPTION:Senior/LapDate:  Weekly Monday- FridayTime:  12:30PM – 1:30PMLocation:  Florenceville-Bristol Pool:  40 McCain Street                   Centreville Pool:  751 Central Street                   Cost:  $2
URL:https://carletonnorth.com/event/senior-lap-all-pools/
CATEGORIES:Pool Schedule
END:VEVENT
END:VCALENDAR