BEGIN:VCALENDAR
VERSION:2.0
PRODID:-//District of Carleton North - ECPv6.15.20//NONSGML v1.0//EN
CALSCALE:GREGORIAN
METHOD:PUBLISH
X-WR-CALNAME:District of Carleton North
X-ORIGINAL-URL:https://carletonnorth.com
X-WR-CALDESC:Events for District of Carleton North
REFRESH-INTERVAL;VALUE=DURATION:PT1H
X-Robots-Tag:noindex
X-PUBLISHED-TTL:PT1H
BEGIN:VTIMEZONE
TZID:America/Halifax
BEGIN:DAYLIGHT
TZOFFSETFROM:-0400
TZOFFSETTO:-0300
TZNAME:ADT
DTSTART:20240310T060000
END:DAYLIGHT
BEGIN:STANDARD
TZOFFSETFROM:-0300
TZOFFSETTO:-0400
TZNAME:AST
DTSTART:20241103T050000
END:STANDARD
BEGIN:DAYLIGHT
TZOFFSETFROM:-0400
TZOFFSETTO:-0300
TZNAME:ADT
DTSTART:20250309T060000
END:DAYLIGHT
BEGIN:STANDARD
TZOFFSETFROM:-0300
TZOFFSETTO:-0400
TZNAME:AST
DTSTART:20251102T050000
END:STANDARD
BEGIN:DAYLIGHT
TZOFFSETFROM:-0400
TZOFFSETTO:-0300
TZNAME:ADT
DTSTART:20260308T060000
END:DAYLIGHT
BEGIN:STANDARD
TZOFFSETFROM:-0300
TZOFFSETTO:-0400
TZNAME:AST
DTSTART:20261101T050000
END:STANDARD
END:VTIMEZONE
BEGIN:VEVENT
DTSTART;TZID=America/Halifax:20250802T080000
DTEND;TZID=America/Halifax:20250802T110000
DTSTAMP:20260422T184854
CREATED:20250619T191700Z
LAST-MODIFIED:20250801T142242Z
UID:4841262-1754121600-1754132400@carletonnorth.com
SUMMARY:Breakfast at Juniper Community Centre
DESCRIPTION:Breakfast at Juniper Community CentreDate: Weekly on SaturdayTime:  8:00AM – 11:00AMLocation:  Juniper Community Centre\, 267 Juniper Rd\, Juniper \nDon’t forget to join us for Breakfast  from 8am – 11am at the Juniper Community Centre.   Great company and a fantastic way to start your weekend. Everyone is welcome—bring your family\, friends\, and neighbors! 💛 \nBring someone who needs a delicious Saturday morning pick-me-up! 🍳🥓 \n#CommunityBreakfast #SaturdayVibes #GoodFoodGoodCompany \nhttps://www.facebook.com/JCC506
URL:https://carletonnorth.com/event/breakfast-at-juniper-community-centre-14/
LOCATION:Juniper Community Centre\, 267 Juniper Rd\, Juniper\, NB E7L 1H1\, Canada
CATEGORIES:Community Calendar
END:VEVENT
BEGIN:VEVENT
DTSTART;TZID=America/Halifax:20250801T180000
DTEND;TZID=America/Halifax:20250801T190000
DTSTAMP:20260422T184854
CREATED:20250713T231019Z
LAST-MODIFIED:20250731T233826Z
UID:5199019-1754071200-1754074800@carletonnorth.com
SUMMARY:Swim Team Lap - All Pools
DESCRIPTION:Swim TeamDate:  Weekly on Mon/Wed/FriTime:  6:00PM – 7:00PMLocation:  All Pools \nPool Locations:Florenceville-Bristol Pool:  40 McCain StreetCentreville Pool:  751 Central StreetBath Pool:  128 School Street
URL:https://carletonnorth.com/event/swim-team-lap-all-pools-5/
CATEGORIES:Pool Schedule
END:VEVENT
BEGIN:VEVENT
DTSTART;TZID=America/Halifax:20250801T140000
DTEND;TZID=America/Halifax:20250801T160000
DTSTAMP:20260422T184854
CREATED:20250713T231018Z
LAST-MODIFIED:20250731T233826Z
UID:5199018-1754056800-1754064000@carletonnorth.com
SUMMARY:Public Swim
DESCRIPTION:Public Swim Tuesday\, Wednesday\, Friday\, Saturday and SundayTime:  2:00PM – 4:00PMLocation:  All Pools                   Florenceville-Bristol Pool:  40 McCain Street                   Centreville Pool:  751 Central Street                   Bath Pool:  128 School StreetCost:  $2
URL:https://carletonnorth.com/event/public-swim-20/
CATEGORIES:Pool Schedule
END:VEVENT
BEGIN:VEVENT
DTSTART;TZID=America/Halifax:20250801T123000
DTEND;TZID=America/Halifax:20250801T133000
DTSTAMP:20260422T184854
CREATED:20250713T231018Z
LAST-MODIFIED:20250731T233826Z
UID:5199017-1754051400-1754055000@carletonnorth.com
SUMMARY:Senior/Lap
DESCRIPTION:Senior/LapDate: Weekly Monday- FridayTime:  12:30PM – 1:30PMLocation:  All Pools                   Florenceville-Bristol Pool:  40 McCain Street                   Centreville Pool:  751 Central Street                   Bath Pool:  128 School StreetCost:  $2
URL:https://carletonnorth.com/event/senior-lap-14/
CATEGORIES:Pool Schedule
END:VEVENT
BEGIN:VEVENT
DTSTART;TZID=America/Halifax:20250731T190000
DTEND;TZID=America/Halifax:20250731T200000
DTSTAMP:20260422T184854
CREATED:20250713T231018Z
LAST-MODIFIED:20250730T233747Z
UID:5199016-1753988400-1753992000@carletonnorth.com
SUMMARY:Free Swim - All Pools
DESCRIPTION:Florenceville-Bristol Pool: 40 McCain Street\nCentreville Pool: 751 Central Street\nBath Pool:128 School Street\nFree Swim Donated by Bath Lions Club
URL:https://carletonnorth.com/event/free-swim-all-pools-20/
CATEGORIES:Pool Schedule
END:VEVENT
BEGIN:VEVENT
DTSTART;TZID=America/Halifax:20250731T183000
DTEND;TZID=America/Halifax:20250731T200000
DTSTAMP:20260422T184854
CREATED:20250619T191658Z
LAST-MODIFIED:20250731T140744Z
UID:4841257-1753986600-1753992000@carletonnorth.com
SUMMARY:Brazilian Jiu Jitsu For beginners (Age 10+)
DESCRIPTION:Brazilian Jiu Jitsu For beginners (Age 10+)Date:  Weekly every Tuesday & Thursday in June\, July  & AugustTime:  6:30PM – 8:00PMLocation:  6 Welch Street\, Florenceville-Bristol – Pure Therapy \nCost:  $20 covers both Tuesday and Thursday classes for the weekOr $20 per drop-in class \nSign Up Online:  puretherapy.ca
URL:https://carletonnorth.com/event/brazilian-jiu-jitsu-for-beginners-age-10-14/
LOCATION:6 Welch St\, Florenceville-Bristol\, NB E7L 2E4\, Canada
CATEGORIES:Community Calendar
END:VEVENT
BEGIN:VEVENT
DTSTART;TZID=America/Halifax:20250731T180000
DTEND;TZID=America/Halifax:20250731T200000
DTSTAMP:20260422T184854
CREATED:20250619T191657Z
LAST-MODIFIED:20250731T140745Z
UID:4841255-1753984800-1753992000@carletonnorth.com
SUMMARY:Clay Handbuilding - Veterans Night
DESCRIPTION:Whether you’ve got a current project or are a brand-newbie wanting to explore clay\, join instructor Jenna Ross & other friendly clay-lovers for a casual evening of creativity at the River Art Centre & Studios. \nNo registration required. Basic instruction is provided to get you started. ….Bring your ideas\, gusto\, project dreams & we’ll see what happens! \nFee to attend each Drop-in is $5 per person. The first (bisque) firing of any pot you decide to keep costs $10 each piece. Then Glazing costs an additional $10 each piece. \nChildren aged 7-14 welcome to participate if accompanied by an adult. No experience necessary\, just an openness to try! See you there! \nFor more information contact the Gallery. info@mccainartgallery.com 506-392-6769
URL:https://carletonnorth.com/event/clay-handbuilding-veterans-night-4/
LOCATION:8746 Main St\, Florenceville-Bristol\, NB E7L 3G5\, Canada
CATEGORIES:Community Calendar
END:VEVENT
BEGIN:VEVENT
DTSTART;TZID=America/Halifax:20250731T180000
DTEND;TZID=America/Halifax:20250731T190000
DTSTAMP:20260422T184854
CREATED:20250713T231018Z
LAST-MODIFIED:20250730T233746Z
UID:5199015-1753984800-1753988400@carletonnorth.com
SUMMARY:Adult Lap - All Pools
DESCRIPTION:Adult LapDate: Weekly on ThursdaysTime:  6:00PM – 7:00PMLocation:  All Pools                   Florenceville-Bristol Pool:  40 McCain Street                   Centreville Pool:  751 Central Street                   Bath Pool:  128 School StreetCost:  $2
URL:https://carletonnorth.com/event/adult-lap-all-pools-5/
CATEGORIES:Pool Schedule
END:VEVENT
BEGIN:VEVENT
DTSTART;TZID=America/Halifax:20250731T140000
DTEND;TZID=America/Halifax:20250731T160000
DTSTAMP:20260422T184854
CREATED:20250713T231017Z
LAST-MODIFIED:20250730T233746Z
UID:5199014-1753970400-1753977600@carletonnorth.com
SUMMARY:Free Swim: All Pools
DESCRIPTION:Florenceville-Bristol Pool: 40 McCain Street\nCentreville Pool: 751 Central Street\nBath Pool:128 School Street\nFree Swim Donated by Bath Lions Club
URL:https://carletonnorth.com/event/free-swim-all-pools-19/
CATEGORIES:Pool Schedule
END:VEVENT
BEGIN:VEVENT
DTSTART;TZID=America/Halifax:20250731T123000
DTEND;TZID=America/Halifax:20250731T133000
DTSTAMP:20260422T184854
CREATED:20250713T231017Z
LAST-MODIFIED:20250730T233745Z
UID:5199012-1753965000-1753968600@carletonnorth.com
SUMMARY:Senior/Lap - Centreville & Florenceville-Bristol
DESCRIPTION:Senior/LapDate:  Weekly Monday- FridayTime:  12:30PM – 1:30PMLocation:  Florenceville-Bristol Pool:  40 McCain Street                   Centreville Pool:  751 Central Street                   Cost:  $2
URL:https://carletonnorth.com/event/senior-lap-centreville-florenceville-bristol-8/
CATEGORIES:Pool Schedule
END:VEVENT
BEGIN:VEVENT
DTSTART;TZID=America/Halifax:20250731T123000
DTEND;TZID=America/Halifax:20250731T133000
DTSTAMP:20260422T184854
CREATED:20250713T231017Z
LAST-MODIFIED:20250730T233746Z
UID:5199013-1753965000-1753968600@carletonnorth.com
SUMMARY:Aqua Fitness - Bath Pool
DESCRIPTION:Aqua FitnessDate:  Mondays & ThursdaysTime:  12:30PM – 1:30PMLocation:  Bath Pool:  128 School Street                   Cost:  $5 per class           \nFor more information contact Cisca Bakker at 506-273-0384
URL:https://carletonnorth.com/event/aqua-fitness-bath-pool-10/
LOCATION:128 School St\, Bath\, NB E7J 1C4\, Canada
CATEGORIES:Pool Schedule
END:VEVENT
BEGIN:VEVENT
DTSTART;TZID=America/Halifax:20250731T090000
DTEND;TZID=America/Halifax:20250731T120000
DTSTAMP:20260422T184854
CREATED:20250713T231016Z
LAST-MODIFIED:20250730T233745Z
UID:5199011-1753952400-1753963200@carletonnorth.com
SUMMARY:Morning Swimming Lessons - All Pools
DESCRIPTION:Swimming Lesson SessionsMorning Lessons:  Monday – ThursdayJune 30 – July 17July 21 – August 7August 11 – August 28 \nPool Locations \nFlorenceville-Bristol Pool:  40 McCain StreetCentreville Pool:  751 Central StreetBath Pool:  128 School Street
URL:https://carletonnorth.com/event/morning-swimming-lessons-all-pools-15/
CATEGORIES:Pool Schedule
END:VEVENT
BEGIN:VEVENT
DTSTART;TZID=America/Halifax:20250730T183000
DTEND;TZID=America/Halifax:20250730T193000
DTSTAMP:20260422T184854
CREATED:20250704T102324Z
LAST-MODIFIED:20250730T140751Z
UID:5058459-1753900200-1753903800@carletonnorth.com
SUMMARY:Wednesday Music at the Gazebo
DESCRIPTION:Wednesday at the GazeboTIME: 6:30PM TO 8:30PMEvery Wednesday in July and AugustSchedule to be posted on www.carletonnorth.com \nFor updates: https://www.facebook.com/exploredistrictofcarletonnorth
URL:https://carletonnorth.com/event/wednesday-music-at-the-gazebo-4/
LOCATION:Centreville Gazebo\, 751 Central Street\, Centreville\, NB
CATEGORIES:Community Calendar
END:VEVENT
BEGIN:VEVENT
DTSTART;TZID=America/Halifax:20250730T180000
DTEND;TZID=America/Halifax:20250730T190000
DTSTAMP:20260422T184854
CREATED:20250713T231016Z
LAST-MODIFIED:20250729T232255Z
UID:5199010-1753898400-1753902000@carletonnorth.com
SUMMARY:Swim Team
DESCRIPTION:Swim TeamDate:  Weekly on Mon/Wed/FriTime:  6:00PM – 7:00PMLocation:  All Pools \nPool Locations:Florenceville-Bristol Pool:  40 McCain StreetCentreville Pool:  751 Central StreetBath Pool:  128 School Street
URL:https://carletonnorth.com/event/swim-team-11/
CATEGORIES:Pool Schedule
END:VEVENT
BEGIN:VEVENT
DTSTART;TZID=America/Halifax:20250730T140000
DTEND;TZID=America/Halifax:20250730T160000
DTSTAMP:20260422T184854
CREATED:20250713T231016Z
LAST-MODIFIED:20250729T232254Z
UID:5199009-1753884000-1753891200@carletonnorth.com
SUMMARY:Public Swim
DESCRIPTION:Public Swim Tuesday\, Wednesday\, Friday\, Saturday and SundayTime:  2:00PM – 4:00PMLocation:  All Pools                   Florenceville-Bristol Pool:  40 McCain Street                   Centreville Pool:  751 Central Street                   Bath Pool:  128 School StreetCost:  $2
URL:https://carletonnorth.com/event/public-swim-19/
CATEGORIES:Pool Schedule
END:VEVENT
BEGIN:VEVENT
DTSTART;TZID=America/Halifax:20250730T130000
DTEND;TZID=America/Halifax:20250730T160000
DTSTAMP:20260422T184854
CREATED:20250619T191656Z
LAST-MODIFIED:20250730T140751Z
UID:4841253-1753880400-1753891200@carletonnorth.com
SUMMARY:Senior Puzzles\, Social & Cards
DESCRIPTION:Senior Puzzles\, Social & CardsDate:  Weekly on WednesdaysTime:  1:00PM – 4:00PMLocation:  R.G. ‘Bun’ Veysey Active Living Centre\,  40 McCain St. Florenceville-Bristol \nEnjoy an afternoon of card games\, snacks\, tea and fun!  Play a variation of puzzles. Feel free to bring puzzles to trade! \nCost:   $3 for entry (55+)
URL:https://carletonnorth.com/event/senior-puzzles-social-cards-60/
LOCATION:40 McCain St\, Florenceville-Bristol\, NB E7L 3J4\, Canada
CATEGORIES:Community Calendar
END:VEVENT
BEGIN:VEVENT
DTSTART;TZID=America/Halifax:20250730T123000
DTEND;TZID=America/Halifax:20250730T133000
DTSTAMP:20260422T184854
CREATED:20250713T231016Z
LAST-MODIFIED:20250729T232254Z
UID:5199008-1753878600-1753882200@carletonnorth.com
SUMMARY:Senior/Lap
DESCRIPTION:Senior/LapDate: Weekly Monday- FridayTime:  12:30PM – 1:30PMLocation:  All Pools                   Florenceville-Bristol Pool:  40 McCain Street                   Centreville Pool:  751 Central Street                   Bath Pool:  128 School StreetCost:  $2
URL:https://carletonnorth.com/event/senior-lap-13/
CATEGORIES:Pool Schedule
END:VEVENT
BEGIN:VEVENT
DTSTART;TZID=America/Halifax:20250730T100000
DTEND;TZID=America/Halifax:20250730T110000
DTSTAMP:20260422T184854
CREATED:20250703T100758Z
LAST-MODIFIED:20250729T140816Z
UID:5042944-1753869600-1753873200@carletonnorth.com
SUMMARY:Senior Stretching
DESCRIPTION:Date:  Weekly Every Wednesday in JulyTime:  10:00AM – 11:00AMLocation:  Shiktehawk Place \nEvent Details: \nNursing Home Without Walls is offering Senior Stretching at Shiktehawk Place at 10:00am.  This is a great opportunity to get moving and to socialize.  Includes some light seated exercise. \nFor more information or to join contact NHWW (506)278-3197
URL:https://carletonnorth.com/event/senior-stretching-77/
LOCATION:Shiktehawk Place
CATEGORIES:Community Calendar
END:VEVENT
BEGIN:VEVENT
DTSTART;TZID=America/Halifax:20250730T090000
DTEND;TZID=America/Halifax:20250730T120000
DTSTAMP:20260422T184854
CREATED:20250713T231015Z
LAST-MODIFIED:20250729T232254Z
UID:5199007-1753866000-1753876800@carletonnorth.com
SUMMARY:Morning Swimming Lessons - All Pools
DESCRIPTION:Swimming Lesson SessionsMorning Lessons:  Monday – ThursdayJune 30 – July 17July 21 – August 7August 11 – August 28 \nPool LocationsFlorenceville-Bristol Pool:  40 McCain StreetCentreville Pool:  751 Central StreetBath Pool:  128 School Street
URL:https://carletonnorth.com/event/morning-swimming-lessons-all-pools-14/
CATEGORIES:Pool Schedule
END:VEVENT
BEGIN:VEVENT
DTSTART;TZID=America/Halifax:20250729T190000
DTEND;TZID=America/Halifax:20250729T200000
DTSTAMP:20260422T184854
CREATED:20250713T231015Z
LAST-MODIFIED:20250728T232241Z
UID:5199005-1753815600-1753819200@carletonnorth.com
SUMMARY:Public Swim: All Pools
DESCRIPTION:Public SwimDate:  Weekly on TuesdaysLocation:  All Pools                   Florenceville-Bristol Pool: 40 McCain Street                   Centreville Pool: 751 Central Street                   Bath Pool:128 School Street \nCost:  $2
URL:https://carletonnorth.com/event/public-swim-all-pools-5/
CATEGORIES:Pool Schedule
END:VEVENT
BEGIN:VEVENT
DTSTART;TZID=America/Halifax:20250729T183000
DTEND;TZID=America/Halifax:20250729T203000
DTSTAMP:20260422T184854
CREATED:20250704T102324Z
LAST-MODIFIED:20250729T140816Z
UID:5058458-1753813800-1753821000@carletonnorth.com
SUMMARY:Tunesday at Riverside Park
DESCRIPTION:Tunesday – Music at the GazeboNEW TIME: 6:30PM to  8:30PMRiverside Park\, Florenceville-Bristol \nJoin in the fun every Tuesday in July and August. Bring a Chair and enjoy the show.For updates follow the Tourism Facebook page:https://www.facebook.com/exploredistrictofcarletonnorthRain location: Second Wind Music Centre)
URL:https://carletonnorth.com/event/tunesday-at-riverside-park-4/
LOCATION:Riverside Park\, 9173 Main St\, Florenceville-Bristol\, NB E7L 2Y3\, Canada
CATEGORIES:Community Calendar
END:VEVENT
BEGIN:VEVENT
DTSTART;TZID=America/Halifax:20250729T183000
DTEND;TZID=America/Halifax:20250729T200000
DTSTAMP:20260422T184854
CREATED:20250619T191655Z
LAST-MODIFIED:20250729T140819Z
UID:4841250-1753813800-1753819200@carletonnorth.com
SUMMARY:Brazilian Jiu Jitsu For beginners (Age 10+)
DESCRIPTION:Brazilian Jiu Jitsu For beginners (Age 10+)Date:  Weekly every Tuesday & Thursday in June\, July  & AugustTime:  6:30PM – 8:00PMLocation:  6 Welch Street\, Florenceville-Bristol – Pure Therapy \nCost:  $20 covers both Tuesday and Thursday classes for the weekOr $20 per drop-in class \nSign Up Online:  puretherapy.ca
URL:https://carletonnorth.com/event/brazilian-jiu-jitsu-for-beginners-age-10-13/
LOCATION:6 Welch St\, Florenceville-Bristol\, NB E7L 2E4\, Canada
CATEGORIES:Community Calendar
END:VEVENT
BEGIN:VEVENT
DTSTART;TZID=America/Halifax:20250729T180000
DTEND;TZID=America/Halifax:20250729T190000
DTSTAMP:20260422T184854
CREATED:20250713T231015Z
LAST-MODIFIED:20250728T232241Z
UID:5199006-1753812000-1753815600@carletonnorth.com
SUMMARY:Night Swimming Lessons - All Pools
DESCRIPTION:Night Swimming LessonsSession:  July 8 – August 26Time:  6:00PM – 7:00PM Location:  All Pools                   Florenceville-Bristol Pool:  40 McCain Street                   Centreville Pool:  751 Central Street                   Bath Pool:  128 School Street \n                   
URL:https://carletonnorth.com/event/night-swimming-lessons-all-pools-8/
CATEGORIES:Pool Schedule
END:VEVENT
BEGIN:VEVENT
DTSTART;TZID=America/Halifax:20250729T173000
DTEND;TZID=America/Halifax:20250729T184500
DTSTAMP:20260422T184854
CREATED:20250713T231015Z
LAST-MODIFIED:20250728T232241Z
UID:5199004-1753810200-1753814700@carletonnorth.com
SUMMARY:Night Swimming Lessons - All Pools
DESCRIPTION:Night Swimming LessonsSession:  July 8 – August 26Time:  5:30PM – 6:45PM Location:  All Pools                   Florenceville-Bristol Pool:  40 McCain Street                   Centreville Pool:  751 Central Street                   Bath Pool:  128 School Street \n                   
URL:https://carletonnorth.com/event/night-swimming-lessons-all-pools-7/
CATEGORIES:Pool Schedule
END:VEVENT
BEGIN:VEVENT
DTSTART;TZID=America/Halifax:20250729T140000
DTEND;TZID=America/Halifax:20250729T160000
DTSTAMP:20260422T184854
CREATED:20250713T231014Z
LAST-MODIFIED:20250728T232240Z
UID:5199003-1753797600-1753804800@carletonnorth.com
SUMMARY:Public Swim
DESCRIPTION:Public Swim Tuesday\, Wednesday\, Friday\, Saturday and SundayTime:  2:00PM – 4:00PMLocation:  All Pools                   Florenceville-Bristol Pool:  40 McCain Street                   Centreville Pool:  751 Central Street                   Bath Pool:  128 School StreetCost:  $2
URL:https://carletonnorth.com/event/public-swim-18/
CATEGORIES:Pool Schedule
END:VEVENT
BEGIN:VEVENT
DTSTART;TZID=America/Halifax:20250729T130000
DTEND;TZID=America/Halifax:20250731T160000
DTSTAMP:20260422T184854
CREATED:20250619T191656Z
LAST-MODIFIED:20250731T140744Z
UID:4841251-1753794000-1753977600@carletonnorth.com
SUMMARY:Summer Art Camps (ages 10-14)
DESCRIPTION:Ages 10-14 Summer Art Camps. \nDates:July 2-4 | Hands OnJuly 8-10 | Let’s Make a BookJuly 15-17 | Photography without CamerasJuly 29-31 | Drawing from lifeAugust 19-21 | Creating with Nature \nFor more information please visit: https://mccainartgallery.com/exhibitions/summer-art-camps-2025/ \nTo register\, please contact the gallery: 506-392-6769 | info@mccainartgallery.com \n\n\n\n\n\n\n\nCost\n\n\n$60 per 3 day camp
URL:https://carletonnorth.com/event/summer-art-camps-ages-10-14-4/
LOCATION:8746 Main St\, Florenceville-Bristol\, NB E7L 3G5\, Canada
CATEGORIES:Community Calendar
END:VEVENT
BEGIN:VEVENT
DTSTART;TZID=America/Halifax:20250729T123000
DTEND;TZID=America/Halifax:20250729T133000
DTSTAMP:20260422T184854
CREATED:20250713T231014Z
LAST-MODIFIED:20250728T232240Z
UID:5199002-1753792200-1753795800@carletonnorth.com
SUMMARY:Senior/Lap
DESCRIPTION:Senior/LapDate: Weekly Monday- FridayTime:  12:30PM – 1:30PMLocation:  All Pools                   Florenceville-Bristol Pool:  40 McCain Street                   Centreville Pool:  751 Central Street                   Bath Pool:  128 School StreetCost:  $2
URL:https://carletonnorth.com/event/senior-lap-12/
CATEGORIES:Pool Schedule
END:VEVENT
BEGIN:VEVENT
DTSTART;TZID=America/Halifax:20250729T093000
DTEND;TZID=America/Halifax:20250731T113000
DTSTAMP:20260422T184854
CREATED:20250619T191655Z
LAST-MODIFIED:20250731T140743Z
UID:4841249-1753781400-1753961400@carletonnorth.com
SUMMARY:Summer Art Camps (Ages 7-9)
DESCRIPTION:Ages 7-9 Summer Art Camps.Each 3 day camp is $45 \nDates:July 2-4 | Hands OnJuly 8-10 | Let’s Tell a StoryJuly 15-17 | Photography without CamerasJuly 29-31 | Let’s DrawAugust 12-14 | Creating with Nature \nFor more information please visit: https://mccainartgallery.com/exhibitions/summer-art-camps-2025/ \nTo register\, please contact the gallery: 506-392-6769 | info@mccainartgallery.com \n\n\n\n\n\n\n\nCost\n\n\n$45 per 3 day camp
URL:https://carletonnorth.com/event/summer-art-camps-ages-7-9-4/
LOCATION:8746 Main St\, Florenceville-Bristol\, NB E7L 3G5\, Canada
CATEGORIES:Community Calendar
END:VEVENT
BEGIN:VEVENT
DTSTART;TZID=America/Halifax:20250729T090000
DTEND;TZID=America/Halifax:20250729T120000
DTSTAMP:20260422T184854
CREATED:20250713T231014Z
LAST-MODIFIED:20250728T232240Z
UID:5199001-1753779600-1753790400@carletonnorth.com
SUMMARY:Lessons - All Pools
DESCRIPTION:Swimming Lesson SessionsMorning Lessons:  Monday – ThursdayJune 30 – July 17July 21 – August 7August 11 – August 28 \nNight Lessons:  Tuesday NightJuly 8 – August 26
URL:https://carletonnorth.com/event/lessons-all-pools-4/
CATEGORIES:Pool Schedule
END:VEVENT
BEGIN:VEVENT
DTSTART;VALUE=DATE:20250729
DTEND;VALUE=DATE:20250730
DTSTAMP:20260422T184854
CREATED:20250725T133752Z
LAST-MODIFIED:20250729T140818Z
UID:5370478-1753747200-1753833599@carletonnorth.com
SUMMARY:Silent Dance - Upper Valley Autism Resource Centre
DESCRIPTION:Individuals with Disabilities Silent DanceDate:  July 29\, 2025Time:   10:30 AM – 11:30AMLocation:  Riverside Park\, 9173 Main St.  Florenceville-Bristol
URL:https://carletonnorth.com/event/silent-dance-upper-valley-autism-resource-centre/
LOCATION:Riverside Park\, 9173 Main St\, Florenceville-Bristol\, NB E7L 2Y3\, Canada
CATEGORIES:Community Calendar
END:VEVENT
END:VCALENDAR