BEGIN:VCALENDAR
VERSION:2.0
PRODID:-//District of Carleton North - ECPv6.15.20//NONSGML v1.0//EN
CALSCALE:GREGORIAN
METHOD:PUBLISH
X-ORIGINAL-URL:https://carletonnorth.com
X-WR-CALDESC:Events for District of Carleton North
REFRESH-INTERVAL;VALUE=DURATION:PT1H
X-Robots-Tag:noindex
X-PUBLISHED-TTL:PT1H
BEGIN:VTIMEZONE
TZID:America/Halifax
BEGIN:DAYLIGHT
TZOFFSETFROM:-0400
TZOFFSETTO:-0300
TZNAME:ADT
DTSTART:20240310T060000
END:DAYLIGHT
BEGIN:STANDARD
TZOFFSETFROM:-0300
TZOFFSETTO:-0400
TZNAME:AST
DTSTART:20241103T050000
END:STANDARD
BEGIN:DAYLIGHT
TZOFFSETFROM:-0400
TZOFFSETTO:-0300
TZNAME:ADT
DTSTART:20250309T060000
END:DAYLIGHT
BEGIN:STANDARD
TZOFFSETFROM:-0300
TZOFFSETTO:-0400
TZNAME:AST
DTSTART:20251102T050000
END:STANDARD
BEGIN:DAYLIGHT
TZOFFSETFROM:-0400
TZOFFSETTO:-0300
TZNAME:ADT
DTSTART:20260308T060000
END:DAYLIGHT
BEGIN:STANDARD
TZOFFSETFROM:-0300
TZOFFSETTO:-0400
TZNAME:AST
DTSTART:20261101T050000
END:STANDARD
END:VTIMEZONE
BEGIN:VEVENT
DTSTART;TZID=America/Halifax:20250618T160000
DTEND;TZID=America/Halifax:20250618T190000
DTSTAMP:20260422T191257
CREATED:20250610T152313Z
LAST-MODIFIED:20250616T165252Z
UID:4705350-1750262400-1750273200@carletonnorth.com
SUMMARY:Rockwall Drop-in
DESCRIPTION:Rockwall Drop-ins\nCost: $3 Adult | $2 55+\n506-392-6763 ext 220 for more information
URL:https://carletonnorth.com/event/rockwall-drop-in-62/
LOCATION:40 McCain St\, Florenceville-Bristol\, NB E7L 3J4\, Canada
CATEGORIES:Community Calendar
END:VEVENT
BEGIN:VEVENT
DTSTART;TZID=America/Halifax:20250619T144500
DTEND;TZID=America/Halifax:20250619T164500
DTSTAMP:20260422T191257
CREATED:20250619T190746Z
LAST-MODIFIED:20250619T190746Z
UID:4840505-1750344300-1750351500@carletonnorth.com
SUMMARY:Adult/Senior Pickleball Drop-In
DESCRIPTION:Adult/Senior Pickleball Drop-inDate:  June 19\, 2025 Time:  2:45PM-4:45PMLocation:  R.G. “Bun” Veysey Active Living Centre \nDetails:All ages and skill levels welcomeCost: $3- Adults $2-Senior/55+ \nFor any questions\, please contact:📧 recreation@carletonnorth.com☎ (506) 392-6763 Ext. 220
URL:https://carletonnorth.com/event/adult-senior-pickleball-drop-in-5/
LOCATION:R. G. “Bun” Veysey Active Living Centre\, 40 McCain St\, Florenceville-Bristol\, NB E7L 3J4\, Canada
CATEGORIES:Community Calendar
END:VEVENT
BEGIN:VEVENT
DTSTART;TZID=America/Halifax:20250619T160000
DTEND;TZID=America/Halifax:20250619T190000
DTSTAMP:20260422T191257
CREATED:20250619T190818Z
LAST-MODIFIED:20250619T190818Z
UID:4840509-1750348800-1750359600@carletonnorth.com
SUMMARY:Rockwall Drop-ins
DESCRIPTION:Rockwall Drop-ins\nCost: $3 Adult | $2 55+\nThursdays\n1:00PM-3:00PM\n5:30PM-8:30PM\nFor more information: 506-392-6763 ext. 220
URL:https://carletonnorth.com/event/rockwall-drop-ins-138/
LOCATION:40 McCain St\, Florenceville-Bristol\, NB E7L 3J4\, Canada
CATEGORIES:Community Calendar
END:VEVENT
BEGIN:VEVENT
DTSTART;TZID=America/Halifax:20250619T170000
DTEND;TZID=America/Halifax:20250619T190000
DTSTAMP:20260422T191257
CREATED:20250619T190811Z
LAST-MODIFIED:20250619T190811Z
UID:4840508-1750352400-1750359600@carletonnorth.com
SUMMARY:Ladies Night Pickleball Drop-In
DESCRIPTION:Ladies  Night Pickleball Drop-In \nDate:  Weekly on ThursdaysTime:   5:00PM-7:00PMLocation:  R.G. “Bun” Veysey Active Living Centre \nEvent Details:All skill levels welcomeCost: $3- Adults $2-Senior/55+ \nFor any questions\, please contact:📧 recreation@carletonnorth.com☎ (506) 392-6763 Ext. 220
URL:https://carletonnorth.com/event/ladies-night-pickleball-drop-in-8/
LOCATION:R. G. “Bun” Veysey Active Living Centre\, 40 McCain St\, Florenceville-Bristol\, NB E7L 3J4\, Canada
CATEGORIES:Community Calendar
END:VEVENT
BEGIN:VEVENT
DTSTART;TZID=America/Halifax:20250619T180000
DTEND;TZID=America/Halifax:20250619T200000
DTSTAMP:20260422T191257
CREATED:20250619T190753Z
LAST-MODIFIED:20250619T224009Z
UID:4840506-1750356000-1750363200@carletonnorth.com
SUMMARY:Clay Handbuilding - Veterans Night
DESCRIPTION:Whether you’ve got a current project or are a brand-newbie wanting to explore clay\, join instructor Jenna Ross & other friendly clay-lovers for a casual evening of creativity at the River Art Centre & Studios. \nNo registration required. Basic instruction is provided to get you started. ….Bring your ideas\, gusto\, project dreams & we’ll see what happens! \nFee to attend each Drop-in is $5 per person. The first (bisque) firing of any pot you decide to keep costs $10 each piece. Then Glazing costs an additional $10 each piece. \nChildren aged 7-14 welcome to participate if accompanied by an adult. No experience necessary\, just an openness to try! See you there! \nFor more information contact the Gallery. info@mccainartgallery.com 506-392-6769
URL:https://carletonnorth.com/event/clay-handbuilding-veterans-night-3/
LOCATION:8746 Main St\, Florenceville-Bristol\, NB E7L 3G5\, Canada
CATEGORIES:Community Calendar
END:VEVENT
BEGIN:VEVENT
DTSTART;TZID=America/Halifax:20250619T183000
DTEND;TZID=America/Halifax:20250619T200000
DTSTAMP:20260422T191257
CREATED:20250619T190801Z
LAST-MODIFIED:20250619T224009Z
UID:4840507-1750357800-1750363200@carletonnorth.com
SUMMARY:Brazilian Jiu Jitsu For beginners (Age 10+)
DESCRIPTION:Brazilian Jiu Jitsu For beginners (Age 10+)Date:  Weekly every Tuesday & Thursday in June\, July  & AugustTime:  6:30PM – 8:00PMLocation:  6 Welch Street\, Florenceville-Bristol – Pure Therapy \nCost:  $20 covers both Tuesday and Thursday classes for the weekOr $20 per drop-in class \nSign Up Online:  puretherapy.ca
URL:https://carletonnorth.com/event/brazilian-jiu-jitsu-for-beginners-age-10-2/
LOCATION:6 Welch St\, Florenceville-Bristol\, NB E7L 2E4\, Canada
CATEGORIES:Community Calendar
END:VEVENT
BEGIN:VEVENT
DTSTART;TZID=America/Halifax:20250620T083000
DTEND;TZID=America/Halifax:20250620T103000
DTSTAMP:20260422T191257
CREATED:20250619T190826Z
LAST-MODIFIED:20250619T224009Z
UID:4840510-1750408200-1750415400@carletonnorth.com
SUMMARY:Adult/Senior Pickleball Drop-In
DESCRIPTION:Adult/Senior Pickleball Drop-inDate:  June 20\, 2025 Time:  8:30AM-10:30AMLocation:  R.G. “Bun” Veysey Active Living Centre \nDetails:All ages and skill levels welcomeCost: $3- Adults $2-Senior/55+ \nFor any questions\, please contact:📧 recreation@carletonnorth.com☎ (506) 392-6763 Ext. 220
URL:https://carletonnorth.com/event/adult-senior-pickleball-drop-in-6/
LOCATION:R.G.Bun
CATEGORIES:Community Calendar
END:VEVENT
BEGIN:VEVENT
DTSTART;TZID=America/Halifax:20250620T160000
DTEND;TZID=America/Halifax:20250620T190000
DTSTAMP:20260422T191257
CREATED:20250619T190836Z
LAST-MODIFIED:20250619T224010Z
UID:4840511-1750435200-1750446000@carletonnorth.com
SUMMARY:Rock Wall Drop-Ins
DESCRIPTION:Rockwall Drop-insCost: $3 Adult | $2 55+ \n For more information: 506-392-6763 ext. 220
URL:https://carletonnorth.com/event/rock-wall-drop-ins-10/
LOCATION:R. G. “Bun” Veysey Active Living Centre\, 40 McCain St\, Florenceville-Bristol\, NB E7L 3J4\, Canada
CATEGORIES:Community Calendar
END:VEVENT
BEGIN:VEVENT
DTSTART;TZID=America/Halifax:20250620T180000
DTEND;TZID=America/Halifax:20250620T210000
DTSTAMP:20260422T191257
CREATED:20250619T190844Z
LAST-MODIFIED:20250620T225439Z
UID:4840512-1750442400-1750453200@carletonnorth.com
SUMMARY:Friday Night Social at Upper Kent Rec
DESCRIPTION:Friday Night Social at The Upper Kent Rec Centre \nFridays: 6:00PM – 9:00PM \nEntry by DonationFollow on Facebook for the weekly menu at https://www.facebook.com/profile.php?id=100082114163442
URL:https://carletonnorth.com/event/friday-night-social-at-upper-kent-rec-9/
LOCATION:Upper Kent Recreation Centre\, 240 Upper Kent Rd\, Upper Kent\, NB E7J 2E6\, Canada
CATEGORIES:Community Calendar
END:VEVENT
BEGIN:VEVENT
DTSTART;TZID=America/Halifax:20250621T080000
DTEND;TZID=America/Halifax:20250621T110000
DTSTAMP:20260422T191257
CREATED:20250619T190908Z
LAST-MODIFIED:20250620T225441Z
UID:4840515-1750492800-1750503600@carletonnorth.com
SUMMARY:Breakfast at Juniper Community Centre
DESCRIPTION:Breakfast at Juniper Community CentreDate: Weekly on SaturdayTime:  8:00AM – 11:00AMLocation:  Juniper Community Centre\, 267 Juniper Rd\, Juniper \nDon’t forget to join us for Breakfast  from 8am – 11am at the Juniper Community Centre.   Great company and a fantastic way to start your weekend. Everyone is welcome—bring your family\, friends\, and neighbors! 💛 \nBring someone who needs a delicious Saturday morning pick-me-up! 🍳🥓 \n#CommunityBreakfast #SaturdayVibes #GoodFoodGoodCompany \nhttps://www.facebook.com/JCC506
URL:https://carletonnorth.com/event/breakfast-at-juniper-community-centre-11/
LOCATION:Juniper Community Centre\, 267 Juniper Rd\, Juniper\, NB E7L 1H1\, Canada
CATEGORIES:Community Calendar
END:VEVENT
BEGIN:VEVENT
DTSTART;TZID=America/Halifax:20250621T090000
DTEND;TZID=America/Halifax:20250621T120000
DTSTAMP:20260422T191257
CREATED:20250619T190851Z
LAST-MODIFIED:20250620T225440Z
UID:4840513-1750496400-1750507200@carletonnorth.com
SUMMARY:Rockwall Drop-ins
DESCRIPTION:Rockwall Drop-ins\nCost: $3 Adult | $2 55+\nSaturdays & Sundays\n9:00AM-12:00PM\n3:30PM-6:30PM\nFor more information: 506-392-6763 ext. 220
URL:https://carletonnorth.com/event/rockwall-drop-ins-139/
LOCATION:R. G. “Bun” Veysey Active Living Centre\, 40 McCain St\, Florenceville-Bristol\, NB E7L 3J4\, Canada
CATEGORIES:Community Calendar
END:VEVENT
BEGIN:VEVENT
DTSTART;TZID=America/Halifax:20250621T090000
DTEND;TZID=America/Halifax:20250621T120000
DTSTAMP:20260422T191257
CREATED:20250619T190901Z
LAST-MODIFIED:20250620T225440Z
UID:4840514-1750496400-1750507200@carletonnorth.com
SUMMARY:District of Carleton North Recreation: Bike Rodeo
DESCRIPTION:District of Carleton North Recreation: Bike RodeoLearn how to ride your bicycle safely! \nNorthern Carleton Civic Centre parking lotSaturday June 21\,  20259:00AM – 10:30AM Ages 3-610:30AM – 12:00PM Ages 7-13 \nRegister FREE at: https://tms.ezfacility.com/OnlineRegistrations/Register.aspx?CompanyID=7708&GroupID=3876535ALL PARTICIPANTS MUST BE ACCOMPANIED BY A GUARDIANYou are required to bring your bicycle and bicycle helmet
URL:https://carletonnorth.com/event/district-of-carleton-north-recreation-bike-rodeo/
LOCATION:40 McCain St\, Florenceville-Bristol\, NB E7L 3J4\, Canada
CATEGORIES:Community Calendar
END:VEVENT
BEGIN:VEVENT
DTSTART;TZID=America/Halifax:20250621T153000
DTEND;TZID=America/Halifax:20250621T183000
DTSTAMP:20260422T191257
CREATED:20250619T190915Z
LAST-MODIFIED:20250620T225441Z
UID:4840516-1750519800-1750530600@carletonnorth.com
SUMMARY:Rockwall Drop-ins
DESCRIPTION:Rockwall Drop-ins\nCost: $3 Adult | $2 55+\nSaturdays & Sundays\n9:00AM-12:00PM\n3:30PM-6:30PM\nFor more information: 506-392-6763 ext. 220
URL:https://carletonnorth.com/event/rockwall-drop-ins-140/
LOCATION:R. G. “Bun” Veysey Active Living Centre\, 40 McCain St\, Florenceville-Bristol\, NB E7L 3J4\, Canada
CATEGORIES:Community Calendar
END:VEVENT
BEGIN:VEVENT
DTSTART;TZID=America/Halifax:20250621T164500
DTEND;TZID=America/Halifax:20250621T184500
DTSTAMP:20260422T191257
CREATED:20250620T225441Z
LAST-MODIFIED:20250620T225441Z
UID:4859343-1750524300-1750531500@carletonnorth.com
SUMMARY:Adult/Senior Pickleball Drop-In
DESCRIPTION:Adult/Senior Pickleball Drop-InDate:  June 21\, 2025Time:   4:45PM – 6:45PMLocation:  R.G. “Bun” Veysey Active Living Centre \nDetails:  \nAll skill levels welcomeCost: $3- Adults $2-Senior/55+ \nFor any questions\, please contact:📧 recreation@carletonnorth.com☎ (506) 392-6763 Ext. 220
URL:https://carletonnorth.com/event/adult-senior-pickleball-drop-in-65/
CATEGORIES:Community Calendar
END:VEVENT
BEGIN:VEVENT
DTSTART;TZID=America/Halifax:20250622T090000
DTEND;TZID=America/Halifax:20250622T110000
DTSTAMP:20260422T191257
CREATED:20250620T225442Z
LAST-MODIFIED:20250621T230742Z
UID:4859344-1750582800-1750590000@carletonnorth.com
SUMMARY:Adult/Senior Pickleball Drop-In
DESCRIPTION:Adult/Senior Pickleball Drop-InDate:  June 22\, 2025Time:   9:00AM – 11:00AMLocation:  R.G. “Bun” Veysey Active Living Centre \nDetails:  \nAll skill levels welcomeCost: $3- Adults $2-Senior/55+ \nFor any questions\, please contact:📧 recreation@carletonnorth.com☎ (506) 392-6763 Ext. 220
URL:https://carletonnorth.com/event/adult-senior-pickleball-drop-in-66/
CATEGORIES:Community Calendar
END:VEVENT
BEGIN:VEVENT
DTSTART;TZID=America/Halifax:20250622T090000
DTEND;TZID=America/Halifax:20250622T120000
DTSTAMP:20260422T191257
CREATED:20250619T190925Z
LAST-MODIFIED:20250621T230743Z
UID:4840517-1750582800-1750593600@carletonnorth.com
SUMMARY:Rockwall Drop-ins
DESCRIPTION:Rockwall Drop-ins\nCost: $3 Adult | $2 55+\nSaturdays & Sundays\n9:00AM-12:00PM\n3:30PM-6:30PM\nFor more information: 506-392-6763 ext. 220
URL:https://carletonnorth.com/event/rockwall-drop-ins-141/
LOCATION:R. G. “Bun” Veysey Active Living Centre\, 40 McCain St\, Florenceville-Bristol\, NB E7L 3J4\, Canada
CATEGORIES:Community Calendar
END:VEVENT
BEGIN:VEVENT
DTSTART;TZID=America/Halifax:20250622T153000
DTEND;TZID=America/Halifax:20250622T183000
DTSTAMP:20260422T191257
CREATED:20250619T190933Z
LAST-MODIFIED:20250621T230743Z
UID:4840518-1750606200-1750617000@carletonnorth.com
SUMMARY:Rockwall Drop-ins
DESCRIPTION:Rockwall Drop-ins\nCost: $3 Adult | $2 55+\nSaturdays & Sundays\n9:00AM-12:00PM\n3:30PM-6:30PM\nFor more information: 506-392-6763 ext. 220
URL:https://carletonnorth.com/event/rockwall-drop-ins-146/
LOCATION:R. G. “Bun” Veysey Active Living Centre\, 40 McCain St\, Florenceville-Bristol\, NB E7L 3J4\, Canada
CATEGORIES:Community Calendar
END:VEVENT
BEGIN:VEVENT
DTSTART;TZID=America/Halifax:20250622T190000
DTEND;TZID=America/Halifax:20250622T210000
DTSTAMP:20260422T191257
CREATED:20250619T190940Z
LAST-MODIFIED:20250622T232430Z
UID:4840519-1750618800-1750626000@carletonnorth.com
SUMMARY:Kin Club Bingo
DESCRIPTION:Kin Club BingoDate:  Weekly on SundayTime:  7:00PM – 9:00PMLocation:  Florenceville Kin Centre\, 381 Centreville Rd. Florenceville-Bristol \nThe Kin Club Weekly Bingo Takes Place every Sunday\, with door opening at 6pm and games starting at 7pm.Cost: $10 books\, $5 books\, $1 Specials and $25 package deals and more.
URL:https://carletonnorth.com/event/kin-club-bingo-78/
LOCATION:Florenceville Kin Center\, 381 Centreville Rd\, Florenceville-Bristol\, NB E7L 3K5\, Canada
CATEGORIES:Community Calendar
END:VEVENT
BEGIN:VEVENT
DTSTART;TZID=America/Halifax:20250623T130000
DTEND;TZID=America/Halifax:20250623T140000
DTSTAMP:20260422T191257
CREATED:20250619T190956Z
LAST-MODIFIED:20250622T232431Z
UID:4840521-1750683600-1750687200@carletonnorth.com
SUMMARY:Senior Stretching
DESCRIPTION:Date:  Every Monday in JuneTime:  1:00PM – 2:00PMLocation:  Beechwood Senior ComplexEvent Details:   \nNursing Home Without Walls is offering Senior Stretching at Beechwood Senior Complex at 1:00pm.  This is a great opportunity to get moving and to socialize.  Includes some light seated exercise with NHWW staff. For more information or to join call NHWW (506) 278-3197
URL:https://carletonnorth.com/event/senior-stretching-61/
LOCATION:Beechwood Senior Complex
CATEGORIES:Community Calendar
END:VEVENT
BEGIN:VEVENT
DTSTART;TZID=America/Halifax:20250623T140000
DTEND;TZID=America/Halifax:20250623T150000
DTSTAMP:20260422T191257
CREATED:20250619T190949Z
LAST-MODIFIED:20250622T232431Z
UID:4840520-1750687200-1750690800@carletonnorth.com
SUMMARY:Senior Stretching
DESCRIPTION:Date:  Weekly every Monday in JuneTIme:  2:00PM – 3:00PMLocation:   River View Manor Complex \nEvent Details: \nNursing Home Without Walls is offering Senior Stretching at River View Manor Complex at 2:00pm.  This is a great opportunity to get moving and to socialize.  Includes some light seated exercise with NHWW staff. \nFor more information or to join call NHWW (506)278-3197
URL:https://carletonnorth.com/event/senior-stretching-60/
LOCATION:River View Manor Complex\, 96 Hospital St\, Bath\, NB E7J 1B9\, Canada
CATEGORIES:Community Calendar
END:VEVENT
BEGIN:VEVENT
DTSTART;TZID=America/Halifax:20250623T160000
DTEND;TZID=America/Halifax:20250623T190000
DTSTAMP:20260422T191257
CREATED:20250619T191004Z
LAST-MODIFIED:20250622T232432Z
UID:4840522-1750694400-1750705200@carletonnorth.com
SUMMARY:Rockwall Drop-in
DESCRIPTION:Rockwall Drop-ins\nCost: $3 Adult | $2 55+\n506-392-6763 ext 220 for more information
URL:https://carletonnorth.com/event/rockwall-drop-in-65/
LOCATION:40 McCain St\, Florenceville-Bristol\, NB E7L 3J4\, Canada
CATEGORIES:Community Calendar
END:VEVENT
BEGIN:VEVENT
DTSTART;TZID=America/Halifax:20250623T170000
DTEND;TZID=America/Halifax:20250623T190000
DTSTAMP:20260422T191257
CREATED:20250620T225444Z
LAST-MODIFIED:20250622T232432Z
UID:4859345-1750698000-1750705200@carletonnorth.com
SUMMARY:Adult/Senior Pickleball Drop-In
DESCRIPTION:Adult/Senior Pickleball Drop-InDate:  June 23\, 2025Time:  5:00PM – 7:00PMLocation:  R.G. “Bun” Veysey Active Living Centre \nDetails:  \nAll skill levels welcomeCost: $3- Adults $2-Senior/55+ \nFor any questions\, please contact:📧 recreation@carletonnorth.com☎ (506) 392-6763 Ext. 220
URL:https://carletonnorth.com/event/adult-senior-pickleball-drop-in-67/
CATEGORIES:Community Calendar
END:VEVENT
BEGIN:VEVENT
DTSTART;TZID=America/Halifax:20250624T083000
DTEND;TZID=America/Halifax:20250624T103000
DTSTAMP:20260422T191257
CREATED:20250620T225445Z
LAST-MODIFIED:20250623T233741Z
UID:4859346-1750753800-1750761000@carletonnorth.com
SUMMARY:Adult/Senior Pickleball Drop-Ins
DESCRIPTION:Adult/Senior Pickleball Drop-insDate:  June 24\, 2025Time:  8:30AM-10:30AMLocation:  R.G. “Bun” Veysey Active Living Centre \nDetails:All ages and skill levels welcomeCost: $3- Adults $2-Senior/55+ \nFor any questions\, please contact:📧 recreation@carletonnorth.com☎ (506) 392-6763 Ext. 220
URL:https://carletonnorth.com/event/adult-senior-pickleball-drop-ins/
LOCATION:40 McCain St\, Florenceville-Bristol\, NB E7L 3J4\, Canada
CATEGORIES:Community Calendar
END:VEVENT
BEGIN:VEVENT
DTSTART;TZID=America/Halifax:20250624T093000
DTEND;TZID=America/Halifax:20250624T113000
DTSTAMP:20260422T191257
CREATED:20250619T191013Z
LAST-MODIFIED:20250623T233740Z
UID:4840523-1750757400-1750764600@carletonnorth.com
SUMMARY:Play Group: St. Leo's Church
DESCRIPTION:The Valley Family Resource Centre: Play GroupDate: Weekly on TuesdaysTime:  9:30AM – 11:30AMLocation:  St. Leo’s Church\, 60 Perkins Way\, Florenceville-BristolUse the Side\, Basement Door entrance \nRunning from September to JuneRegistration/More Information: 506-325-2299/ heidi.homer@frc-crf.comRegistration Form: https://docs.google.com/forms/d/e/1FAIpQLSfax8DDMZzgKvN6QzkDk9UuFZ_KswBWLHKVCf1A5eAyyktzvQ/viewform
URL:https://carletonnorth.com/event/play-group-st-leos-church-23/
LOCATION:St Leo the Great’s Church\, 60 Perkins Way\, Florenceville-Bristol\, NB E7L 3H9\, Canada
CATEGORIES:Community Calendar
END:VEVENT
BEGIN:VEVENT
DTSTART;TZID=America/Halifax:20250624T100000
DTEND;TZID=America/Halifax:20250624T130000
DTSTAMP:20260422T191257
CREATED:20250623T233741Z
LAST-MODIFIED:20250623T233741Z
UID:4904164-1750759200-1750770000@carletonnorth.com
SUMMARY:Rockwall Drop-in
DESCRIPTION:Rockwall Drop-ins\nCost: $3 Adult | $2 55+\n506-392-6763 ext 220 for more information
URL:https://carletonnorth.com/event/rockwall-drop-in-281/
LOCATION:40 McCain St\, Florenceville-Bristol\, NB E7L 3J4\, Canada
CATEGORIES:Community Calendar
END:VEVENT
BEGIN:VEVENT
DTSTART;TZID=America/Halifax:20250624T143000
DTEND;TZID=America/Halifax:20250624T163000
DTSTAMP:20260422T191257
CREATED:20250620T225446Z
LAST-MODIFIED:20250623T233742Z
UID:4859347-1750775400-1750782600@carletonnorth.com
SUMMARY:Adult/Senior Pickleball Drop-In
DESCRIPTION:Adult/Senior Pickleball Drop-InDate:  June 24\, 2025Time:   2:30PM – 4:30PMLocation:  R.G. “Bun” Veysey Active Living Centre \nDetails:  \nAll skill levels welcomeCost: $3- Adults $2-Senior/55+ \nFor any questions\, please contact:📧 recreation@carletonnorth.com☎ (506) 392-6763 Ext. 220
URL:https://carletonnorth.com/event/adult-senior-pickleball-drop-in-68/
CATEGORIES:Community Calendar
END:VEVENT
BEGIN:VEVENT
DTSTART;TZID=America/Halifax:20250624T160000
DTEND;TZID=America/Halifax:20250624T190000
DTSTAMP:20260422T191257
CREATED:20250619T191037Z
LAST-MODIFIED:20250623T233744Z
UID:4840526-1750780800-1750791600@carletonnorth.com
SUMMARY:Rockwall Drop-in
DESCRIPTION:Rockwall Drop-ins\nCost: $3 Adult | $2 55+\n506-392-6763 ext 220 for more information
URL:https://carletonnorth.com/event/rockwall-drop-in-66/
LOCATION:40 McCain St\, Florenceville-Bristol\, NB E7L 3J4\, Canada
CATEGORIES:Community Calendar
END:VEVENT
BEGIN:VEVENT
DTSTART;TZID=America/Halifax:20250624T183000
DTEND;TZID=America/Halifax:20250624T200000
DTSTAMP:20260422T191257
CREATED:20250619T191045Z
LAST-MODIFIED:20250623T233743Z
UID:4840527-1750789800-1750795200@carletonnorth.com
SUMMARY:Brazilian Jiu Jitsu For beginners (Age 10+)
DESCRIPTION:Brazilian Jiu Jitsu For beginners (Age 10+)Date:  Weekly every Tuesday & Thursday in June\, July  & AugustTime:  6:30PM – 8:00PMLocation:  6 Welch Street\, Florenceville-Bristol – Pure Therapy \nCost:  $20 covers both Tuesday and Thursday classes for the weekOr $20 per drop-in class \nSign Up Online:  puretherapy.ca
URL:https://carletonnorth.com/event/brazilian-jiu-jitsu-for-beginners-age-10-3/
LOCATION:6 Welch St\, Florenceville-Bristol\, NB E7L 2E4\, Canada
CATEGORIES:Community Calendar
END:VEVENT
BEGIN:VEVENT
DTSTART;TZID=America/Halifax:20250624T190000
DTEND;TZID=America/Halifax:20250624T210000
DTSTAMP:20260422T191257
CREATED:20250619T191028Z
LAST-MODIFIED:20250624T235314Z
UID:4840525-1750791600-1750798800@carletonnorth.com
SUMMARY:District of Carleton North Council Meeting
DESCRIPTION:Items for Council’s consideration must be submitted to the Clerk amy.mcintosh@carletonnorht.com one week in advance of a Council meeting.
URL:https://carletonnorth.com/event/district-of-carleton-north-council-meeting-37/
LOCATION:Town Office\, 19 Station Rd\, Florenceville-Bristol\, NB E7L 3J8\, Canada
CATEGORIES:Community Calendar
END:VEVENT
BEGIN:VEVENT
DTSTART;TZID=America/Halifax:20250625T083000
DTEND;TZID=America/Halifax:20250625T103000
DTSTAMP:20260422T191257
CREATED:20250619T191053Z
LAST-MODIFIED:20250624T235314Z
UID:4840528-1750840200-1750847400@carletonnorth.com
SUMMARY:Adult/Senior Pickleball Drop-Ins
DESCRIPTION:Adult/Senior Pickleball Drop-insDate:  Wednesdays June 25\, 2025Time:  8:30AM-10:30AMLocation:  R.G. “Bun” Veysey Active Living Centre \nDetails:All ages and skill levels welcomeCost: $3- Adults $2-Senior/55+ \nFor any questions\, please contact:📧 recreation@carletonnorth.com☎ (506) 392-6763 Ext. 220
URL:https://carletonnorth.com/event/regular-pickleball-drop-ins-4/
LOCATION:40 McCain St\, Florenceville-Bristol\, NB E7L 3J4\, Canada
CATEGORIES:Community Calendar
END:VEVENT
END:VCALENDAR