BEGIN:VCALENDAR
VERSION:2.0
PRODID:-//District of Carleton North - ECPv6.15.20//NONSGML v1.0//EN
CALSCALE:GREGORIAN
METHOD:PUBLISH
X-ORIGINAL-URL:https://carletonnorth.com
X-WR-CALDESC:Events for District of Carleton North
REFRESH-INTERVAL;VALUE=DURATION:PT1H
X-Robots-Tag:noindex
X-PUBLISHED-TTL:PT1H
BEGIN:VTIMEZONE
TZID:America/Halifax
BEGIN:DAYLIGHT
TZOFFSETFROM:-0400
TZOFFSETTO:-0300
TZNAME:ADT
DTSTART:20240310T060000
END:DAYLIGHT
BEGIN:STANDARD
TZOFFSETFROM:-0300
TZOFFSETTO:-0400
TZNAME:AST
DTSTART:20241103T050000
END:STANDARD
BEGIN:DAYLIGHT
TZOFFSETFROM:-0400
TZOFFSETTO:-0300
TZNAME:ADT
DTSTART:20250309T060000
END:DAYLIGHT
BEGIN:STANDARD
TZOFFSETFROM:-0300
TZOFFSETTO:-0400
TZNAME:AST
DTSTART:20251102T050000
END:STANDARD
BEGIN:DAYLIGHT
TZOFFSETFROM:-0400
TZOFFSETTO:-0300
TZNAME:ADT
DTSTART:20260308T060000
END:DAYLIGHT
BEGIN:STANDARD
TZOFFSETFROM:-0300
TZOFFSETTO:-0400
TZNAME:AST
DTSTART:20261101T050000
END:STANDARD
END:VTIMEZONE
BEGIN:VEVENT
DTSTART;TZID=America/Halifax:20250708T190000
DTEND;TZID=America/Halifax:20250708T200000
DTSTAMP:20260422T191154
CREATED:20250623T212247Z
LAST-MODIFIED:20250708T223800Z
UID:4902800-1752001200-1752004800@carletonnorth.com
SUMMARY:Public Swim: All Pools
DESCRIPTION:Public SwimDate:  Weekly on TuesdaysLocation:  All Pools                   Florenceville-Bristol Pool: 40 McCain Street                   Centreville Pool: 751 Central Street                   Bath Pool:128 School Street \nCost:  $2
URL:https://carletonnorth.com/event/public-swim-all-pools-2/
CATEGORIES:Pool Schedule
END:VEVENT
BEGIN:VEVENT
DTSTART;TZID=America/Halifax:20250709T083000
DTEND;TZID=America/Halifax:20250709T110000
DTSTAMP:20260422T191154
CREATED:20250703T100740Z
LAST-MODIFIED:20250709T110803Z
UID:5042935-1752049800-1752058800@carletonnorth.com
SUMMARY:NHWW Blood Pressure Walk-In Clinic
DESCRIPTION:Date:  July 9\, 2025Time:  8:30AM – 11:00AMLocation:  R.G ‘Bun’ Veysey Active Living Centre\, 40 McCain Street Florenceville-BristolEvent Details:  \nNHWW is offering a FREE Blood Pressure Drop-In Clinic for anyone 60+.  There will be a healthcare professional on site to check on various aspects of your wellbeing.  You can choose to have any of the following tested;  blood pressure\, glucose\, weight\, H20 level.  \nFor more information contact NHWW at 506-278-3197 or email rvmnhww@nb.aibn.com
URL:https://carletonnorth.com/event/nhww-blood-pressure-walk-in-clinic-3/
LOCATION:R. G. “Bun” Veysey Active Living Centre\, 40 McCain St\, Florenceville-Bristol\, NB E7L 3J4\, Canada
CATEGORIES:Community Calendar
END:VEVENT
BEGIN:VEVENT
DTSTART;TZID=America/Halifax:20250709T090000
DTEND;TZID=America/Halifax:20250709T120000
DTSTAMP:20260422T191154
CREATED:20250623T212248Z
LAST-MODIFIED:20250708T223800Z
UID:4902801-1752051600-1752062400@carletonnorth.com
SUMMARY:Morning Swimming Lessons - All Pools
DESCRIPTION:Swimming Lesson SessionsMorning Lessons:  Monday – ThursdayJune 30 – July 17July 21 – August 7August 11 – August 28 \nPool LocationsFlorenceville-Bristol Pool:  40 McCain StreetCentreville Pool:  751 Central StreetBath Pool:  128 School Street
URL:https://carletonnorth.com/event/morning-swimming-lessons-all-pools-5/
CATEGORIES:Pool Schedule
END:VEVENT
BEGIN:VEVENT
DTSTART;TZID=America/Halifax:20250709T100000
DTEND;TZID=America/Halifax:20250709T110000
DTSTAMP:20260422T191154
CREATED:20250703T100739Z
LAST-MODIFIED:20250709T110804Z
UID:5042934-1752055200-1752058800@carletonnorth.com
SUMMARY:Senior Stretching
DESCRIPTION:Date:  Weekly Every Wednesday in JulyTime:  10:00AM – 11:00AMLocation:  Shiktehawk Place \nEvent Details: \nNursing Home Without Walls is offering Senior Stretching at Shiktehawk Place at 10:00am.  This is a great opportunity to get moving and to socialize.  Includes some light seated exercise. \nFor more information or to join contact NHWW (506)278-3197
URL:https://carletonnorth.com/event/senior-stretching-68/
LOCATION:Shiktehawk Place
CATEGORIES:Community Calendar
END:VEVENT
BEGIN:VEVENT
DTSTART;TZID=America/Halifax:20250709T123000
DTEND;TZID=America/Halifax:20250709T133000
DTSTAMP:20260422T191154
CREATED:20250623T212248Z
LAST-MODIFIED:20250708T223801Z
UID:4902802-1752064200-1752067800@carletonnorth.com
SUMMARY:Senior/Lap
DESCRIPTION:Senior/LapDate: Weekly Monday- FridayTime:  12:30PM – 1:30PMLocation:  All Pools                   Florenceville-Bristol Pool:  40 McCain Street                   Centreville Pool:  751 Central Street                   Bath Pool:  128 School StreetCost:  $2
URL:https://carletonnorth.com/event/senior-lap-4/
CATEGORIES:Pool Schedule
END:VEVENT
BEGIN:VEVENT
DTSTART;TZID=America/Halifax:20250709T130000
DTEND;TZID=America/Halifax:20250709T160000
DTSTAMP:20260422T191154
CREATED:20250619T191628Z
LAST-MODIFIED:20250709T110804Z
UID:4841180-1752066000-1752076800@carletonnorth.com
SUMMARY:Senior Puzzles\, Social & Cards
DESCRIPTION:Senior Puzzles\, Social & CardsDate:  Weekly on WednesdaysTime:  1:00PM – 4:00PMLocation:  R.G. ‘Bun’ Veysey Active Living Centre\,  40 McCain St. Florenceville-Bristol \nEnjoy an afternoon of card games\, snacks\, tea and fun!  Play a variation of puzzles. Feel free to bring puzzles to trade! \nCost:   $3 for entry (55+)
URL:https://carletonnorth.com/event/senior-puzzles-social-cards-55/
LOCATION:40 McCain St\, Florenceville-Bristol\, NB E7L 3J4\, Canada
CATEGORIES:Community Calendar
END:VEVENT
BEGIN:VEVENT
DTSTART;TZID=America/Halifax:20250709T140000
DTEND;TZID=America/Halifax:20250709T160000
DTSTAMP:20260422T191154
CREATED:20250630T213812Z
LAST-MODIFIED:20250708T223801Z
UID:5006945-1752069600-1752076800@carletonnorth.com
SUMMARY:Public Swim
DESCRIPTION:Public Swim Tuesday\, Wednesday\, Friday\, Saturday and SundayTime:  2:00PM – 4:00PMLocation:  All Pools                   Florenceville-Bristol Pool:  40 McCain Street                   Centreville Pool:  751 Central Street                   Bath Pool:  128 School StreetCost:  $2
URL:https://carletonnorth.com/event/public-swim-5/
CATEGORIES:Pool Schedule
END:VEVENT
BEGIN:VEVENT
DTSTART;TZID=America/Halifax:20250709T180000
DTEND;TZID=America/Halifax:20250709T190000
DTSTAMP:20260422T191154
CREATED:20250623T212249Z
LAST-MODIFIED:20250708T223801Z
UID:4902804-1752084000-1752087600@carletonnorth.com
SUMMARY:Swim Team
DESCRIPTION:Swim TeamDate:  Weekly on Mon/Wed/FriTime:  6:00PM – 7:00PMLocation:  All Pools \nPool Locations:Florenceville-Bristol Pool:  40 McCain StreetCentreville Pool:  751 Central StreetBath Pool:  128 School Street
URL:https://carletonnorth.com/event/swim-team-5/
CATEGORIES:Pool Schedule
END:VEVENT
BEGIN:VEVENT
DTSTART;TZID=America/Halifax:20250709T183000
DTEND;TZID=America/Halifax:20250709T193000
DTSTAMP:20260422T191154
CREATED:20250704T102302Z
LAST-MODIFIED:20250709T110805Z
UID:5058452-1752085800-1752089400@carletonnorth.com
SUMMARY:Wednesday Music at the Gazebo
DESCRIPTION:Wednesday at the GazeboTIME: 6:30PM TO 8:30PMEvery Wednesday in July and AugustSchedule to be posted on www.carletonnorth.com \nFor updates: https://www.facebook.com/exploredistrictofcarletonnorth
URL:https://carletonnorth.com/event/wednesday-music-at-the-gazebo/
LOCATION:Centreville Gazebo\, 751 Central Street\, Centreville\, NB
CATEGORIES:Community Calendar
END:VEVENT
BEGIN:VEVENT
DTSTART;TZID=America/Halifax:20250710T090000
DTEND;TZID=America/Halifax:20250710T120000
DTSTAMP:20260422T191154
CREATED:20250623T212249Z
LAST-MODIFIED:20250709T223731Z
UID:4902805-1752138000-1752148800@carletonnorth.com
SUMMARY:Morning Swimming Lessons - All Pools
DESCRIPTION:Swimming Lesson SessionsMorning Lessons:  Monday – ThursdayJune 30 – July 17July 21 – August 7August 11 – August 28 \nPool Locations \nFlorenceville-Bristol Pool:  40 McCain StreetCentreville Pool:  751 Central StreetBath Pool:  128 School Street
URL:https://carletonnorth.com/event/morning-swimming-lessons-all-pools-6/
CATEGORIES:Pool Schedule
END:VEVENT
BEGIN:VEVENT
DTSTART;TZID=America/Halifax:20250710T123000
DTEND;TZID=America/Halifax:20250710T133000
DTSTAMP:20260422T191154
CREATED:20250625T212245Z
LAST-MODIFIED:20250709T223731Z
UID:4932926-1752150600-1752154200@carletonnorth.com
SUMMARY:Senior/Lap - Centreville & Florenceville-Bristol
DESCRIPTION:Senior/LapDate:  Weekly Monday- FridayTime:  12:30PM – 1:30PMLocation:  Florenceville-Bristol Pool:  40 McCain Street                   Centreville Pool:  751 Central Street                   Cost:  $2
URL:https://carletonnorth.com/event/senior-lap-centreville-florenceville-bristol-2/
CATEGORIES:Pool Schedule
END:VEVENT
BEGIN:VEVENT
DTSTART;TZID=America/Halifax:20250710T123000
DTEND;TZID=America/Halifax:20250710T133000
DTSTAMP:20260422T191154
CREATED:20250625T212245Z
LAST-MODIFIED:20250709T223732Z
UID:4932927-1752150600-1752154200@carletonnorth.com
SUMMARY:Aqua Fitness - Bath Pool
DESCRIPTION:Aqua FitnessDate:  Mondays & ThursdaysTime:  12:30PM – 1:30PMLocation:  Bath Pool:  128 School Street                   Cost:  $5 per class           \nFor more information contact Cisca Bakker at 506-273-0384
URL:https://carletonnorth.com/event/aqua-fitness-bath-pool-4/
LOCATION:128 School St\, Bath\, NB E7J 1C4\, Canada
CATEGORIES:Pool Schedule
END:VEVENT
BEGIN:VEVENT
DTSTART;TZID=America/Halifax:20250710T140000
DTEND;TZID=America/Halifax:20250710T160000
DTSTAMP:20260422T191154
CREATED:20250623T212250Z
LAST-MODIFIED:20250709T223732Z
UID:4902807-1752156000-1752163200@carletonnorth.com
SUMMARY:Free Swim: All Pools
DESCRIPTION:Florenceville-Bristol Pool: 40 McCain Street\nCentreville Pool: 751 Central Street\nBath Pool:128 School Street\nFree Swim Donated by Bath Lions Club
URL:https://carletonnorth.com/event/free-swim-all-pools-7/
CATEGORIES:Pool Schedule
END:VEVENT
BEGIN:VEVENT
DTSTART;TZID=America/Halifax:20250710T180000
DTEND;TZID=America/Halifax:20250710T190000
DTSTAMP:20260422T191154
CREATED:20250623T212251Z
LAST-MODIFIED:20250709T223732Z
UID:4902809-1752170400-1752174000@carletonnorth.com
SUMMARY:Adult Lap - All Pools
DESCRIPTION:Adult LapDate: Weekly on ThursdaysTime:  6:00PM – 7:00PMLocation:  All Pools                   Florenceville-Bristol Pool:  40 McCain Street                   Centreville Pool:  751 Central Street                   Bath Pool:  128 School StreetCost:  $2
URL:https://carletonnorth.com/event/adult-lap-all-pools-2/
CATEGORIES:Pool Schedule
END:VEVENT
BEGIN:VEVENT
DTSTART;TZID=America/Halifax:20250710T183000
DTEND;TZID=America/Halifax:20250710T200000
DTSTAMP:20260422T191154
CREATED:20250619T191630Z
LAST-MODIFIED:20250710T112344Z
UID:4841189-1752172200-1752177600@carletonnorth.com
SUMMARY:Brazilian Jiu Jitsu For beginners (Age 10+)
DESCRIPTION:Brazilian Jiu Jitsu For beginners (Age 10+)Date:  Weekly every Tuesday & Thursday in June\, July  & AugustTime:  6:30PM – 8:00PMLocation:  6 Welch Street\, Florenceville-Bristol – Pure Therapy \nCost:  $20 covers both Tuesday and Thursday classes for the weekOr $20 per drop-in class \nSign Up Online:  puretherapy.ca
URL:https://carletonnorth.com/event/brazilian-jiu-jitsu-for-beginners-age-10-8/
LOCATION:6 Welch St\, Florenceville-Bristol\, NB E7L 2E4\, Canada
CATEGORIES:Community Calendar
END:VEVENT
BEGIN:VEVENT
DTSTART;TZID=America/Halifax:20250710T190000
DTEND;TZID=America/Halifax:20250710T200000
DTSTAMP:20260422T191154
CREATED:20250623T212250Z
LAST-MODIFIED:20250710T223802Z
UID:4902808-1752174000-1752177600@carletonnorth.com
SUMMARY:Free Swim - All Pools
DESCRIPTION:Florenceville-Bristol Pool: 40 McCain Street\nCentreville Pool: 751 Central Street\nBath Pool:128 School Street\nFree Swim Donated by Bath Lions Club
URL:https://carletonnorth.com/event/free-swim-all-pools-8/
CATEGORIES:Pool Schedule
END:VEVENT
BEGIN:VEVENT
DTSTART;TZID=America/Halifax:20250711T090000
DTEND;TZID=America/Halifax:20250711T103000
DTSTAMP:20260422T191154
CREATED:20250619T191628Z
LAST-MODIFIED:20250711T113828Z
UID:4841182-1752224400-1752229800@carletonnorth.com
SUMMARY:Summer Art Camps (Ages 5/6)
DESCRIPTION:Ages 5/6 Summer Art Camps.Each day camp is $20 \nDates:July 11\, 9am-10:30am | Let’s get creativeJuly 11\, 1pm-2:30pm | Let’s get creativeJuly 19\, 9am-10:30am | Let’s get creative \nFor more information please visit: https://mccainartgallery.com/exhibitions/summer-art-camps-2025/To register\, please contact the gallery: 506-392-6769 | info@mccainartgallery.com \n\n\n\n\n\n\n\nCost\n\n\n$20 for one day 5/6 camp.
URL:https://carletonnorth.com/event/summer-art-camps-ages-5-6/
LOCATION:8746 Main St\, Florenceville-Bristol\, NB E7L 3G5\, Canada
CATEGORIES:Community Calendar
END:VEVENT
BEGIN:VEVENT
DTSTART;TZID=America/Halifax:20250711T123000
DTEND;TZID=America/Halifax:20250711T133000
DTSTAMP:20260422T191154
CREATED:20250623T212251Z
LAST-MODIFIED:20250710T223802Z
UID:4902810-1752237000-1752240600@carletonnorth.com
SUMMARY:Senior/Lap
DESCRIPTION:Senior/LapDate: Weekly Monday- FridayTime:  12:30PM – 1:30PMLocation:  All Pools                   Florenceville-Bristol Pool:  40 McCain Street                   Centreville Pool:  751 Central Street                   Bath Pool:  128 School StreetCost:  $2
URL:https://carletonnorth.com/event/senior-lap-5/
CATEGORIES:Pool Schedule
END:VEVENT
BEGIN:VEVENT
DTSTART;TZID=America/Halifax:20250711T130000
DTEND;TZID=America/Halifax:20250711T143000
DTSTAMP:20260422T191154
CREATED:20250619T191629Z
LAST-MODIFIED:20250711T113828Z
UID:4841183-1752238800-1752244200@carletonnorth.com
SUMMARY:Summer Art Camps (Ages 5/6)
DESCRIPTION:Ages 5/6 Summer Art Camps.Each day camp is $20 \nDates:July 11\, 9am-10:30am | Let’s get creativeJuly 11\, 1pm-2:30pm | Let’s get creativeJuly 19\, 9am-10:30am | Let’s get creative \nFor more information please visit: https://mccainartgallery.com/exhibitions/summer-art-camps-2025/To register\, please contact the gallery: 506-392-6769 | info@mccainartgallery.com \n\n\n\n\n\n\n\nCost\n\n\n$20 for one day 5/6 camp. 
URL:https://carletonnorth.com/event/summer-art-camps-ages-5-6-2/
LOCATION:8746 Main St\, Florenceville-Bristol\, NB E7L 3G5\, Canada
CATEGORIES:Community Calendar
END:VEVENT
BEGIN:VEVENT
DTSTART;TZID=America/Halifax:20250711T140000
DTEND;TZID=America/Halifax:20250711T160000
DTSTAMP:20260422T191154
CREATED:20250630T213815Z
LAST-MODIFIED:20250710T223803Z
UID:5006946-1752242400-1752249600@carletonnorth.com
SUMMARY:Public Swim
DESCRIPTION:Public Swim Tuesday\, Wednesday\, Friday\, Saturday and SundayTime:  2:00PM – 4:00PMLocation:  All Pools                   Florenceville-Bristol Pool:  40 McCain Street                   Centreville Pool:  751 Central Street                   Bath Pool:  128 School StreetCost:  $2
URL:https://carletonnorth.com/event/public-swim-6/
CATEGORIES:Pool Schedule
END:VEVENT
BEGIN:VEVENT
DTSTART;TZID=America/Halifax:20250711T180000
DTEND;TZID=America/Halifax:20250711T190000
DTSTAMP:20260422T191154
CREATED:20250623T212252Z
LAST-MODIFIED:20250710T223803Z
UID:4902812-1752256800-1752260400@carletonnorth.com
SUMMARY:Swim Team Lap - All Pools
DESCRIPTION:Swim TeamDate:  Weekly on Mon/Wed/FriTime:  6:00PM – 7:00PMLocation:  All Pools \nPool Locations:Florenceville-Bristol Pool:  40 McCain StreetCentreville Pool:  751 Central StreetBath Pool:  128 School Street
URL:https://carletonnorth.com/event/swim-team-lap-all-pools-2/
CATEGORIES:Pool Schedule
END:VEVENT
BEGIN:VEVENT
DTSTART;TZID=America/Halifax:20250711T180000
DTEND;TZID=America/Halifax:20250711T200000
DTSTAMP:20260422T191154
CREATED:20250628T085307Z
LAST-MODIFIED:20250711T113829Z
UID:4969733-1752256800-1752264000@carletonnorth.com
SUMMARY:National French Fry Day Friday Activities
DESCRIPTION:National French Fry Day – Friday Activities at Potato WorldTime: 6:00PM – 8:00PMFrench Fry BarLive Music – John & Jean Maunderhttps://www.facebook.com/exploredistrictofcarletonnorth506-392-6763 ext. 210 \nMark it down—French Fry Day is coming!🍟This year\, we’re serving up TWO full days of FREE community fun!🎉There’s no better place to celebrate than right here in the National French Fry Capital of the World!😎🍟 \nJoin the Tourism Department for crispy\, golden fries\, family-friendly activities\, and all the spud-loving fun you can handle—only in the place that does it best!
URL:https://carletonnorth.com/event/national-french-fry-day-friday-activities/
LOCATION:Potato World\, 385 Centreville Rd\, Florenceville-Bristol\, NB E7L 3K5\, Canada
CATEGORIES:Community Calendar
END:VEVENT
BEGIN:VEVENT
DTSTART;VALUE=DATE:20250712
DTEND;VALUE=DATE:20250810
DTSTAMP:20260422T191154
CREATED:20250712T113920Z
LAST-MODIFIED:20250809T150741Z
UID:5178002-1752278400-1754783999@carletonnorth.com
SUMMARY:Indigenous Blue: Brian Francis
DESCRIPTION:Art Exhibit: Indigenous Blue: Brian Francis From July 12 to August 9\, 2025More information on the Artist found here: https://mccainartgallery.com/exhibitions/indigenous-blue-by-brian-francis/ \nAndrew & Laura McCain Art Gallery8 McCain Street\, Florenceville-Bristol\, NB506-392-6769 \nGallery Hours: Tuesday: 10:30AM -5PMWednesday: 10:30AM -5PMThursday: 12PM – 8PMFriday: 10:30AM-5PMSaturday: 10:30AM-5PM
URL:https://carletonnorth.com/event/indigenous-blue-brian-francis-2/
LOCATION:The Andrew & Laura McCain Art Gallery\, 8 McCain St unit 1\, Florenceville-Bristol\, NB E7L 3H6\, Canada
CATEGORIES:Community Calendar
END:VEVENT
BEGIN:VEVENT
DTSTART;TZID=America/Halifax:20250712T080000
DTEND;TZID=America/Halifax:20250712T110000
DTSTAMP:20260422T191154
CREATED:20250619T191631Z
LAST-MODIFIED:20250712T113902Z
UID:4841192-1752307200-1752318000@carletonnorth.com
SUMMARY:Breakfast at Juniper Community Centre
DESCRIPTION:Breakfast at Juniper Community CentreDate: Weekly on SaturdayTime:  8:00AM – 11:00AMLocation:  Juniper Community Centre\, 267 Juniper Rd\, Juniper \nDon’t forget to join us for Breakfast  from 8am – 11am at the Juniper Community Centre.   Great company and a fantastic way to start your weekend. Everyone is welcome—bring your family\, friends\, and neighbors! 💛 \nBring someone who needs a delicious Saturday morning pick-me-up! 🍳🥓 \n#CommunityBreakfast #SaturdayVibes #GoodFoodGoodCompany \nhttps://www.facebook.com/JCC506
URL:https://carletonnorth.com/event/breakfast-at-juniper-community-centre-9/
LOCATION:Juniper Community Centre\, 267 Juniper Rd\, Juniper\, NB E7L 1H1\, Canada
CATEGORIES:Community Calendar
END:VEVENT
BEGIN:VEVENT
DTSTART;TZID=America/Halifax:20250712T110000
DTEND;TZID=America/Halifax:20250712T140000
DTSTAMP:20260422T191154
CREATED:20250628T085308Z
LAST-MODIFIED:20250712T113903Z
UID:4969734-1752318000-1752328800@carletonnorth.com
SUMMARY:National French Fry Day - Saturday Activities
DESCRIPTION:National French Fry Day – Saturday ActivitiesTime: 11:00AM – 2:00PMFamily Fun: Magic Show\, Face Painting\, InflatablesFree French Fries (McCains)Live Music – Ivan DaigleVendor Marketand more! https://www.facebook.com/exploredistrictofcarletonnorth506-392-6763 ext 210 \nMark it down—French Fry Day is coming!🍟This year\, we’re serving up TWO full days of FREE community fun!🎉There’s no better place to celebrate than right here in the National French Fry Capital of the World!😎🍟 \nJoin The Tourism Department for crispy\, golden fries\, family-friendly activities\, and all the spud-loving fun you can handle—only in the place that does it best!
URL:https://carletonnorth.com/event/national-french-fry-day-saturday-activities/
LOCATION:Potato World\, 385 Centreville Rd\, Florenceville-Bristol\, NB E7L 3K5\, Canada
CATEGORIES:Community Calendar
END:VEVENT
BEGIN:VEVENT
DTSTART;TZID=America/Halifax:20250712T120000
DTEND;TZID=America/Halifax:20250712T160000
DTSTAMP:20260422T191154
CREATED:20250712T113903Z
LAST-MODIFIED:20250712T113903Z
UID:5178001-1752321600-1752336000@carletonnorth.com
SUMMARY:Indigenous Blue: Brian Francis
DESCRIPTION:ndigenous Blue by Elsipogtog artist Brian FrancisExhibit Opening July 12 https://mccainartgallery.com/exhibitions/indigenous-blue-by-brian-francis/ \nArtist Talk July 12\, 2025 starting at 2:00pm\nBrain Francis will be giving an artist talk about his paintings and the relationship between them and the cultural objects included in the show. Brian’s talk will be at  the beginning of his Opening on July 12\, 2025\, from 2:00-2:30pm. Brian inspired many in the community  the last time his work was in the Gallery during the group exhibition Napoigagon in 2023. Everyone is welcome to drop in to hear Brian’s talk\, admission is always free and we look forward to seeing you. \nhttps://mccainartgallery.com/https://www.facebook.com/McCainArtGallery506-392-6769info@mccainartgallery.com
URL:https://carletonnorth.com/event/indigenous-blue-brian-francis/
LOCATION:The Andrew & Laura McCain Art Gallery\, 8 McCain St unit 1\, Florenceville-Bristol\, NB E7L 3H6\, Canada
CATEGORIES:Community Calendar
END:VEVENT
BEGIN:VEVENT
DTSTART;TZID=America/Halifax:20250712T140000
DTEND;TZID=America/Halifax:20250712T160000
DTSTAMP:20260422T191154
CREATED:20250630T213815Z
LAST-MODIFIED:20250711T225227Z
UID:5006947-1752328800-1752336000@carletonnorth.com
SUMMARY:Public Swim
DESCRIPTION:Public Swim Tuesday\, Wednesday\, Friday\, Saturday and SundayTime:  2:00PM – 4:00PMLocation:  All Pools                   Florenceville-Bristol Pool:  40 McCain Street                   Centreville Pool:  751 Central Street                   Bath Pool:  128 School StreetCost:  $2
URL:https://carletonnorth.com/event/public-swim-7/
CATEGORIES:Pool Schedule
END:VEVENT
BEGIN:VEVENT
DTSTART;TZID=America/Halifax:20250713T140000
DTEND;TZID=America/Halifax:20250713T150000
DTSTAMP:20260422T191154
CREATED:20250619T191633Z
LAST-MODIFIED:20250713T114055Z
UID:4841196-1752415200-1752418800@carletonnorth.com
SUMMARY:41st Memorial for Fielding Cemetery
DESCRIPTION:41st Memorial for Fielding CemeteryDate:  July 13\, 2025Time:   2:00PM – 3:00PMLocation:  Fielding Cemetery\, Fielding NB \nDetails:  41st annual Memorial service for the Fielding Cemetery. Organized by the Board of the Fielding Cemetery
URL:https://carletonnorth.com/event/41st-memorial-for-fielding-cemetery/
LOCATION:Fielding Church\, Fielding NB
CATEGORIES:Community Calendar
END:VEVENT
BEGIN:VEVENT
DTSTART;TZID=America/Halifax:20250713T190000
DTEND;TZID=America/Halifax:20250713T210000
DTSTAMP:20260422T191154
CREATED:20250705T103745Z
LAST-MODIFIED:20250713T114051Z
UID:5074083-1752433200-1752440400@carletonnorth.com
SUMMARY:Kin Club Bingo
DESCRIPTION:Kin Club BingoDate:  Weekly on SundayTime:  7:00PM – 9:00PMLocation:  Florenceville Kin Centre\, 381 Centreville Rd. Florenceville-Bristol \nThe Kin Club Weekly Bingo Takes Place every Sunday\, with door opening at 6pm and games starting at 7pm.Cost: $10 books\, $5 books\, $1 Specials and $25 package deals and more.
URL:https://carletonnorth.com/event/kin-club-bingo-185/
LOCATION:Florenceville Kin Center\, 381 Centreville Rd\, Florenceville-Bristol\, NB E7L 3K5\, Canada
CATEGORIES:Community Calendar
END:VEVENT
BEGIN:VEVENT
DTSTART;TZID=America/Halifax:20250714T073000
DTEND;TZID=America/Halifax:20250718T173000
DTSTAMP:20260422T191154
CREATED:20250619T191638Z
LAST-MODIFIED:20250718T122327Z
UID:4841209-1752478200-1752859800@carletonnorth.com
SUMMARY:DCN Summer Day Camp -  Week 3 - Time Travellers
DESCRIPTION:DCN Summer Day Camp \nWeek 3 – Time Travellers \nDate:  July 14th – July 18thTime:  7:30AM – 5:30PMLocation:  R.G. ‘Bun’ Veysey Active Living Centre\, 40 McCain St. Florenceville-Bristol \nJuly 14th – Pre-HistoryJuly 15th – Ancient CivilizationsJuly 16th – Middle AgesJuly 17th – 19th CenturyJuly 18th – 20th Century \nCamp Information:Summer Camp 2025 is a 9 week program running from July 2nd to August 29th for children ages 6-12. \nThe camp has been designed to offer different activities throughout each day such as rock climbing\, swimming\, crafts\, and sports – ex. badminton\, basketball\, soccer etc. \nThe camp operates as a drop off/pick up program with doors opening at 7:30am and closing at 5:30pm \nPrice Information: \n1 Child | 1 Day – $35 \n1 Child | 2 Days – $70 \n1 Child | 3 Days – $105 \n1 Child | 4-5 Days – $125 (Full Time) \n \n2 Children | 1 Day – $70 \n2 Children | 2 Days – $140 \n2 Children | 3 Days – $210 \n2 Children | 4- 5 Days – $200 (Full Time) \n \n3 Children | 1 Day – $105 \n3 Children | 2 Days – $ 210 \n3 Children | 3 Days – $315 \n3 Children | 4-5 Days – $250 (Full Time) \n \n*+ $35 per child for part time (1-3 days) \, +$50 per child for full time (ex 4-5) days at 3 or more children \nPayment for camp must be made in person PRIOR to the first day of attendance for each week. \nFor any questions\, please contact: 📧recreation@carletonnorth.com or 📞 (506) 392-6763 ext. 220
URL:https://carletonnorth.com/event/dcn-summer-day-camp-week-3-time-travellers/
LOCATION:R. G. “Bun” Veysey Active Living Centre\, 40 McCain St\, Florenceville-Bristol\, NB E7L 3J4\, Canada
CATEGORIES:Community Calendar
END:VEVENT
END:VCALENDAR