BEGIN:VCALENDAR
VERSION:2.0
PRODID:-//District of Carleton North - ECPv6.15.20//NONSGML v1.0//EN
CALSCALE:GREGORIAN
METHOD:PUBLISH
X-WR-CALNAME:District of Carleton North
X-ORIGINAL-URL:https://carletonnorth.com
X-WR-CALDESC:Events for District of Carleton North
REFRESH-INTERVAL;VALUE=DURATION:PT1H
X-Robots-Tag:noindex
X-PUBLISHED-TTL:PT1H
BEGIN:VTIMEZONE
TZID:America/Halifax
BEGIN:DAYLIGHT
TZOFFSETFROM:-0400
TZOFFSETTO:-0300
TZNAME:ADT
DTSTART:20240310T060000
END:DAYLIGHT
BEGIN:STANDARD
TZOFFSETFROM:-0300
TZOFFSETTO:-0400
TZNAME:AST
DTSTART:20241103T050000
END:STANDARD
BEGIN:DAYLIGHT
TZOFFSETFROM:-0400
TZOFFSETTO:-0300
TZNAME:ADT
DTSTART:20250309T060000
END:DAYLIGHT
BEGIN:STANDARD
TZOFFSETFROM:-0300
TZOFFSETTO:-0400
TZNAME:AST
DTSTART:20251102T050000
END:STANDARD
BEGIN:DAYLIGHT
TZOFFSETFROM:-0400
TZOFFSETTO:-0300
TZNAME:ADT
DTSTART:20260308T060000
END:DAYLIGHT
BEGIN:STANDARD
TZOFFSETFROM:-0300
TZOFFSETTO:-0400
TZNAME:AST
DTSTART:20261101T050000
END:STANDARD
END:VTIMEZONE
BEGIN:VEVENT
DTSTART;TZID=America/Halifax:20250715T100000
DTEND;TZID=America/Halifax:20250715T180000
DTSTAMP:20260422T190957
CREATED:20250619T191634Z
LAST-MODIFIED:20250715T120812Z
UID:4841200-1752573600-1752602400@carletonnorth.com
SUMMARY:Legal Clinic for Tenants (Woodstock)
DESCRIPTION:Legal Clinic for Tenants (Woodstock) https://legalinfonb.ca/our-work/legalclinics/July 14\,  2025 10AM – 6PM \nThese clinics are a joint initiative of the University of New Brunswick’s Legal Clinic and Public Legal Education and Information Service of New Brunswick (PLEIS NB).These walk-in clinics provide tenants with up to 30 minutes of free legal advice from a law student supervised by an experienced clinic lawyer. Common issues tenants can receive help with include: \n\nRent increases\nEvictions\nRepairs and maintenance\nSecurity deposits\nComplaints to the Tenant and Landlord Relations Office\n\nNo appointment is necessary – clinics operate on a first-come\, first-served basis. Tenants are encouraged to arrive early and bring: \n\nAny paperwork from their landlord or related documents\nA piece of government-issued ID (e.g.\, driver’s licence)\n\nTenants can also get legal information anytime by calling PLEIS NB’s Legal Info Line at (506) 453-5369.www.legalinfonb.ca or call 1-888-236-2444
URL:https://carletonnorth.com/event/legal-clinic-for-tenants-woodstock/
LOCATION:Royal Canadian Legion Branch 11\, 109 Carleton St\, Woodstock\, NB E7M 1E3\, Canada
CATEGORIES:Community Calendar
END:VEVENT
BEGIN:VEVENT
DTSTART;TZID=America/Halifax:20250715T123000
DTEND;TZID=America/Halifax:20250715T133000
DTSTAMP:20260422T190957
CREATED:20250713T230931Z
LAST-MODIFIED:20250714T230838Z
UID:5198948-1752582600-1752586200@carletonnorth.com
SUMMARY:Senior/Lap
DESCRIPTION:Senior/LapDate: Weekly Monday- FridayTime:  12:30PM – 1:30PMLocation:  All Pools                   Florenceville-Bristol Pool:  40 McCain Street                   Centreville Pool:  751 Central Street                   Bath Pool:  128 School StreetCost:  $2
URL:https://carletonnorth.com/event/senior-lap-6/
CATEGORIES:Pool Schedule
END:VEVENT
BEGIN:VEVENT
DTSTART;TZID=America/Halifax:20250715T130000
DTEND;TZID=America/Halifax:20250717T160000
DTSTAMP:20260422T190957
CREATED:20250619T191636Z
LAST-MODIFIED:20250717T121006Z
UID:4841204-1752584400-1752768000@carletonnorth.com
SUMMARY:Summer Art Camps (ages 10-14)
DESCRIPTION:Ages 10-14 Summer Art Camps. \nDates:July 2-4 | Hands OnJuly 8-10 | Let’s Make a BookJuly 15-17 | Photography without CamerasJuly 29-31 | Drawing from lifeAugust 19-21 | Creating with Nature \nFor more information please visit: https://mccainartgallery.com/exhibitions/summer-art-camps-2025/ \nTo register\, please contact the gallery: 506-392-6769 | info@mccainartgallery.com \n\n\n\n\n\n\n\nCost\n\n\n$60 per 3 day camp
URL:https://carletonnorth.com/event/summer-art-camps-ages-10-14-3/
LOCATION:8746 Main St\, Florenceville-Bristol\, NB E7L 3G5\, Canada
CATEGORIES:Community Calendar
END:VEVENT
BEGIN:VEVENT
DTSTART;TZID=America/Halifax:20250715T140000
DTEND;TZID=America/Halifax:20250715T160000
DTSTAMP:20260422T190957
CREATED:20250713T230938Z
LAST-MODIFIED:20250714T230838Z
UID:5198949-1752588000-1752595200@carletonnorth.com
SUMMARY:Public Swim
DESCRIPTION:Public Swim Tuesday\, Wednesday\, Friday\, Saturday and SundayTime:  2:00PM – 4:00PMLocation:  All Pools                   Florenceville-Bristol Pool:  40 McCain Street                   Centreville Pool:  751 Central Street                   Bath Pool:  128 School StreetCost:  $2
URL:https://carletonnorth.com/event/public-swim-8/
CATEGORIES:Pool Schedule
END:VEVENT
BEGIN:VEVENT
DTSTART;TZID=America/Halifax:20250715T173000
DTEND;TZID=America/Halifax:20250715T184500
DTSTAMP:20260422T190957
CREATED:20250713T230946Z
LAST-MODIFIED:20250714T230839Z
UID:5198950-1752600600-1752605100@carletonnorth.com
SUMMARY:Night Swimming Lessons - All Pools
DESCRIPTION:Night Swimming LessonsSession:  July 8 – August 26Time:  5:30PM – 6:45PM Location:  All Pools                   Florenceville-Bristol Pool:  40 McCain Street                   Centreville Pool:  751 Central Street                   Bath Pool:  128 School Street \n                   
URL:https://carletonnorth.com/event/night-swimming-lessons-all-pools-3/
CATEGORIES:Pool Schedule
END:VEVENT
BEGIN:VEVENT
DTSTART;TZID=America/Halifax:20250715T180000
DTEND;TZID=America/Halifax:20250715T190000
DTSTAMP:20260422T190957
CREATED:20250713T230959Z
LAST-MODIFIED:20250714T230839Z
UID:5198952-1752602400-1752606000@carletonnorth.com
SUMMARY:Night Swimming Lessons - All Pools
DESCRIPTION:Night Swimming LessonsSession:  July 8 – August 26Time:  6:00PM – 7:00PM Location:  All Pools                   Florenceville-Bristol Pool:  40 McCain Street                   Centreville Pool:  751 Central Street                   Bath Pool:  128 School Street \n                   
URL:https://carletonnorth.com/event/night-swimming-lessons-all-pools-4/
CATEGORIES:Pool Schedule
END:VEVENT
BEGIN:VEVENT
DTSTART;TZID=America/Halifax:20250715T183000
DTEND;TZID=America/Halifax:20250715T200000
DTSTAMP:20260422T190957
CREATED:20250619T191635Z
LAST-MODIFIED:20250715T120813Z
UID:4841202-1752604200-1752609600@carletonnorth.com
SUMMARY:Brazilian Jiu Jitsu For beginners (Age 10+)
DESCRIPTION:Brazilian Jiu Jitsu For beginners (Age 10+)Date:  Weekly every Tuesday & Thursday in June\, July  & AugustTime:  6:30PM – 8:00PMLocation:  6 Welch Street\, Florenceville-Bristol – Pure Therapy \nCost:  $20 covers both Tuesday and Thursday classes for the weekOr $20 per drop-in class \nSign Up Online:  puretherapy.ca
URL:https://carletonnorth.com/event/brazilian-jiu-jitsu-for-beginners-age-10-9/
LOCATION:6 Welch St\, Florenceville-Bristol\, NB E7L 2E4\, Canada
CATEGORIES:Community Calendar
END:VEVENT
BEGIN:VEVENT
DTSTART;TZID=America/Halifax:20250715T183000
DTEND;TZID=America/Halifax:20250715T203000
DTSTAMP:20260422T190957
CREATED:20250704T102307Z
LAST-MODIFIED:20250715T120815Z
UID:5058453-1752604200-1752611400@carletonnorth.com
SUMMARY:Tunesday at Riverside Park
DESCRIPTION:Tunesday – Music at the GazeboNEW TIME: 6:30PM to  8:30PMRiverside Park\, Florenceville-Bristol \nJoin in the fun every Tuesday in July and August. Bring a Chair and enjoy the show.For updates follow the Tourism Facebook page:https://www.facebook.com/exploredistrictofcarletonnorthRain location: Second Wind Music Centre)
URL:https://carletonnorth.com/event/tunesday-at-riverside-park-2/
LOCATION:Riverside Park\, 9173 Main St\, Florenceville-Bristol\, NB E7L 2Y3\, Canada
CATEGORIES:Community Calendar
END:VEVENT
BEGIN:VEVENT
DTSTART;TZID=America/Halifax:20250715T190000
DTEND;TZID=America/Halifax:20250715T200000
DTSTAMP:20260422T190957
CREATED:20250713T230952Z
LAST-MODIFIED:20250714T230839Z
UID:5198951-1752606000-1752609600@carletonnorth.com
SUMMARY:Public Swim: All Pools
DESCRIPTION:Public SwimDate:  Weekly on TuesdaysLocation:  All Pools                   Florenceville-Bristol Pool: 40 McCain Street                   Centreville Pool: 751 Central Street                   Bath Pool:128 School Street \nCost:  $2
URL:https://carletonnorth.com/event/public-swim-all-pools-3/
CATEGORIES:Pool Schedule
END:VEVENT
BEGIN:VEVENT
DTSTART;TZID=America/Halifax:20250716T090000
DTEND;TZID=America/Halifax:20250716T120000
DTSTAMP:20260422T190957
CREATED:20250713T231001Z
LAST-MODIFIED:20250715T230831Z
UID:5198953-1752656400-1752667200@carletonnorth.com
SUMMARY:Morning Swimming Lessons - All Pools
DESCRIPTION:Swimming Lesson SessionsMorning Lessons:  Monday – ThursdayJune 30 – July 17July 21 – August 7August 11 – August 28 \nPool LocationsFlorenceville-Bristol Pool:  40 McCain StreetCentreville Pool:  751 Central StreetBath Pool:  128 School Street
URL:https://carletonnorth.com/event/morning-swimming-lessons-all-pools-8/
CATEGORIES:Pool Schedule
END:VEVENT
BEGIN:VEVENT
DTSTART;TZID=America/Halifax:20250716T100000
DTEND;TZID=America/Halifax:20250716T110000
DTSTAMP:20260422T190957
CREATED:20250703T100744Z
LAST-MODIFIED:20250716T120803Z
UID:5042938-1752660000-1752663600@carletonnorth.com
SUMMARY:Senior Stretching
DESCRIPTION:Date:  Weekly Every Wednesday in JulyTime:  10:00AM – 11:00AMLocation:  Shiktehawk Place \nEvent Details: \nNursing Home Without Walls is offering Senior Stretching at Shiktehawk Place at 10:00am.  This is a great opportunity to get moving and to socialize.  Includes some light seated exercise. \nFor more information or to join contact NHWW (506)278-3197
URL:https://carletonnorth.com/event/senior-stretching-71/
LOCATION:Shiktehawk Place
CATEGORIES:Community Calendar
END:VEVENT
BEGIN:VEVENT
DTSTART;TZID=America/Halifax:20250716T123000
DTEND;TZID=America/Halifax:20250716T133000
DTSTAMP:20260422T190957
CREATED:20250713T231001Z
LAST-MODIFIED:20250715T230831Z
UID:5198954-1752669000-1752672600@carletonnorth.com
SUMMARY:Senior/Lap
DESCRIPTION:Senior/LapDate: Weekly Monday- FridayTime:  12:30PM – 1:30PMLocation:  All Pools                   Florenceville-Bristol Pool:  40 McCain Street                   Centreville Pool:  751 Central Street                   Bath Pool:  128 School StreetCost:  $2
URL:https://carletonnorth.com/event/senior-lap-7/
CATEGORIES:Pool Schedule
END:VEVENT
BEGIN:VEVENT
DTSTART;TZID=America/Halifax:20250716T130000
DTEND;TZID=America/Halifax:20250716T160000
DTSTAMP:20260422T190957
CREATED:20250619T191636Z
LAST-MODIFIED:20250716T120802Z
UID:4841203-1752670800-1752681600@carletonnorth.com
SUMMARY:Senior Puzzles\, Social & Cards
DESCRIPTION:Senior Puzzles\, Social & CardsDate:  Weekly on WednesdaysTime:  1:00PM – 4:00PMLocation:  R.G. ‘Bun’ Veysey Active Living Centre\,  40 McCain St. Florenceville-Bristol \nEnjoy an afternoon of card games\, snacks\, tea and fun!  Play a variation of puzzles. Feel free to bring puzzles to trade! \nCost:   $3 for entry (55+)
URL:https://carletonnorth.com/event/senior-puzzles-social-cards-56/
LOCATION:40 McCain St\, Florenceville-Bristol\, NB E7L 3J4\, Canada
CATEGORIES:Community Calendar
END:VEVENT
BEGIN:VEVENT
DTSTART;TZID=America/Halifax:20250716T140000
DTEND;TZID=America/Halifax:20250716T160000
DTSTAMP:20260422T190957
CREATED:20250713T231001Z
LAST-MODIFIED:20250715T230831Z
UID:5198955-1752674400-1752681600@carletonnorth.com
SUMMARY:Public Swim
DESCRIPTION:Public Swim Tuesday\, Wednesday\, Friday\, Saturday and SundayTime:  2:00PM – 4:00PMLocation:  All Pools                   Florenceville-Bristol Pool:  40 McCain Street                   Centreville Pool:  751 Central Street                   Bath Pool:  128 School StreetCost:  $2
URL:https://carletonnorth.com/event/public-swim-9/
CATEGORIES:Pool Schedule
END:VEVENT
BEGIN:VEVENT
DTSTART;TZID=America/Halifax:20250716T180000
DTEND;TZID=America/Halifax:20250716T190000
DTSTAMP:20260422T190957
CREATED:20250713T231002Z
LAST-MODIFIED:20250715T230831Z
UID:5198956-1752688800-1752692400@carletonnorth.com
SUMMARY:Swim Team
DESCRIPTION:Swim TeamDate:  Weekly on Mon/Wed/FriTime:  6:00PM – 7:00PMLocation:  All Pools \nPool Locations:Florenceville-Bristol Pool:  40 McCain StreetCentreville Pool:  751 Central StreetBath Pool:  128 School Street
URL:https://carletonnorth.com/event/swim-team-7/
CATEGORIES:Pool Schedule
END:VEVENT
BEGIN:VEVENT
DTSTART;TZID=America/Halifax:20250716T183000
DTEND;TZID=America/Halifax:20250716T193000
DTSTAMP:20260422T190957
CREATED:20250704T102309Z
LAST-MODIFIED:20250716T120803Z
UID:5058455-1752690600-1752694200@carletonnorth.com
SUMMARY:Wednesday Music at the Gazebo
DESCRIPTION:Wednesday at the GazeboTIME: 6:30PM TO 8:30PMEvery Wednesday in July and AugustSchedule to be posted on www.carletonnorth.com \nFor updates: https://www.facebook.com/exploredistrictofcarletonnorth
URL:https://carletonnorth.com/event/wednesday-music-at-the-gazebo-2/
LOCATION:Centreville Gazebo\, 751 Central Street\, Centreville\, NB
CATEGORIES:Community Calendar
END:VEVENT
BEGIN:VEVENT
DTSTART;TZID=America/Halifax:20250717T090000
DTEND;TZID=America/Halifax:20250717T120000
DTSTAMP:20260422T190957
CREATED:20250713T231002Z
LAST-MODIFIED:20250716T230913Z
UID:5198957-1752742800-1752753600@carletonnorth.com
SUMMARY:Morning Swimming Lessons - All Pools
DESCRIPTION:Swimming Lesson SessionsMorning Lessons:  Monday – ThursdayJune 30 – July 17July 21 – August 7August 11 – August 28 \nPool Locations \nFlorenceville-Bristol Pool:  40 McCain StreetCentreville Pool:  751 Central StreetBath Pool:  128 School Street
URL:https://carletonnorth.com/event/morning-swimming-lessons-all-pools-9/
CATEGORIES:Pool Schedule
END:VEVENT
BEGIN:VEVENT
DTSTART;TZID=America/Halifax:20250717T123000
DTEND;TZID=America/Halifax:20250717T133000
DTSTAMP:20260422T190957
CREATED:20250713T231002Z
LAST-MODIFIED:20250716T230913Z
UID:5198958-1752755400-1752759000@carletonnorth.com
SUMMARY:Senior/Lap - Centreville & Florenceville-Bristol
DESCRIPTION:Senior/LapDate:  Weekly Monday- FridayTime:  12:30PM – 1:30PMLocation:  Florenceville-Bristol Pool:  40 McCain Street                   Centreville Pool:  751 Central Street                   Cost:  $2
URL:https://carletonnorth.com/event/senior-lap-centreville-florenceville-bristol-4/
CATEGORIES:Pool Schedule
END:VEVENT
BEGIN:VEVENT
DTSTART;TZID=America/Halifax:20250717T123000
DTEND;TZID=America/Halifax:20250717T133000
DTSTAMP:20260422T190957
CREATED:20250713T231003Z
LAST-MODIFIED:20250716T230913Z
UID:5198959-1752755400-1752759000@carletonnorth.com
SUMMARY:Aqua Fitness - Bath Pool
DESCRIPTION:Aqua FitnessDate:  Mondays & ThursdaysTime:  12:30PM – 1:30PMLocation:  Bath Pool:  128 School Street                   Cost:  $5 per class           \nFor more information contact Cisca Bakker at 506-273-0384
URL:https://carletonnorth.com/event/aqua-fitness-bath-pool-6/
LOCATION:128 School St\, Bath\, NB E7J 1C4\, Canada
CATEGORIES:Pool Schedule
END:VEVENT
BEGIN:VEVENT
DTSTART;TZID=America/Halifax:20250717T140000
DTEND;TZID=America/Halifax:20250717T160000
DTSTAMP:20260422T190957
CREATED:20250713T231003Z
LAST-MODIFIED:20250716T230914Z
UID:5198960-1752760800-1752768000@carletonnorth.com
SUMMARY:Free Swim: All Pools
DESCRIPTION:Florenceville-Bristol Pool: 40 McCain Street\nCentreville Pool: 751 Central Street\nBath Pool:128 School Street\nFree Swim Donated by Bath Lions Club
URL:https://carletonnorth.com/event/free-swim-all-pools-11/
CATEGORIES:Pool Schedule
END:VEVENT
BEGIN:VEVENT
DTSTART;TZID=America/Halifax:20250717T180000
DTEND;TZID=America/Halifax:20250717T190000
DTSTAMP:20260422T190957
CREATED:20250713T231003Z
LAST-MODIFIED:20250716T230914Z
UID:5198962-1752775200-1752778800@carletonnorth.com
SUMMARY:Adult Lap - All Pools
DESCRIPTION:Adult LapDate: Weekly on ThursdaysTime:  6:00PM – 7:00PMLocation:  All Pools                   Florenceville-Bristol Pool:  40 McCain Street                   Centreville Pool:  751 Central Street                   Bath Pool:  128 School StreetCost:  $2
URL:https://carletonnorth.com/event/adult-lap-all-pools-3/
CATEGORIES:Pool Schedule
END:VEVENT
BEGIN:VEVENT
DTSTART;TZID=America/Halifax:20250717T183000
DTEND;TZID=America/Halifax:20250717T200000
DTSTAMP:20260422T190957
CREATED:20250619T191638Z
LAST-MODIFIED:20250717T121007Z
UID:4841208-1752777000-1752782400@carletonnorth.com
SUMMARY:Brazilian Jiu Jitsu For beginners (Age 10+)
DESCRIPTION:Brazilian Jiu Jitsu For beginners (Age 10+)Date:  Weekly every Tuesday & Thursday in June\, July  & AugustTime:  6:30PM – 8:00PMLocation:  6 Welch Street\, Florenceville-Bristol – Pure Therapy \nCost:  $20 covers both Tuesday and Thursday classes for the weekOr $20 per drop-in class \nSign Up Online:  puretherapy.ca
URL:https://carletonnorth.com/event/brazilian-jiu-jitsu-for-beginners-age-10-10/
LOCATION:6 Welch St\, Florenceville-Bristol\, NB E7L 2E4\, Canada
CATEGORIES:Community Calendar
END:VEVENT
BEGIN:VEVENT
DTSTART;TZID=America/Halifax:20250717T190000
DTEND;TZID=America/Halifax:20250717T200000
DTSTAMP:20260422T190957
CREATED:20250713T231003Z
LAST-MODIFIED:20250716T230914Z
UID:5198961-1752778800-1752782400@carletonnorth.com
SUMMARY:Free Swim - All Pools
DESCRIPTION:Florenceville-Bristol Pool: 40 McCain Street\nCentreville Pool: 751 Central Street\nBath Pool:128 School Street\nFree Swim Donated by Bath Lions Club
URL:https://carletonnorth.com/event/free-swim-all-pools-12/
CATEGORIES:Pool Schedule
END:VEVENT
BEGIN:VEVENT
DTSTART;TZID=America/Halifax:20250718T123000
DTEND;TZID=America/Halifax:20250718T133000
DTSTAMP:20260422T190957
CREATED:20250713T231004Z
LAST-MODIFIED:20250717T230907Z
UID:5198963-1752841800-1752845400@carletonnorth.com
SUMMARY:Senior/Lap
DESCRIPTION:Senior/LapDate: Weekly Monday- FridayTime:  12:30PM – 1:30PMLocation:  All Pools                   Florenceville-Bristol Pool:  40 McCain Street                   Centreville Pool:  751 Central Street                   Bath Pool:  128 School StreetCost:  $2
URL:https://carletonnorth.com/event/senior-lap-8/
CATEGORIES:Pool Schedule
END:VEVENT
BEGIN:VEVENT
DTSTART;TZID=America/Halifax:20250718T140000
DTEND;TZID=America/Halifax:20250718T160000
DTSTAMP:20260422T190957
CREATED:20250713T231004Z
LAST-MODIFIED:20250717T230907Z
UID:5198964-1752847200-1752854400@carletonnorth.com
SUMMARY:Public Swim
DESCRIPTION:Public Swim Tuesday\, Wednesday\, Friday\, Saturday and SundayTime:  2:00PM – 4:00PMLocation:  All Pools                   Florenceville-Bristol Pool:  40 McCain Street                   Centreville Pool:  751 Central Street                   Bath Pool:  128 School StreetCost:  $2
URL:https://carletonnorth.com/event/public-swim-10/
CATEGORIES:Pool Schedule
END:VEVENT
BEGIN:VEVENT
DTSTART;TZID=America/Halifax:20250718T180000
DTEND;TZID=America/Halifax:20250718T190000
DTSTAMP:20260422T190957
CREATED:20250713T231004Z
LAST-MODIFIED:20250717T230908Z
UID:5198965-1752861600-1752865200@carletonnorth.com
SUMMARY:Swim Team Lap - All Pools
DESCRIPTION:Swim TeamDate:  Weekly on Mon/Wed/FriTime:  6:00PM – 7:00PMLocation:  All Pools \nPool Locations:Florenceville-Bristol Pool:  40 McCain StreetCentreville Pool:  751 Central StreetBath Pool:  128 School Street
URL:https://carletonnorth.com/event/swim-team-lap-all-pools-3/
CATEGORIES:Pool Schedule
END:VEVENT
BEGIN:VEVENT
DTSTART;TZID=America/Halifax:20250719T080000
DTEND;TZID=America/Halifax:20250719T110000
DTSTAMP:20260422T190957
CREATED:20250619T191640Z
LAST-MODIFIED:20250719T123801Z
UID:4841214-1752912000-1752922800@carletonnorth.com
SUMMARY:Breakfast at Juniper Community Centre
DESCRIPTION:Breakfast at Juniper Community CentreDate: Weekly on SaturdayTime:  8:00AM – 11:00AMLocation:  Juniper Community Centre\, 267 Juniper Rd\, Juniper \nDon’t forget to join us for Breakfast  from 8am – 11am at the Juniper Community Centre.   Great company and a fantastic way to start your weekend. Everyone is welcome—bring your family\, friends\, and neighbors! 💛 \nBring someone who needs a delicious Saturday morning pick-me-up! 🍳🥓 \n#CommunityBreakfast #SaturdayVibes #GoodFoodGoodCompany \nhttps://www.facebook.com/JCC506
URL:https://carletonnorth.com/event/breakfast-at-juniper-community-centre-10/
LOCATION:Juniper Community Centre\, 267 Juniper Rd\, Juniper\, NB E7L 1H1\, Canada
CATEGORIES:Community Calendar
END:VEVENT
BEGIN:VEVENT
DTSTART;TZID=America/Halifax:20250719T090000
DTEND;TZID=America/Halifax:20250719T103000
DTSTAMP:20260422T190957
CREATED:20250619T191640Z
LAST-MODIFIED:20250719T123801Z
UID:4841215-1752915600-1752921000@carletonnorth.com
SUMMARY:Summer Art Camps (Ages 5/6)
DESCRIPTION:Ages 5/6 Summer Art Camps.Each day camp is $20 \nDates:July 11\, 9am-10:30am | Let’s get creativeJuly 11\, 1pm-2:30pm | Let’s get creativeJuly 19\, 9am-10:30am | Let’s get creative \nFor more information please visit: https://mccainartgallery.com/exhibitions/summer-art-camps-2025/To register\, please contact the gallery: 506-392-6769 | info@mccainartgallery.com \n\n\n\n\n\n\n\nCost\n\n\n$20 for one day 5/6 camp. 
URL:https://carletonnorth.com/event/summer-art-camps-ages-5-6-3/
LOCATION:8746 Main St\, Florenceville-Bristol\, NB E7L 3G5\, Canada
CATEGORIES:Community Calendar
END:VEVENT
BEGIN:VEVENT
DTSTART;TZID=America/Halifax:20250719T100000
DTEND;TZID=America/Halifax:20250719T160000
DTSTAMP:20260422T190957
CREATED:20250626T082341Z
LAST-MODIFIED:20250719T123801Z
UID:4939576-1752919200-1752940800@carletonnorth.com
SUMMARY:Open Farm Day
DESCRIPTION:Open Farm DayDate:  July 19\, 2025Time:  10:00AM – 4:00PMLocation:  3510 Route 550 Long Settlement\, New Brunswick \nCost:  FREE \nJoin us for Ferron Family Farms’ annual Open Farm Day\, a vibrant celebration of health\, well-being\, and food sovereignty — in honour of Natasha Brown\, a cherished mother\, daughter and devoted nurse for community wellness. \nThis special day brings the Carleton County community together to experience life on the farm\, support local businesses\, and enjoy a fun\, educational\, and culturally rich event. Activities include goat yoga\, a petting zoo\, science demonstrations\, live music\, cultural food tastings\, and a marketplace featuring local vendors and artisans. \nThere will also be prize draws and giveaways generously supported by local businesses. This is more than an event—it’s a celebration of connection\, culture\, and the power of local food. \nBring the whole family and be part of this meaningful day on the land!Follow us @FerronFamilyFarms.NB for updates.
URL:https://carletonnorth.com/event/open-farm-day-2/
LOCATION:3510 NB-550\, Long Settlement\, NB E7K 1R9\, Canada
CATEGORIES:Community Calendar
END:VEVENT
BEGIN:VEVENT
DTSTART;TZID=America/Halifax:20250719T140000
DTEND;TZID=America/Halifax:20250719T160000
DTSTAMP:20260422T190957
CREATED:20250713T231005Z
LAST-MODIFIED:20250718T232255Z
UID:5198966-1752933600-1752940800@carletonnorth.com
SUMMARY:Public Swim
DESCRIPTION:Public Swim Tuesday\, Wednesday\, Friday\, Saturday and SundayTime:  2:00PM – 4:00PMLocation:  All Pools                   Florenceville-Bristol Pool:  40 McCain Street                   Centreville Pool:  751 Central Street                   Bath Pool:  128 School StreetCost:  $2
URL:https://carletonnorth.com/event/public-swim-11/
CATEGORIES:Pool Schedule
END:VEVENT
END:VCALENDAR