BEGIN:VCALENDAR
VERSION:2.0
PRODID:-//District of Carleton North - ECPv6.15.20//NONSGML v1.0//EN
CALSCALE:GREGORIAN
METHOD:PUBLISH
X-ORIGINAL-URL:https://carletonnorth.com
X-WR-CALDESC:Events for District of Carleton North
REFRESH-INTERVAL;VALUE=DURATION:PT1H
X-Robots-Tag:noindex
X-PUBLISHED-TTL:PT1H
BEGIN:VTIMEZONE
TZID:America/Halifax
BEGIN:DAYLIGHT
TZOFFSETFROM:-0400
TZOFFSETTO:-0300
TZNAME:ADT
DTSTART:20240310T060000
END:DAYLIGHT
BEGIN:STANDARD
TZOFFSETFROM:-0300
TZOFFSETTO:-0400
TZNAME:AST
DTSTART:20241103T050000
END:STANDARD
BEGIN:DAYLIGHT
TZOFFSETFROM:-0400
TZOFFSETTO:-0300
TZNAME:ADT
DTSTART:20250309T060000
END:DAYLIGHT
BEGIN:STANDARD
TZOFFSETFROM:-0300
TZOFFSETTO:-0400
TZNAME:AST
DTSTART:20251102T050000
END:STANDARD
BEGIN:DAYLIGHT
TZOFFSETFROM:-0400
TZOFFSETTO:-0300
TZNAME:ADT
DTSTART:20260308T060000
END:DAYLIGHT
BEGIN:STANDARD
TZOFFSETFROM:-0300
TZOFFSETTO:-0400
TZNAME:AST
DTSTART:20261101T050000
END:STANDARD
END:VTIMEZONE
BEGIN:VEVENT
DTSTART;TZID=America/Halifax:20250702T180000
DTEND;TZID=America/Halifax:20250702T200000
DTSTAMP:20260422T184716
CREATED:20250624T235327Z
LAST-MODIFIED:20250702T095234Z
UID:4919249-1751479200-1751486400@carletonnorth.com
SUMMARY:MLA Margaret Johnson's Strawberry Shortcake Social
DESCRIPTION:Strawberry Shortcake SocialDate:  July 2\, 2025Time:  6:00PM – 8:00PMLocation:  Centreville Gazebo \n🍓 You’re Invited!  🍓 \nJoin MLA Margaret Johnson for her Annual Strawberry Shortcake Social at the Centreville Gazebo.  Enjoy live musical entertainment and great company in a beautiful outdoor setting.  This is A FREE event.   \nBring a friend and come celebrate summer with us! 
URL:https://carletonnorth.com/event/mla-margaret-johnsons-strawberry-social/
LOCATION:Centreville Gazebo
CATEGORIES:Community Calendar
END:VEVENT
BEGIN:VEVENT
DTSTART;TZID=America/Halifax:20250703T090000
DTEND;TZID=America/Halifax:20250703T120000
DTSTAMP:20260422T184716
CREATED:20250623T212241Z
LAST-MODIFIED:20250702T215405Z
UID:4902783-1751533200-1751544000@carletonnorth.com
SUMMARY:Morning Swimming Lessons - All Pools
DESCRIPTION:Swimming Lesson SessionsMorning Lessons:  Monday – ThursdayJune 30 – July 17July 21 – August 7August 11 – August 28 \nPool Locations \nFlorenceville-Bristol Pool:  40 McCain StreetCentreville Pool:  751 Central StreetBath Pool:  128 School Street
URL:https://carletonnorth.com/event/morning-swimming-lessons-all-pools-3/
CATEGORIES:Pool Schedule
END:VEVENT
BEGIN:VEVENT
DTSTART;TZID=America/Halifax:20250703T123000
DTEND;TZID=America/Halifax:20250703T133000
DTSTAMP:20260422T184716
CREATED:20250625T212237Z
LAST-MODIFIED:20250702T215406Z
UID:4932921-1751545800-1751549400@carletonnorth.com
SUMMARY:Senior/Lap - Centreville & Florenceville-Bristol
DESCRIPTION:Senior/LapDate:  Weekly Monday- FridayTime:  12:30PM – 1:30PMLocation:  Florenceville-Bristol Pool:  40 McCain Street                   Centreville Pool:  751 Central Street                   Cost:  $2
URL:https://carletonnorth.com/event/senior-lap-centreville-florenceville-bristol/
CATEGORIES:Pool Schedule
END:VEVENT
BEGIN:VEVENT
DTSTART;TZID=America/Halifax:20250703T123000
DTEND;TZID=America/Halifax:20250703T133000
DTSTAMP:20260422T184716
CREATED:20250625T212237Z
LAST-MODIFIED:20250702T215406Z
UID:4932922-1751545800-1751549400@carletonnorth.com
SUMMARY:Aqua Fitness - Bath Pool
DESCRIPTION:Aqua FitnessDate:  Mondays & ThursdaysTime:  12:30PM – 1:30PMLocation:  Bath Pool:  128 School Street                   Cost:  $5 per class           \nFor more information contact Cisca Bakker at 506-273-0384
URL:https://carletonnorth.com/event/aqua-fitness-bath-pool-2/
LOCATION:128 School St\, Bath\, NB E7J 1C4\, Canada
CATEGORIES:Pool Schedule
END:VEVENT
BEGIN:VEVENT
DTSTART;TZID=America/Halifax:20250703T140000
DTEND;TZID=America/Halifax:20250703T160000
DTSTAMP:20260422T184716
CREATED:20250623T212242Z
LAST-MODIFIED:20250702T215406Z
UID:4902785-1751551200-1751558400@carletonnorth.com
SUMMARY:Free Swim: All Pools
DESCRIPTION:Florenceville-Bristol Pool: 40 McCain Street\nCentreville Pool: 751 Central Street\nBath Pool:128 School Street\nFree Swim Donated by Bath Lions Club
URL:https://carletonnorth.com/event/free-swim-all-pools-3/
CATEGORIES:Pool Schedule
END:VEVENT
BEGIN:VEVENT
DTSTART;TZID=America/Halifax:20250703T180000
DTEND;TZID=America/Halifax:20250703T190000
DTSTAMP:20260422T184716
CREATED:20250623T212242Z
LAST-MODIFIED:20250703T215241Z
UID:4902787-1751565600-1751569200@carletonnorth.com
SUMMARY:Adult Lap - All Pools
DESCRIPTION:Adult LapDate: Weekly on ThursdaysTime:  6:00PM – 7:00PMLocation:  All Pools                   Florenceville-Bristol Pool:  40 McCain Street                   Centreville Pool:  751 Central Street                   Bath Pool:  128 School StreetCost:  $2
URL:https://carletonnorth.com/event/adult-lap-all-pools/
CATEGORIES:Pool Schedule
END:VEVENT
BEGIN:VEVENT
DTSTART;TZID=America/Halifax:20250703T180000
DTEND;TZID=America/Halifax:20250703T200000
DTSTAMP:20260422T184716
CREATED:20250619T191602Z
LAST-MODIFIED:20250703T101145Z
UID:4841164-1751565600-1751572800@carletonnorth.com
SUMMARY:Clay Handbuilding Drop-In | Newbie Night
DESCRIPTION:Clay Handbuilding Drop-In | Newbie Night Date:  July 3\, 2025Time:  6:00PM – 8:00PMLocation:  River Art Centre\, 8746 Main Street\, Florenceville-Bristol \nWhether you’ve got a current project or are a brand-newbie wanting to explore clay\, join instructor Jenna Ross & other friendly clay-lovers for a casual evening of creativity at the River Art Centre & Studios.No registration required. \nBasic instruction is provided to get you started. ….Bring your ideas\, gusto\, project dreams & we’ll see what happens! \nFee to attend each Drop-in is $5 per person. The first (bisque) firing of any pot you decide to keep costs $10 each piece. Then Glazing costs an additional $10 each piece. \nChildren aged 7-14 welcome to participate if accompanied by an adult. No experience necessary\, just an openness to try! See you there! \nFor more information contact the Gallery. info@mccainartgallery.com 506-392-6769
URL:https://carletonnorth.com/event/clay-handbuilding-newbie-night-5/
LOCATION:8746 Main St\, Florenceville-Bristol\, NB E7L 3G5\, Canada
CATEGORIES:Community Calendar
END:VEVENT
BEGIN:VEVENT
DTSTART;TZID=America/Halifax:20250703T183000
DTEND;TZID=America/Halifax:20250703T200000
DTSTAMP:20260422T184716
CREATED:20250619T191531Z
LAST-MODIFIED:20250703T101146Z
UID:4841160-1751567400-1751572800@carletonnorth.com
SUMMARY:Brazilian Jiu Jitsu For beginners (Age 10+)
DESCRIPTION:Brazilian Jiu Jitsu For beginners (Age 10+)Date:  Weekly every Tuesday & Thursday in June\, July  & AugustTime:  6:30PM – 8:00PMLocation:  6 Welch Street\, Florenceville-Bristol – Pure Therapy \nCost:  $20 covers both Tuesday and Thursday classes for the weekOr $20 per drop-in class \nSign Up Online:  puretherapy.ca
URL:https://carletonnorth.com/event/brazilian-jiu-jitsu-for-beginners-age-10-6/
LOCATION:6 Welch St\, Florenceville-Bristol\, NB E7L 2E4\, Canada
CATEGORIES:Community Calendar
END:VEVENT
BEGIN:VEVENT
DTSTART;TZID=America/Halifax:20250703T190000
DTEND;TZID=America/Halifax:20250703T200000
DTSTAMP:20260422T184716
CREATED:20250623T212242Z
LAST-MODIFIED:20250703T215240Z
UID:4902786-1751569200-1751572800@carletonnorth.com
SUMMARY:Free Swim - All Pools
DESCRIPTION:Florenceville-Bristol Pool: 40 McCain Street\nCentreville Pool: 751 Central Street\nBath Pool:128 School Street\nFree Swim Donated by Bath Lions Club
URL:https://carletonnorth.com/event/free-swim-all-pools-4/
CATEGORIES:Pool Schedule
END:VEVENT
BEGIN:VEVENT
DTSTART;TZID=America/Halifax:20250704T123000
DTEND;TZID=America/Halifax:20250704T133000
DTSTAMP:20260422T184716
CREATED:20250623T212243Z
LAST-MODIFIED:20250703T215241Z
UID:4902788-1751632200-1751635800@carletonnorth.com
SUMMARY:Senior/Lap
DESCRIPTION:Senior/LapDate: Weekly Monday- FridayTime:  12:30PM – 1:30PMLocation:  All Pools                   Florenceville-Bristol Pool:  40 McCain Street                   Centreville Pool:  751 Central Street                   Bath Pool:  128 School StreetCost:  $2
URL:https://carletonnorth.com/event/senior-lap-2/
CATEGORIES:Pool Schedule
END:VEVENT
BEGIN:VEVENT
DTSTART;TZID=America/Halifax:20250704T140000
DTEND;TZID=America/Halifax:20250704T160000
DTSTAMP:20260422T184716
CREATED:20250623T212243Z
LAST-MODIFIED:20250703T215241Z
UID:4902789-1751637600-1751644800@carletonnorth.com
SUMMARY:Public Swim: All Pools
DESCRIPTION:Public Swim Tuesday\, Wednesday\, Friday\, Saturday and SundayTime:  2:00PM – 4:00PMLocation:  All Pools                   Florenceville-Bristol Pool:  40 McCain Street                   Centreville Pool:  751 Central Street                   Bath Pool:  128 School StreetCost:  $2
URL:https://carletonnorth.com/event/public-swim-all-pools/
CATEGORIES:Pool Schedule
END:VEVENT
BEGIN:VEVENT
DTSTART;TZID=America/Halifax:20250704T180000
DTEND;TZID=America/Halifax:20250704T190000
DTSTAMP:20260422T184716
CREATED:20250623T212243Z
LAST-MODIFIED:20250704T215245Z
UID:4902790-1751652000-1751655600@carletonnorth.com
SUMMARY:Swim Team Lap - All Pools
DESCRIPTION:Swim TeamDate:  Weekly on Mon/Wed/FriTime:  6:00PM – 7:00PMLocation:  All Pools \nPool Locations:Florenceville-Bristol Pool:  40 McCain StreetCentreville Pool:  751 Central StreetBath Pool:  128 School Street
URL:https://carletonnorth.com/event/swim-team-lap-all-pools/
CATEGORIES:Pool Schedule
END:VEVENT
BEGIN:VEVENT
DTSTART;TZID=America/Halifax:20250705T080000
DTEND;TZID=America/Halifax:20250705T110000
DTSTAMP:20260422T184716
CREATED:20250619T191621Z
LAST-MODIFIED:20250705T103736Z
UID:4841168-1751702400-1751713200@carletonnorth.com
SUMMARY:Breakfast at Juniper Community Centre
DESCRIPTION:Breakfast at Juniper Community CentreDate: Weekly on SaturdayTime:  8:00AM – 11:00AMLocation:  Juniper Community Centre\, 267 Juniper Rd\, Juniper \nDon’t forget to join us for Breakfast  from 8am – 11am at the Juniper Community Centre.   Great company and a fantastic way to start your weekend. Everyone is welcome—bring your family\, friends\, and neighbors! 💛 \nBring someone who needs a delicious Saturday morning pick-me-up! 🍳🥓 \n#CommunityBreakfast #SaturdayVibes #GoodFoodGoodCompany \nhttps://www.facebook.com/JCC506
URL:https://carletonnorth.com/event/breakfast-at-juniper-community-centre-8/
LOCATION:Juniper Community Centre\, 267 Juniper Rd\, Juniper\, NB E7L 1H1\, Canada
CATEGORIES:Community Calendar
END:VEVENT
BEGIN:VEVENT
DTSTART;TZID=America/Halifax:20250705T140000
DTEND;TZID=America/Halifax:20250705T160000
DTSTAMP:20260422T184716
CREATED:20250625T212239Z
LAST-MODIFIED:20250704T215246Z
UID:4932923-1751724000-1751731200@carletonnorth.com
SUMMARY:Free Public Swim - In Honour of Emma Pearson
DESCRIPTION:Free Public Swim to Celebrate Emma PearsonDate:  July 5\, 2025Time:  2:00PM – 4:00PMLocation:  Centreville Pool \nSponsored by Kim & Brent Pearson and Family In Memory of Emma Pearson
URL:https://carletonnorth.com/event/free-public-swim-in-honour-of-emma-pearson/
CATEGORIES:Pool Schedule
END:VEVENT
BEGIN:VEVENT
DTSTART;TZID=America/Halifax:20250705T140000
DTEND;TZID=America/Halifax:20250705T160000
DTSTAMP:20260422T184716
CREATED:20250630T213806Z
LAST-MODIFIED:20250704T215246Z
UID:5006942-1751724000-1751731200@carletonnorth.com
SUMMARY:Public Swim
DESCRIPTION:Public Swim Tuesday\, Wednesday\, Friday\, Saturday and SundayTime:  2:00PM – 4:00PMLocation:  All Pools                   Florenceville-Bristol Pool:  40 McCain Street                   Centreville Pool:  751 Central Street                   Bath Pool:  128 School StreetCost:  $2
URL:https://carletonnorth.com/event/public-swim-2/
CATEGORIES:Pool Schedule
END:VEVENT
BEGIN:VEVENT
DTSTART;TZID=America/Halifax:20250706T140000
DTEND;TZID=America/Halifax:20250706T160000
DTSTAMP:20260422T184716
CREATED:20250630T213807Z
LAST-MODIFIED:20250705T220803Z
UID:5006943-1751810400-1751817600@carletonnorth.com
SUMMARY:Public Swim
DESCRIPTION:Public Swim Tuesday\, Wednesday\, Friday\, Saturday and SundayTime:  2:00PM – 4:00PMLocation:  All Pools                   Florenceville-Bristol Pool:  40 McCain Street                   Centreville Pool:  751 Central Street                   Bath Pool:  128 School StreetCost:  $2
URL:https://carletonnorth.com/event/public-swim-3/
CATEGORIES:Pool Schedule
END:VEVENT
BEGIN:VEVENT
DTSTART;TZID=America/Halifax:20250706T190000
DTEND;TZID=America/Halifax:20250706T210000
DTSTAMP:20260422T184716
CREATED:20250705T103736Z
LAST-MODIFIED:20250706T103845Z
UID:5074079-1751828400-1751835600@carletonnorth.com
SUMMARY:Kin Club Bingo
DESCRIPTION:Kin Club BingoDate:  Weekly on SundayTime:  7:00PM – 9:00PMLocation:  Florenceville Kin Centre\, 381 Centreville Rd. Florenceville-Bristol \nThe Kin Club Weekly Bingo Takes Place every Sunday\, with door opening at 6pm and games starting at 7pm.Cost: $10 books\, $5 books\, $1 Specials and $25 package deals and more.
URL:https://carletonnorth.com/event/kin-club-bingo-184/
LOCATION:Florenceville Kin Center\, 381 Centreville Rd\, Florenceville-Bristol\, NB E7L 3K5\, Canada
CATEGORIES:Community Calendar
END:VEVENT
BEGIN:VEVENT
DTSTART;TZID=America/Halifax:20250707T073000
DTEND;TZID=America/Halifax:20250711T173000
DTSTAMP:20260422T184716
CREATED:20250619T191629Z
LAST-MODIFIED:20250711T113829Z
UID:4841185-1751873400-1752255000@carletonnorth.com
SUMMARY:DCN Summer Day Camp -  Week 2 - Constructors
DESCRIPTION:DCN Summer Day Camp \nWeek 2 – Constructors \nDate:  July 7th – July 11thTime:  7:30AM – 5:30PMLocation:  R.G. ‘Bun’ Veysey Active Living Centre\, 40 McCain St. Florenceville-Bristol \nJuly 7th – Paper Plate ManiaJuly 8th –  Castle ConstructionJuly 9th – Construction SafetyJuly 10th – Tricky TowersJuly 11th – Robots \nCamp Information:Summer Camp 2025 is a 9 week program running from July 2nd to August 29th for children ages 6-12. \nThe camp has been designed to offer different activities throughout each day such as rock climbing\, swimming\, crafts\, and sports – ex. badminton\, basketball\, soccer etc. \nThe camp operates as a drop off/pick up program with doors opening at 7:30am and closing at 5:30pm \nPrice Information: \n1 Child | 1 Day – $35 \n1 Child | 2 Days – $70 \n1 Child | 3 Days – $105 \n1 Child | 4-5 Days – $125 (Full Time) \n \n2 Children | 1 Day – $70 \n2 Children | 2 Days – $140 \n2 Children | 3 Days – $210 \n2 Children | 4- 5 Days – $200 (Full Time) \n \n3 Children | 1 Day – $105 \n3 Children | 2 Days – $ 210 \n3 Children | 3 Days – $315 \n3 Children | 4-5 Days – $250 (Full Time) \n \n*+ $35 per child for part time (1-3 days) \, +$50 per child for full time (ex 4-5) days at 3 or more children \nPayment for camp must be made in person PRIOR to the first day of attendance for each week. \nFor any questions\, please contact: 📧recreation@carletonnorth.com or 📞 (506) 392-6763 ext. 220
URL:https://carletonnorth.com/event/dcn-summer-day-camp-week-2-constructors/
LOCATION:R. G. “Bun” Veysey Active Living Centre\, 40 McCain St\, Florenceville-Bristol\, NB E7L 3J4\, Canada
CATEGORIES:Community Calendar
END:VEVENT
BEGIN:VEVENT
DTSTART;TZID=America/Halifax:20250707T090000
DTEND;TZID=America/Halifax:20250707T120000
DTSTAMP:20260422T184716
CREATED:20250623T212244Z
LAST-MODIFIED:20250706T222235Z
UID:4902791-1751878800-1751889600@carletonnorth.com
SUMMARY:Morning Swimming Lessons - All Pools
DESCRIPTION:Swimming Lesson SessionsMorning Lessons:  Monday – ThursdayJune 30 – July 17July 21 – August 7August 11 – August 28Pool Locations \nFlorenceville-Bristol Pool:  40 McCain StreetCentreville Pool:  751 Central StreetBath Pool:  128 School Street
URL:https://carletonnorth.com/event/morning-swimming-lessons-all-pools-4/
CATEGORIES:Pool Schedule
END:VEVENT
BEGIN:VEVENT
DTSTART;TZID=America/Halifax:20250707T123000
DTEND;TZID=America/Halifax:20250707T133000
DTSTAMP:20260422T184716
CREATED:20250623T212244Z
LAST-MODIFIED:20250706T222236Z
UID:4902792-1751891400-1751895000@carletonnorth.com
SUMMARY:Senior/Lap - Centreville & Florenceville-Bristol
DESCRIPTION:Senior/LapDate:  Weekly Monday- FridayTime:  12:30PM – 1:30PMLocation:  Florenceville-Bristol Pool:  40 McCain Street                   Centreville Pool:  751 Central Street                   Cost:  $2
URL:https://carletonnorth.com/event/senior-lap-all-pools-3/
CATEGORIES:Pool Schedule
END:VEVENT
BEGIN:VEVENT
DTSTART;TZID=America/Halifax:20250707T123000
DTEND;TZID=America/Halifax:20250707T133000
DTSTAMP:20260422T184716
CREATED:20250625T212240Z
LAST-MODIFIED:20250706T222236Z
UID:4932925-1751891400-1751895000@carletonnorth.com
SUMMARY:Aqua Fitness - Bath Pool
DESCRIPTION:Aqua FitnessDate:  Mondays & ThursdaysTime:  12:30PM – 1:30PMLocation:  Bath Pool:  128 School Street                   Cost:  $5 per class           \nFor more information contact Cisca Bakker at 506-273-0384
URL:https://carletonnorth.com/event/aqua-fitness-bath-pool-3/
LOCATION:128 School St\, Bath\, NB E7J 1C4\, Canada
CATEGORIES:Pool Schedule
END:VEVENT
BEGIN:VEVENT
DTSTART;TZID=America/Halifax:20250707T130000
DTEND;TZID=America/Halifax:20250707T140000
DTSTAMP:20260422T184716
CREATED:20250703T100736Z
LAST-MODIFIED:20250707T105532Z
UID:5042932-1751893200-1751896800@carletonnorth.com
SUMMARY:Senior Stretching
DESCRIPTION:Date:  Every Monday in JulyTime:  1:00PM – 2:00PMLocation:  Beechwood Senior ComplexEvent Details:   \nNursing Home Without Walls is offering Senior Stretching at Beechwood Senior Complex at 1:00pm.  This is a great opportunity to get moving and to socialize.  Includes some light seated exercise with NHWW staff. For more information or to join call NHWW (506) 278-3197
URL:https://carletonnorth.com/event/senior-stretching-67/
LOCATION:Beechwood Senior Complex
CATEGORIES:Community Calendar
END:VEVENT
BEGIN:VEVENT
DTSTART;TZID=America/Halifax:20250707T140000
DTEND;TZID=America/Halifax:20250707T150000
DTSTAMP:20260422T184716
CREATED:20250703T100736Z
LAST-MODIFIED:20250707T105533Z
UID:5042931-1751896800-1751900400@carletonnorth.com
SUMMARY:Senior Stretching
DESCRIPTION:Date:  Weekly every Monday in JulyTIme:  2:00PM – 3:00PMLocation:   River View Manor Complex \nEvent Details: \nNursing Home Without Walls is offering Senior Stretching at River View Manor Complex at 2:00pm.  This is a great opportunity to get moving and to socialize.  Includes some light seated exercise with NHWW staff. \nFor more information or to join call NHWW (506)278-3197
URL:https://carletonnorth.com/event/senior-stretching-66/
LOCATION:River View Manor Complex\, 96 Hospital St\, Bath\, NB E7J 1B9\, Canada
CATEGORIES:Community Calendar
END:VEVENT
BEGIN:VEVENT
DTSTART;TZID=America/Halifax:20250707T140000
DTEND;TZID=America/Halifax:20250707T160000
DTSTAMP:20260422T184716
CREATED:20250623T212244Z
LAST-MODIFIED:20250706T222236Z
UID:4902793-1751896800-1751904000@carletonnorth.com
SUMMARY:Free Swim: All Pools
DESCRIPTION:Free SwimDate:  Weekly on MondaysTime:  2:00PM – 4:00PMLocation:  All Pools                   Florenceville-Bristol Pool:  40 McCain Street                   Centreville Pool:  751 Central Street                   Bath Pool:  128 School Street \nFree Swim Donated by Florenceville Rotary Club
URL:https://carletonnorth.com/event/free-swim-all-pools-5/
CATEGORIES:Pool Schedule
END:VEVENT
BEGIN:VEVENT
DTSTART;TZID=America/Halifax:20250707T180000
DTEND;TZID=America/Halifax:20250707T190000
DTSTAMP:20260422T184716
CREATED:20250623T212245Z
LAST-MODIFIED:20250706T222236Z
UID:4902794-1751911200-1751914800@carletonnorth.com
SUMMARY:Swim Team
DESCRIPTION:Swim TeamDate:  Weekly on Mon/Wed/FriTime:  6:00PM – 7:00PMLocation:  All Pools \nPool Locations:Florenceville-Bristol Pool:  40 McCain StreetCentreville Pool:  751 Central StreetBath Pool:  128 School Street
URL:https://carletonnorth.com/event/swim-team-4/
CATEGORIES:Pool Schedule
END:VEVENT
BEGIN:VEVENT
DTSTART;TZID=America/Halifax:20250707T183000
DTEND;TZID=America/Halifax:20250707T193000
DTSTAMP:20260422T184716
CREATED:20250705T103737Z
LAST-MODIFIED:20250707T105529Z
UID:5074080-1751913000-1751916600@carletonnorth.com
SUMMARY:Juniper Community Centre Annual Meeting
DESCRIPTION:Juniper Community Centre Annual Meeting\nDate: July 7\, 2025\nTime: 6:30PM – 7:30PM\nMeet and Greet 6:15Pm to  6:30PM\nWe’re currently looking to fill executive positions\, and we always welcome new volunteers. If you’ve ever thought about getting involved—now’s the time!\n🗓️ Come learn what’s happening at your community centre and how you can get involved.\n📞 Questions? Call us at 506-260-8689
URL:https://carletonnorth.com/event/juniper-community-centre-annual-meeting/
LOCATION:Juniper Community Centre\, 267 Juniper Rd\, Juniper\, NB E7L 1H1\, Canada
CATEGORIES:Community Calendar
END:VEVENT
BEGIN:VEVENT
DTSTART;TZID=America/Halifax:20250707T190000
DTEND;TZID=America/Halifax:20250707T200000
DTSTAMP:20260422T184716
CREATED:20250623T212245Z
LAST-MODIFIED:20250707T222227Z
UID:4902795-1751914800-1751918400@carletonnorth.com
SUMMARY:Free Swim - All Pools
DESCRIPTION:Free SwimDate:  Weekly on MondaysTime:  7:00PM -8:00PMLocation:  All Pools                   Florenceville-Bristol Pool:  40 McCain Street                   Centreville Pool:  751 Central Street                   Bath Pool:  128 School Street \nFree Swim Donated by Florenceville Rotary Club
URL:https://carletonnorth.com/event/free-swim-all-pools-6/
CATEGORIES:Pool Schedule
END:VEVENT
BEGIN:VEVENT
DTSTART;TZID=America/Halifax:20250708T090000
DTEND;TZID=America/Halifax:20250708T120000
DTSTAMP:20260422T184716
CREATED:20250623T212246Z
LAST-MODIFIED:20250707T222227Z
UID:4902796-1751965200-1751976000@carletonnorth.com
SUMMARY:Lessons - All Pools
DESCRIPTION:Swimming Lesson SessionsMorning Lessons:  Monday – ThursdayJune 30 – July 17July 21 – August 7August 11 – August 28 \nNight Lessons:  Tuesday NightJuly 8 – August 26
URL:https://carletonnorth.com/event/lessons-all-pools/
CATEGORIES:Pool Schedule
END:VEVENT
BEGIN:VEVENT
DTSTART;TZID=America/Halifax:20250708T090000
DTEND;TZID=America/Halifax:20250710T160000
DTSTAMP:20260422T184716
CREATED:20250619T191630Z
LAST-MODIFIED:20250710T112343Z
UID:4841186-1751965200-1752163200@carletonnorth.com
SUMMARY:Wild Child Day Camp (ages 4-12)
DESCRIPTION:Wild Child Day Camp (ages 4-12)Date: July 8\, 2025 -July 10\, 2025Time:  9:00AM – 4:00PMLocation:  Knowlesville Art & Nature Centre\, 111 Simms Rd. KnowlesvilleEvent Details:Join us for Art and Nature Camps at the Knowlesville Art and Nature Centre! The Wild Child Summer Day Camp (for ages 4-12) goes from Tuesday-Thursday\, 9:00 am – 4:00 pm daily beginning July 2nd through to August 14th. \nCampers will have the opportunity to engage positively with their natural environments; discovering all the wonders the outdoors has to offer. Through various fun activities\, games\, art\, and discussions\, children will learn about our native plants\, animals\, trees\, and basic ecological concepts. They will connect using their body\, heart and mind and be given the freedom to use their imagination\, play and just enjoy being kids in the summertime! The Wild Child Summer Day Camp includes three specialty themed weeks: \nJuly 8th – 10th: Yoga\, Plant Magic & Theater: This unique camp brings the ancient gifts of yoga\, plant medicine\, and artistic expression all into one amazing week. Nourish your body\, mind\, and soul! \nJuly 22nd – 24th: Farm Camp at Fairlight Farm and Forest Centre: Come take part in the farm life! Campers will get to jump in and learn skills for self-sufficiency on the homestead through fun hands-on projects. This camp takes place off-site at Fairlight Farm & Forest Centre\, just down the road from us! \nAugust 5th – 7th: Eco-Explorers Week: We will explore the woods\, tend our gardens\, learn survival skills\, and play games. Rain or shine we will venture out into the forests and fields to engage our hands\, hearts\, and minds. Come play outside with friends! \nRegistration Required\, to register or find out more information please email camps@knowlesvillenature.ca\, call the office at 506-376-6400 or visit our website at knowlesvillenature.ca/summer-camps/ \nCost:  $100/week or $600/7 weeks
URL:https://carletonnorth.com/event/wild-child-day-camp-ages-4-12-2/
LOCATION:111 Simms Rd\, Knowlesville\, NB E7L 4P7\, Canada
CATEGORIES:Community Calendar
END:VEVENT
BEGIN:VEVENT
DTSTART;TZID=America/Halifax:20250708T093000
DTEND;TZID=America/Halifax:20250710T113000
DTSTAMP:20260422T184716
CREATED:20250619T191627Z
LAST-MODIFIED:20250710T112343Z
UID:4841177-1751967000-1752147000@carletonnorth.com
SUMMARY:Summer Art Camps (Ages 7-9)
DESCRIPTION:Ages 7-9 Summer Art Camps.Each 3 day camp is $45 \nDates:July 2-4 | Hands OnJuly 8-10 | Let’s Tell a StoryJuly 15-17 | Photography without CamerasJuly 29-31 | Let’s DrawAugust 12-14 | Creating with Nature \nFor more information please visit: https://mccainartgallery.com/exhibitions/summer-art-camps-2025/ \nTo register\, please contact the gallery: 506-392-6769 | info@mccainartgallery.com \n\n\n\n\n\n\n\nCost\n\n\n$45 per 3 day camp
URL:https://carletonnorth.com/event/summer-art-camps-ages-7-9-2/
LOCATION:8746 Main St\, Florenceville-Bristol\, NB E7L 3G5\, Canada
CATEGORIES:Community Calendar
END:VEVENT
END:VCALENDAR