BEGIN:VCALENDAR
VERSION:2.0
PRODID:-//District of Carleton North - ECPv6.15.20//NONSGML v1.0//EN
CALSCALE:GREGORIAN
METHOD:PUBLISH
X-ORIGINAL-URL:https://carletonnorth.com
X-WR-CALDESC:Events for District of Carleton North
REFRESH-INTERVAL;VALUE=DURATION:PT1H
X-Robots-Tag:noindex
X-PUBLISHED-TTL:PT1H
BEGIN:VTIMEZONE
TZID:America/Halifax
BEGIN:DAYLIGHT
TZOFFSETFROM:-0400
TZOFFSETTO:-0300
TZNAME:ADT
DTSTART:20240310T060000
END:DAYLIGHT
BEGIN:STANDARD
TZOFFSETFROM:-0300
TZOFFSETTO:-0400
TZNAME:AST
DTSTART:20241103T050000
END:STANDARD
BEGIN:DAYLIGHT
TZOFFSETFROM:-0400
TZOFFSETTO:-0300
TZNAME:ADT
DTSTART:20250309T060000
END:DAYLIGHT
BEGIN:STANDARD
TZOFFSETFROM:-0300
TZOFFSETTO:-0400
TZNAME:AST
DTSTART:20251102T050000
END:STANDARD
BEGIN:DAYLIGHT
TZOFFSETFROM:-0400
TZOFFSETTO:-0300
TZNAME:ADT
DTSTART:20260308T060000
END:DAYLIGHT
BEGIN:STANDARD
TZOFFSETFROM:-0300
TZOFFSETTO:-0400
TZNAME:AST
DTSTART:20261101T050000
END:STANDARD
END:VTIMEZONE
BEGIN:VEVENT
DTSTART;TZID=America/Halifax:20250812T093000
DTEND;TZID=America/Halifax:20250814T113000
DTSTAMP:20260422T184717
CREATED:20250619T191715Z
LAST-MODIFIED:20250813T152503Z
UID:4841296-1754991000-1755171000@carletonnorth.com
SUMMARY:Summer Art Camps (Ages 7-9)
DESCRIPTION:Ages 7-9 Summer Art Camps.Each 3 day camp is $45 \nDates:July 2-4 | Hands OnJuly 8-10 | Let’s Tell a StoryJuly 15-17 | Photography without CamerasJuly 29-31 | Let’s DrawAugust 12-14 | Creating with Nature \nFor more information please visit: https://mccainartgallery.com/exhibitions/summer-art-camps-2025/ \nTo register\, please contact the gallery: 506-392-6769 | info@mccainartgallery.com \n\n\n\n\n\n\n\nCost\n\n\n$45 per 3 day camp
URL:https://carletonnorth.com/event/summer-art-camps-ages-7-9-5/
LOCATION:8746 Main St\, Florenceville-Bristol\, NB E7L 3G5\, Canada
CATEGORIES:Community Calendar
END:VEVENT
BEGIN:VEVENT
DTSTART;TZID=America/Halifax:20250812T123000
DTEND;TZID=America/Halifax:20250812T133000
DTSTAMP:20260422T184717
CREATED:20250713T231031Z
LAST-MODIFIED:20250812T102433Z
UID:5199056-1755001800-1755005400@carletonnorth.com
SUMMARY:Senior/Lap
DESCRIPTION:Senior/LapDate: Weekly Monday- FridayTime:  12:30PM – 1:30PMLocation:  All Pools                   Florenceville-Bristol Pool:  40 McCain Street                   Centreville Pool:  751 Central Street                   Bath Pool:  128 School StreetCost:  $2
URL:https://carletonnorth.com/event/senior-lap-18/
CATEGORIES:Pool Schedule
END:VEVENT
BEGIN:VEVENT
DTSTART;TZID=America/Halifax:20250812T140000
DTEND;TZID=America/Halifax:20250812T160000
DTSTAMP:20260422T184717
CREATED:20250713T231031Z
LAST-MODIFIED:20250812T102434Z
UID:5199057-1755007200-1755014400@carletonnorth.com
SUMMARY:Public Swim
DESCRIPTION:Public Swim Tuesday\, Wednesday\, Friday\, Saturday and SundayTime:  2:00PM – 4:00PMLocation:  All Pools                   Florenceville-Bristol Pool:  40 McCain Street                   Centreville Pool:  751 Central Street                   Bath Pool:  128 School StreetCost:  $2
URL:https://carletonnorth.com/event/public-swim-28/
CATEGORIES:Pool Schedule
END:VEVENT
BEGIN:VEVENT
DTSTART;TZID=America/Halifax:20250812T173000
DTEND;TZID=America/Halifax:20250812T184500
DTSTAMP:20260422T184717
CREATED:20250713T231031Z
LAST-MODIFIED:20250812T102434Z
UID:5199058-1755019800-1755024300@carletonnorth.com
SUMMARY:Night Swimming Lessons - All Pools
DESCRIPTION:Night Swimming LessonsSession:  July 8 – August 26Time:  5:30PM – 6:45PM Location:  All Pools                   Florenceville-Bristol Pool:  40 McCain Street                   Centreville Pool:  751 Central Street                   Bath Pool:  128 School Street \n                   
URL:https://carletonnorth.com/event/night-swimming-lessons-all-pools-11/
CATEGORIES:Pool Schedule
END:VEVENT
BEGIN:VEVENT
DTSTART;TZID=America/Halifax:20250812T180000
DTEND;TZID=America/Halifax:20250812T190000
DTSTAMP:20260422T184717
CREATED:20250713T231032Z
LAST-MODIFIED:20250812T102434Z
UID:5199060-1755021600-1755025200@carletonnorth.com
SUMMARY:Night Swimming Lessons - All Pools
DESCRIPTION:Night Swimming LessonsSession:  July 8 – August 26Time:  6:00PM – 7:00PM Location:  All Pools                   Florenceville-Bristol Pool:  40 McCain Street                   Centreville Pool:  751 Central Street                   Bath Pool:  128 School Street \n                   
URL:https://carletonnorth.com/event/night-swimming-lessons-all-pools-12/
CATEGORIES:Pool Schedule
END:VEVENT
BEGIN:VEVENT
DTSTART;TZID=America/Halifax:20250812T180000
DTEND;TZID=America/Halifax:20250812T200000
DTSTAMP:20260422T184717
CREATED:20250710T112408Z
LAST-MODIFIED:20250812T152313Z
UID:5147369-1755021600-1755028800@carletonnorth.com
SUMMARY:Big Bunch Activity -Back To School Packing
DESCRIPTION:Big Bunch Activity -Back To School PackingDate:  August 12\, 2025Time:  6:00PM – 8:00PMLocation:  Big Brothers Big Sisters Office\, 108 Richmond Street\, WoodstockWhat to Bring:  Just yourself!  Supplies to pack will be at the BBBS Office \nJoin us for a fun night of giving back to the community to pack back to school school supplies  for kids in our community.  In preparation for our activity school supply bins will be set up at various locations around Woodstock from July 11th – August 8th.  Look for bins at the following locations:  LP Fisher Library\, Guardian Drugs\, AYR Motor Centre\, Covey Basics\, and our BBBS office.   \nPlease feel free to donate supplies  until August 8th.  On August 12th we will be packing up the donated supplies for kids and families that need them.  School supplies will be available for pickup at the BBBS office until September. \nActivities are open to all BBBS matches and youth on the waitlist.  Please RSVP by email:  heidi.harper@bigbrothersbigsisters.ca or call 506-328-2094 to give us an idea of how many people will attend.
URL:https://carletonnorth.com/event/big-bunch-activity-back-to-school-packing/
LOCATION:108 Richmond St\, Woodstock\, NB E7M 3A8\, Canada
CATEGORIES:Community Calendar
END:VEVENT
BEGIN:VEVENT
DTSTART;TZID=America/Halifax:20250812T183000
DTEND;TZID=America/Halifax:20250812T200000
DTSTAMP:20260422T184717
CREATED:20250619T191713Z
LAST-MODIFIED:20250812T152313Z
UID:4841292-1755023400-1755028800@carletonnorth.com
SUMMARY:Brazilian Jiu Jitsu For beginners (Age 10+)
DESCRIPTION:Brazilian Jiu Jitsu For beginners (Age 10+)Date:  Weekly every Tuesday & Thursday in June\, July  & AugustTime:  6:30PM – 8:00PMLocation:  6 Welch Street\, Florenceville-Bristol – Pure Therapy \nCost:  $20 covers both Tuesday and Thursday classes for the weekOr $20 per drop-in class \nSign Up Online:  puretherapy.ca
URL:https://carletonnorth.com/event/brazilian-jiu-jitsu-for-beginners-age-10-17/
LOCATION:6 Welch St\, Florenceville-Bristol\, NB E7L 2E4\, Canada
CATEGORIES:Community Calendar
END:VEVENT
BEGIN:VEVENT
DTSTART;TZID=America/Halifax:20250812T183000
DTEND;TZID=America/Halifax:20250812T203000
DTSTAMP:20260422T184718
CREATED:20250704T102329Z
LAST-MODIFIED:20250812T152314Z
UID:5058462-1755023400-1755030600@carletonnorth.com
SUMMARY:Tunesday at Riverside Park
DESCRIPTION:Tunesday – Music at the GazeboNEW TIME: 6:30PM to  8:30PMRiverside Park\, Florenceville-Bristol \nJoin in the fun every Tuesday in July and August. Bring a Chair and enjoy the show.For updates follow the Tourism Facebook page:https://www.facebook.com/exploredistrictofcarletonnorthRain location: Second Wind Music Centre)
URL:https://carletonnorth.com/event/tunesday-at-riverside-park-6/
LOCATION:Riverside Park\, 9173 Main St\, Florenceville-Bristol\, NB E7L 2Y3\, Canada
CATEGORIES:Community Calendar
END:VEVENT
BEGIN:VEVENT
DTSTART;TZID=America/Halifax:20250812T190000
DTEND;TZID=America/Halifax:20250812T200000
DTSTAMP:20260422T184718
CREATED:20250713T231031Z
LAST-MODIFIED:20250812T102434Z
UID:5199059-1755025200-1755028800@carletonnorth.com
SUMMARY:Public Swim: All Pools
DESCRIPTION:Public SwimDate:  Weekly on TuesdaysLocation:  All Pools                   Florenceville-Bristol Pool: 40 McCain Street                   Centreville Pool: 751 Central Street                   Bath Pool:128 School Street \nCost:  $2
URL:https://carletonnorth.com/event/public-swim-all-pools-7/
CATEGORIES:Pool Schedule
END:VEVENT
BEGIN:VEVENT
DTSTART;TZID=America/Halifax:20250813T083000
DTEND;TZID=America/Halifax:20250813T110000
DTSTAMP:20260422T184718
CREATED:20250802T142235Z
LAST-MODIFIED:20250812T152315Z
UID:5488415-1755073800-1755082800@carletonnorth.com
SUMMARY:NHWW Blood Pressure Walk-In Clinic
DESCRIPTION:Date:  August 13\, 2025Time:  8:30AM – 11:00AMLocation:  R.G ‘Bun’ Veysey Active Living Centre\, 40 McCain Street Florenceville-BristolEvent Details:  \nNHWW is offering a FREE Blood Pressure Drop-In Clinic for anyone 60+.  There will be a healthcare professional on site to check on various aspects of your wellbeing.  You can choose to have any of the following tested;  blood pressure\, glucose\, weight\, H20 level.  \nFor more information contact NHWW at 506-278-3197 or email rvmnhww@nb.aibn.com
URL:https://carletonnorth.com/event/nhww-blood-pressure-walk-in-clinic-4/
LOCATION:R. G. “Bun” Veysey Active Living Centre\, 40 McCain St\, Florenceville-Bristol\, NB E7L 3J4\, Canada
CATEGORIES:Community Calendar
END:VEVENT
BEGIN:VEVENT
DTSTART;TZID=America/Halifax:20250813T090000
DTEND;TZID=America/Halifax:20250813T120000
DTSTAMP:20260422T184718
CREATED:20250713T231032Z
LAST-MODIFIED:20250813T102231Z
UID:5199061-1755075600-1755086400@carletonnorth.com
SUMMARY:Morning Swimming Lessons - All Pools
DESCRIPTION:Swimming Lesson SessionsMorning Lessons:  Monday – ThursdayJune 30 – July 17July 21 – August 7August 11 – August 28 \nPool LocationsFlorenceville-Bristol Pool:  40 McCain StreetCentreville Pool:  751 Central StreetBath Pool:  128 School Street
URL:https://carletonnorth.com/event/morning-swimming-lessons-all-pools-20/
CATEGORIES:Pool Schedule
END:VEVENT
BEGIN:VEVENT
DTSTART;TZID=America/Halifax:20250813T123000
DTEND;TZID=America/Halifax:20250813T133000
DTSTAMP:20260422T184718
CREATED:20250713T231032Z
LAST-MODIFIED:20250813T102231Z
UID:5199062-1755088200-1755091800@carletonnorth.com
SUMMARY:Senior/Lap
DESCRIPTION:Senior/LapDate: Weekly Monday- FridayTime:  12:30PM – 1:30PMLocation:  All Pools                   Florenceville-Bristol Pool:  40 McCain Street                   Centreville Pool:  751 Central Street                   Bath Pool:  128 School StreetCost:  $2
URL:https://carletonnorth.com/event/senior-lap-19/
CATEGORIES:Pool Schedule
END:VEVENT
BEGIN:VEVENT
DTSTART;TZID=America/Halifax:20250813T130000
DTEND;TZID=America/Halifax:20250813T160000
DTSTAMP:20260422T184718
CREATED:20250619T191714Z
LAST-MODIFIED:20250813T152503Z
UID:4841295-1755090000-1755100800@carletonnorth.com
SUMMARY:Senior Puzzles\, Social & Cards
DESCRIPTION:Senior Puzzles\, Social & CardsDate:  Weekly on WednesdaysTime:  1:00PM – 4:00PMLocation:  R.G. ‘Bun’ Veysey Active Living Centre\,  40 McCain St. Florenceville-Bristol \nEnjoy an afternoon of card games\, snacks\, tea and fun!  Play a variation of puzzles. Feel free to bring puzzles to trade! \nCost:   $3 for entry (55+)
URL:https://carletonnorth.com/event/senior-puzzles-social-cards-62/
LOCATION:40 McCain St\, Florenceville-Bristol\, NB E7L 3J4\, Canada
CATEGORIES:Community Calendar
END:VEVENT
BEGIN:VEVENT
DTSTART;TZID=America/Halifax:20250813T140000
DTEND;TZID=America/Halifax:20250813T160000
DTSTAMP:20260422T184718
CREATED:20250713T231032Z
LAST-MODIFIED:20250813T102231Z
UID:5199063-1755093600-1755100800@carletonnorth.com
SUMMARY:Public Swim
DESCRIPTION:Public Swim Tuesday\, Wednesday\, Friday\, Saturday and SundayTime:  2:00PM – 4:00PMLocation:  All Pools                   Florenceville-Bristol Pool:  40 McCain Street                   Centreville Pool:  751 Central Street                   Bath Pool:  128 School StreetCost:  $2
URL:https://carletonnorth.com/event/public-swim-29/
CATEGORIES:Pool Schedule
END:VEVENT
BEGIN:VEVENT
DTSTART;TZID=America/Halifax:20250813T180000
DTEND;TZID=America/Halifax:20250813T190000
DTSTAMP:20260422T184718
CREATED:20250713T231033Z
LAST-MODIFIED:20250813T102232Z
UID:5199064-1755108000-1755111600@carletonnorth.com
SUMMARY:Swim Team
DESCRIPTION:Swim TeamDate:  Weekly on Mon/Wed/FriTime:  6:00PM – 7:00PMLocation:  All Pools \nPool Locations:Florenceville-Bristol Pool:  40 McCain StreetCentreville Pool:  751 Central StreetBath Pool:  128 School Street
URL:https://carletonnorth.com/event/swim-team-15/
CATEGORIES:Pool Schedule
END:VEVENT
BEGIN:VEVENT
DTSTART;TZID=America/Halifax:20250813T183000
DTEND;TZID=America/Halifax:20250813T193000
DTSTAMP:20260422T184718
CREATED:20250806T145255Z
LAST-MODIFIED:20250813T152504Z
UID:5544661-1755109800-1755113400@carletonnorth.com
SUMMARY:Wednesday Music at the Gazebo
DESCRIPTION:Wednesday at the GazeboTIME: 6:30PM TO 8:30PMEvery Wednesday in July and AugustSchedule to be posted on www.carletonnorth.com \nFor updates: https://www.facebook.com/exploredistrictofcarletonnorth
URL:https://carletonnorth.com/event/wednesday-music-at-the-gazebo-10/
LOCATION:Centreville Gazebo\, 751 Central Street\, Centreville\, NB
CATEGORIES:Community Calendar
END:VEVENT
BEGIN:VEVENT
DTSTART;TZID=America/Halifax:20250814T090000
DTEND;TZID=America/Halifax:20250814T120000
DTSTAMP:20260422T184718
CREATED:20250713T231033Z
LAST-MODIFIED:20250814T102244Z
UID:5199065-1755162000-1755172800@carletonnorth.com
SUMMARY:Morning Swimming Lessons - All Pools
DESCRIPTION:Swimming Lesson SessionsMorning Lessons:  Monday – ThursdayJune 30 – July 17July 21 – August 7August 11 – August 28 \nPool Locations \nFlorenceville-Bristol Pool:  40 McCain StreetCentreville Pool:  751 Central StreetBath Pool:  128 School Street
URL:https://carletonnorth.com/event/morning-swimming-lessons-all-pools-21/
CATEGORIES:Pool Schedule
END:VEVENT
BEGIN:VEVENT
DTSTART;TZID=America/Halifax:20250814T123000
DTEND;TZID=America/Halifax:20250814T133000
DTSTAMP:20260422T184718
CREATED:20250713T231033Z
LAST-MODIFIED:20250814T102245Z
UID:5199066-1755174600-1755178200@carletonnorth.com
SUMMARY:Aqua Fitness - Bath Pool
DESCRIPTION:Aqua FitnessDate:  Mondays & ThursdaysTime:  12:30PM – 1:30PMLocation:  Bath Pool:  128 School Street                   Cost:  $5 per class           \nFor more information contact Cisca Bakker at 506-273-0384
URL:https://carletonnorth.com/event/aqua-fitness-bath-pool-14/
LOCATION:128 School St\, Bath\, NB E7J 1C4\, Canada
CATEGORIES:Pool Schedule
END:VEVENT
BEGIN:VEVENT
DTSTART;TZID=America/Halifax:20250814T123000
DTEND;TZID=America/Halifax:20250814T133000
DTSTAMP:20260422T184718
CREATED:20250713T231033Z
LAST-MODIFIED:20250814T102245Z
UID:5199067-1755174600-1755178200@carletonnorth.com
SUMMARY:Senior/Lap - Centreville & Florenceville-Bristol
DESCRIPTION:Senior/LapDate:  Weekly Monday- FridayTime:  12:30PM – 1:30PMLocation:  Florenceville-Bristol Pool:  40 McCain Street                   Centreville Pool:  751 Central Street                   Cost:  $2
URL:https://carletonnorth.com/event/senior-lap-centreville-florenceville-bristol-12/
CATEGORIES:Pool Schedule
END:VEVENT
BEGIN:VEVENT
DTSTART;TZID=America/Halifax:20250814T140000
DTEND;TZID=America/Halifax:20250814T160000
DTSTAMP:20260422T184718
CREATED:20250713T231034Z
LAST-MODIFIED:20250814T102245Z
UID:5199068-1755180000-1755187200@carletonnorth.com
SUMMARY:Free Swim: All Pools
DESCRIPTION:Florenceville-Bristol Pool: 40 McCain Street\nCentreville Pool: 751 Central Street\nBath Pool:128 School Street\nFree Swim Donated by Bath Lions Club
URL:https://carletonnorth.com/event/free-swim-all-pools-27/
CATEGORIES:Pool Schedule
END:VEVENT
BEGIN:VEVENT
DTSTART;TZID=America/Halifax:20250814T180000
DTEND;TZID=America/Halifax:20250814T190000
DTSTAMP:20260422T184718
CREATED:20250713T231034Z
LAST-MODIFIED:20250814T102246Z
UID:5199070-1755194400-1755198000@carletonnorth.com
SUMMARY:Adult Lap - All Pools
DESCRIPTION:Adult LapDate: Weekly on ThursdaysTime:  6:00PM – 7:00PMLocation:  All Pools                   Florenceville-Bristol Pool:  40 McCain Street                   Centreville Pool:  751 Central Street                   Bath Pool:  128 School StreetCost:  $2
URL:https://carletonnorth.com/event/adult-lap-all-pools-7/
CATEGORIES:Pool Schedule
END:VEVENT
BEGIN:VEVENT
DTSTART;TZID=America/Halifax:20250814T183000
DTEND;TZID=America/Halifax:20250814T200000
DTSTAMP:20260422T184718
CREATED:20250619T191717Z
LAST-MODIFIED:20250814T153728Z
UID:4841300-1755196200-1755201600@carletonnorth.com
SUMMARY:Brazilian Jiu Jitsu For beginners (Age 10+)
DESCRIPTION:Brazilian Jiu Jitsu For beginners (Age 10+)Date:  Weekly every Tuesday & Thursday in June\, July  & AugustTime:  6:30PM – 8:00PMLocation:  6 Welch Street\, Florenceville-Bristol – Pure Therapy \nCost:  $20 covers both Tuesday and Thursday classes for the weekOr $20 per drop-in class \nSign Up Online:  puretherapy.ca
URL:https://carletonnorth.com/event/brazilian-jiu-jitsu-for-beginners-age-10-18/
LOCATION:6 Welch St\, Florenceville-Bristol\, NB E7L 2E4\, Canada
CATEGORIES:Community Calendar
END:VEVENT
BEGIN:VEVENT
DTSTART;TZID=America/Halifax:20250814T190000
DTEND;TZID=America/Halifax:20250814T200000
DTSTAMP:20260422T184718
CREATED:20250713T231034Z
LAST-MODIFIED:20250814T102245Z
UID:5199069-1755198000-1755201600@carletonnorth.com
SUMMARY:Free Swim - All Pools
DESCRIPTION:Florenceville-Bristol Pool: 40 McCain Street\nCentreville Pool: 751 Central Street\nBath Pool:128 School Street\nFree Swim Donated by Bath Lions Club
URL:https://carletonnorth.com/event/free-swim-all-pools-28/
CATEGORIES:Pool Schedule
END:VEVENT
BEGIN:VEVENT
DTSTART;TZID=America/Halifax:20250815T123000
DTEND;TZID=America/Halifax:20250815T133000
DTSTAMP:20260422T184718
CREATED:20250713T231034Z
LAST-MODIFIED:20250815T102231Z
UID:5199071-1755261000-1755264600@carletonnorth.com
SUMMARY:Senior/Lap
DESCRIPTION:Senior/LapDate: Weekly Monday- FridayTime:  12:30PM – 1:30PMLocation:  All Pools                   Florenceville-Bristol Pool:  40 McCain Street                   Centreville Pool:  751 Central Street                   Bath Pool:  128 School StreetCost:  $2
URL:https://carletonnorth.com/event/senior-lap-20/
CATEGORIES:Pool Schedule
END:VEVENT
BEGIN:VEVENT
DTSTART;TZID=America/Halifax:20250815T140000
DTEND;TZID=America/Halifax:20250815T160000
DTSTAMP:20260422T184718
CREATED:20250713T231035Z
LAST-MODIFIED:20250815T102231Z
UID:5199072-1755266400-1755273600@carletonnorth.com
SUMMARY:Public Swim
DESCRIPTION:Public Swim Tuesday\, Wednesday\, Friday\, Saturday and SundayTime:  2:00PM – 4:00PMLocation:  All Pools                   Florenceville-Bristol Pool:  40 McCain Street                   Centreville Pool:  751 Central Street                   Bath Pool:  128 School StreetCost:  $2
URL:https://carletonnorth.com/event/public-swim-30/
CATEGORIES:Pool Schedule
END:VEVENT
BEGIN:VEVENT
DTSTART;TZID=America/Halifax:20250815T180000
DTEND;TZID=America/Halifax:20250815T190000
DTSTAMP:20260422T184718
CREATED:20250713T231035Z
LAST-MODIFIED:20250815T102232Z
UID:5199073-1755280800-1755284400@carletonnorth.com
SUMMARY:Swim Team Lap - All Pools
DESCRIPTION:Swim TeamDate:  Weekly on Mon/Wed/FriTime:  6:00PM – 7:00PMLocation:  All Pools \nPool Locations:Florenceville-Bristol Pool:  40 McCain StreetCentreville Pool:  751 Central StreetBath Pool:  128 School Street
URL:https://carletonnorth.com/event/swim-team-lap-all-pools-7/
CATEGORIES:Pool Schedule
END:VEVENT
BEGIN:VEVENT
DTSTART;TZID=America/Halifax:20250815T180000
DTEND;TZID=America/Halifax:20250815T203000
DTSTAMP:20260422T184718
CREATED:20250801T142251Z
LAST-MODIFIED:20250815T155238Z
UID:5472851-1755280800-1755289800@carletonnorth.com
SUMMARY:Last Splash of Summer
DESCRIPTION:Last Splash of SummerDate:  August 15\, 2025Time:  6:00PM – 8:30PMLocation:  751 Central Street\, Centreville \nExplore DCN presents Last Splash of Summer .  Join us for an evening of  fun and activities.  Free Public Swim at the Bath\, Centreville and Florenceville-Bristol pools (6:00-8:00PM).  Face Painting by the Groovy Gals Gallery\, Balloon Artist\, Water Games & Theme Night – Centreville Pool\, Lawn Games\, S’mores Bar sponsored by Florenceville Rotary and  BBQ – food for purchase by the Kin Club.https://www.facebook.com/exploredistrictofcarletonnorth
URL:https://carletonnorth.com/event/last-splash-of-summer-2/
LOCATION:751 Central St\, Centreville\, NB E7K 2M6\, Canada
CATEGORIES:Community Calendar
END:VEVENT
BEGIN:VEVENT
DTSTART;VALUE=DATE:20250816
DTEND;VALUE=DATE:20250928
DTSTAMP:20260422T184718
CREATED:20250816T155304Z
LAST-MODIFIED:20250927T172247Z
UID:5691368-1755302400-1759017599@carletonnorth.com
SUMMARY:Andrew & Laura McCain Art Gallery | Art Exhibit:  Flora
DESCRIPTION:Andrew & Laura McCain Art Gallery | Art Exhibit:  FloraDate:  August 16 – September 27\, 2025Location:  Andrew & Laura McCain Art Gallery | 8 McCain Street\, Florenceville-Bristol \nFlora is an exhibition of crafts by some of Atlantic Canada’s most celebrated artisans & craftspeople\, including:  Adam McNamara\, Alexa Jaffurs\, Caife Garvey\, Caroline Simpson\, Cat Candow\, Heather McCaig\, Judy Blake\, Ralph Simpson\, and Vincent Briggs. \nJoin us on Thursday\, September 4th at 5:30pm for the opening – which will also be the pARTicipate Art & Nature Festival Kickoff event! \nMeet many of the artists\, small of whom will be teaching workshops at pARTicipate. \nAndrew & Laura McCain Art Gallery8 McCain Street\, Florenceville-Bristol\, NB(506) 392-6769 \nGallery Hours: Monday:  ClosedTuesday:  ClosedWednesday: 10:30AM – 12:30PM / 1:30PM – 5:00PMThursday: 12:00PM – 4:00PM / 5:00PM – 8:00PMFriday: 10:30AM-12:30PM / 1:30PM – 5:00PMSaturday: 10:30AM-12:30PM / 1:30PM – 5:00PMSunday:  Closed
URL:https://carletonnorth.com/event/andrew-laura-mccain-art-gallery-art-exhibit-flora/
LOCATION:The Andrew & Laura McCain Art Gallery\, 8 McCain St unit 1\, Florenceville-Bristol\, NB E7L 3H6\, Canada
CATEGORIES:Community Calendar
END:VEVENT
BEGIN:VEVENT
DTSTART;TZID=America/Halifax:20250816T080000
DTEND;TZID=America/Halifax:20250816T110000
DTSTAMP:20260422T184718
CREATED:20250619T191718Z
LAST-MODIFIED:20250815T155239Z
UID:4841303-1755331200-1755342000@carletonnorth.com
SUMMARY:Breakfast at Juniper Community Centre
DESCRIPTION:Breakfast at Juniper Community CentreDate: Weekly on SaturdayTime:  8:00AM – 11:00AMLocation:  Juniper Community Centre\, 267 Juniper Rd\, Juniper \nDon’t forget to join us for Breakfast  from 8am – 11am at the Juniper Community Centre.   Great company and a fantastic way to start your weekend. Everyone is welcome—bring your family\, friends\, and neighbors! 💛 \nBring someone who needs a delicious Saturday morning pick-me-up! 🍳🥓 \n#CommunityBreakfast #SaturdayVibes #GoodFoodGoodCompany \nhttps://www.facebook.com/JCC506
URL:https://carletonnorth.com/event/breakfast-at-juniper-community-centre-16/
LOCATION:Juniper Community Centre\, 267 Juniper Rd\, Juniper\, NB E7L 1H1\, Canada
CATEGORIES:Community Calendar
END:VEVENT
BEGIN:VEVENT
DTSTART;TZID=America/Halifax:20250816T113000
DTEND;TZID=America/Halifax:20250816T140000
DTSTAMP:20260422T184718
CREATED:20250808T150752Z
LAST-MODIFIED:20250816T155250Z
UID:5573404-1755343800-1755352800@carletonnorth.com
SUMMARY:Chefs on Fire Firefighter Fundraiser
DESCRIPTION:2nd Annual Chefs on Fire Firefighter Fundraiser (FREE ENTRY)Date: August 16\, 2025Time: Gates open at 11:30AM \nMuster Games and Free Public BBQ: 12:00PMCook Off Starts at 12:30PMCook Off Judging at 1:30PM \nBring your Non-Perishables donations for the “Stuff a Fire Truck” -proceeds go to We’ve Got Your Back River Valley! \nFacebook Page for Chefs on Fire https://www.facebook.com/ChefsonFireFundraiserEvent Page for updates and discusssion https://www.facebook.com/share/15rnBm1i2G
URL:https://carletonnorth.com/event/chefs-on-fire-firefighter-fundraiser-2/
LOCATION:Ramada by Wyndham Florenceville\, 239 Burnham Rd\, Florenceville-Bristol\, NB E7L 1Z1\, Canada
CATEGORIES:Community Calendar
END:VEVENT
END:VCALENDAR