BEGIN:VCALENDAR
VERSION:2.0
PRODID:-//District of Carleton North - ECPv6.15.20//NONSGML v1.0//EN
CALSCALE:GREGORIAN
METHOD:PUBLISH
X-WR-CALNAME:District of Carleton North
X-ORIGINAL-URL:https://carletonnorth.com
X-WR-CALDESC:Events for District of Carleton North
REFRESH-INTERVAL;VALUE=DURATION:PT1H
X-Robots-Tag:noindex
X-PUBLISHED-TTL:PT1H
BEGIN:VTIMEZONE
TZID:America/Halifax
BEGIN:DAYLIGHT
TZOFFSETFROM:-0400
TZOFFSETTO:-0300
TZNAME:ADT
DTSTART:20240310T060000
END:DAYLIGHT
BEGIN:STANDARD
TZOFFSETFROM:-0300
TZOFFSETTO:-0400
TZNAME:AST
DTSTART:20241103T050000
END:STANDARD
BEGIN:DAYLIGHT
TZOFFSETFROM:-0400
TZOFFSETTO:-0300
TZNAME:ADT
DTSTART:20250309T060000
END:DAYLIGHT
BEGIN:STANDARD
TZOFFSETFROM:-0300
TZOFFSETTO:-0400
TZNAME:AST
DTSTART:20251102T050000
END:STANDARD
BEGIN:DAYLIGHT
TZOFFSETFROM:-0400
TZOFFSETTO:-0300
TZNAME:ADT
DTSTART:20260308T060000
END:DAYLIGHT
BEGIN:STANDARD
TZOFFSETFROM:-0300
TZOFFSETTO:-0400
TZNAME:AST
DTSTART:20261101T050000
END:STANDARD
END:VTIMEZONE
BEGIN:VEVENT
DTSTART;TZID=America/Halifax:20250522T173000
DTEND;TZID=America/Halifax:20250522T203000
DTSTAMP:20260423T080157
CREATED:20250114T225946Z
LAST-MODIFIED:20250522T223838Z
UID:2564620-1747935000-1747945800@carletonnorth.com
SUMMARY:Rockwall Drop-ins
DESCRIPTION:Rockwall Drop-ins\nCost: $3 Adult | $2 55+\nThursdays\n1:00PM-3:00PM\n5:30PM-8:30PM\nFor more information: 506-392-6763 ext. 220
URL:https://carletonnorth.com/event/rockwall-drop-ins-143/
LOCATION:40 McCain St\, Florenceville-Bristol\, NB E7L 3J4\, Canada
CATEGORIES:Community Calendar
END:VEVENT
BEGIN:VEVENT
DTSTART;TZID=America/Halifax:20250522T130000
DTEND;TZID=America/Halifax:20250522T150000
DTSTAMP:20260423T080157
CREATED:20250114T225946Z
LAST-MODIFIED:20250521T222239Z
UID:2564619-1747918800-1747926000@carletonnorth.com
SUMMARY:Rockwall Drop-Ins
DESCRIPTION:Rockwall Drop-ins\nCost: $3 Adult | $2 55+\n506-392-6763 ext 220 for more information
URL:https://carletonnorth.com/event/rockwall-drop-ins-142/
LOCATION:R. G. “Bun” Veysey Active Living Centre\, 40 McCain Street\, Florenceville-Bristol\, NB
CATEGORIES:Community Calendar
END:VEVENT
BEGIN:VEVENT
DTSTART;TZID=America/Halifax:20250522T080000
DTEND;TZID=America/Halifax:20250522T180000
DTSTAMP:20260423T080157
CREATED:20250507T185324Z
LAST-MODIFIED:20250521T222241Z
UID:4217083-1747900800-1747936800@carletonnorth.com
SUMMARY:Yard Sale Fundraiser
DESCRIPTION:Date:  May 22\, 2025Time:  8:00AM – 6:00PMLocation:  Bannon Bible Camp\, 85 Jericho Rd\, Bannon \nStarting May 22 and open each weekend until June 21.  \nYard Sale open Thursdays and Fridays 8am to 6pm; Saturdays 8am to Noon. \nProceeds for Bannon Bible Camp.  \nContact Ruth Sawler at ruan@nbnet.nb.ca.
URL:https://carletonnorth.com/event/yard-sale-fundraiser/
LOCATION:Bannon Bible Camp\, 85 Jericho Rd\, Bannon\, NB E7L 3T1\, Canada
CATEGORIES:Community Calendar
END:VEVENT
BEGIN:VEVENT
DTSTART;TZID=America/Halifax:20250521T173000
DTEND;TZID=America/Halifax:20250521T203000
DTSTAMP:20260423T080157
CREATED:20250114T225945Z
LAST-MODIFIED:20250521T222239Z
UID:2564618-1747848600-1747859400@carletonnorth.com
SUMMARY:Rockwall Drop-in
DESCRIPTION:Rockwall Drop-ins\nCost: $3 Adult | $2 55+\n506-392-6763 ext 220 for more information
URL:https://carletonnorth.com/event/rockwall-drop-in-47/
LOCATION:40 McCain St\, Florenceville-Bristol\, NB E7L 3J4\, Canada
CATEGORIES:Community Calendar
END:VEVENT
BEGIN:VEVENT
DTSTART;TZID=America/Halifax:20250521T130000
DTEND;TZID=America/Halifax:20250521T160000
DTSTAMP:20260423T080157
CREATED:20250114T225945Z
LAST-MODIFIED:20250520T220741Z
UID:2564617-1747832400-1747843200@carletonnorth.com
SUMMARY:Senior Puzzles\, Social & Cards
DESCRIPTION:They have snacks\, tea\, and play a variation of puzzles. you can also bring puzzles to trade!\nfrom 1pm-4pm $3 for entry (55+)\nEnjoy an afternoon of card games\, snacks\, and fun!
URL:https://carletonnorth.com/event/senior-puzzles-social-cards-51/
LOCATION:40 McCain St\, Florenceville-Bristol\, NB E7L 3J4\, Canada
CATEGORIES:Community Calendar
END:VEVENT
BEGIN:VEVENT
DTSTART;TZID=America/Halifax:20250521T110000
DTEND;TZID=America/Halifax:20250521T120000
DTSTAMP:20260423T080157
CREATED:20250501T172303Z
LAST-MODIFIED:20250520T220740Z
UID:4127614-1747825200-1747828800@carletonnorth.com
SUMMARY:Senior Stretching
DESCRIPTION:Nursing Home Without Walls is offering Senior Stretching at Centreville Baptist Church at 11:00am.  This is a great opportunity to get moving and to socialize.  Includes some light seated exercise.
URL:https://carletonnorth.com/event/senior-stretching-45/
LOCATION:Centreville Baptist Church\, 756 Central St\, Centreville\, NB E7K 2L6\, Canada
CATEGORIES:Community Calendar
END:VEVENT
BEGIN:VEVENT
DTSTART;TZID=America/Halifax:20250521T100000
DTEND;TZID=America/Halifax:20250521T110000
DTSTAMP:20260423T080157
CREATED:20250501T172302Z
LAST-MODIFIED:20250520T220740Z
UID:4127613-1747821600-1747825200@carletonnorth.com
SUMMARY:Senior Stretching
DESCRIPTION:Nursing Home Without Walls is offering Senior Stretching at Shiktehawk Place at 10:00am.  This is a great opportunity to get moving and to socialize.  Includes some light seated exercise.
URL:https://carletonnorth.com/event/senior-stretching-44/
LOCATION:Shiktehawk Place
CATEGORIES:Community Calendar
END:VEVENT
BEGIN:VEVENT
DTSTART;TZID=America/Halifax:20250521T083000
DTEND;TZID=America/Halifax:20250521T103000
DTSTAMP:20260423T080157
CREATED:20250307T195549Z
LAST-MODIFIED:20250520T220740Z
UID:3323389-1747816200-1747823400@carletonnorth.com
SUMMARY:Novice Pickleball Drop-Ins
DESCRIPTION:Novice Pickleball Drop-ins\, Wednesdays from 8:30AM-10:30AMR.G. “Bun” Veysey Active Living CentreAll ages and skill levels welcomeCost: $3- Adults $2-Senior/55+ \n \nFor any questions\, please contact: \n📧 recreation@carletonnorth.com \n☎ (506) 392-6763 Ext. 220
URL:https://carletonnorth.com/event/novice-pickleball-drop-ins-86/
LOCATION:40 McCain St\, Florenceville-Bristol\, NB E7L 3J4\, Canada
CATEGORIES:Community Calendar
END:VEVENT
BEGIN:VEVENT
DTSTART;TZID=America/Halifax:20250520T180000
DTEND;TZID=America/Halifax:20250520T210000
DTSTAMP:20260423T080157
CREATED:20250310T203915Z
LAST-MODIFIED:20250520T220739Z
UID:3370378-1747764000-1747774800@carletonnorth.com
SUMMARY:Tuesday Night Bingo
DESCRIPTION:Tuesday Night Bingo February 25th –  June 17th 2025 at the Upper Kent Rec Centre.  Doors open at 6:00pm – game starts at 7:00pm.  25 cents/3 cards/ toonie #/ final game winner takes all.  For more information\, check out Upper Kent Recreation Centre facebook page
URL:https://carletonnorth.com/event/tuesday-night-bingo-26/
LOCATION:240 Upper Kent Rd\, Upper Kent\, NB E7J 2E6\, Canada
CATEGORIES:Community Calendar
END:VEVENT
BEGIN:VEVENT
DTSTART;TZID=America/Halifax:20250520T173000
DTEND;TZID=America/Halifax:20250520T203000
DTSTAMP:20260423T080157
CREATED:20250114T225944Z
LAST-MODIFIED:20250520T220739Z
UID:2564615-1747762200-1747773000@carletonnorth.com
SUMMARY:Rockwall Drop-in
DESCRIPTION:Rockwall Drop-ins\nCost: $3 Adult | $2 55+\n506-392-6763 ext 220 for more information
URL:https://carletonnorth.com/event/rockwall-drop-in-46/
LOCATION:40 McCain St\, Florenceville-Bristol\, NB E7L 3J4\, Canada
CATEGORIES:Community Calendar
END:VEVENT
BEGIN:VEVENT
DTSTART;TZID=America/Halifax:20250520T093000
DTEND;TZID=America/Halifax:20250520T113000
DTSTAMP:20260423T080157
CREATED:20250114T225943Z
LAST-MODIFIED:20250519T215325Z
UID:2564613-1747733400-1747740600@carletonnorth.com
SUMMARY:Play Group: St. Leo's Church
DESCRIPTION:The Valley Family Resource Centre: Play GroupWednesdays 9:30AM – 11:30AMSt. Leo’s Church\, 60 Perkins Way\, Florenceville-BristolUse the Side\, Basement Door entrance \nRunning from September to JuneRegistration/More Information: 506-325-2299/ heidi.homer@frc-crf.comRegistration Form: https://docs.google.com/forms/d/e/1FAIpQLSfax8DDMZzgKvN6QzkDk9UuFZ_KswBWLHKVCf1A5eAyyktzvQ/viewform
URL:https://carletonnorth.com/event/play-group-st-leos-church-19/
LOCATION:St Leo the Great’s Church\, 60 Perkins Way\, Florenceville-Bristol\, NB E7L 3H9\, Canada
CATEGORIES:Community Calendar
END:VEVENT
BEGIN:VEVENT
DTSTART;TZID=America/Halifax:20250520T083000
DTEND;TZID=America/Halifax:20250520T103000
DTSTAMP:20260423T080157
CREATED:20250306T193948Z
LAST-MODIFIED:20250519T215326Z
UID:3308863-1747729800-1747737000@carletonnorth.com
SUMMARY:Drop-in Pickleball
DESCRIPTION:Tuesday & Friday Pickleball\, 8:30AM-10:30AMR.G. “Bun” Veysey Active Living CentreAll ages and skill levels welcomeCost: $3- Adults $2-Senior/55+ \nFor any questions\, please contact: \n📧 recreation@carletonnorth.com \n☎ (506) 392-6763 Ext. 220
URL:https://carletonnorth.com/event/drop-in-pickleball-186/
LOCATION:40 McCain St\, Florenceville-Bristol\, NB E7L 3J4\, Canada\, Northern Carleton Recreation Centre
CATEGORIES:Community Calendar
END:VEVENT
BEGIN:VEVENT
DTSTART;TZID=America/Halifax:20250519T184500
DTEND;TZID=America/Halifax:20250519T204500
DTSTAMP:20260423T080157
CREATED:20250307T195545Z
LAST-MODIFIED:20250519T215324Z
UID:3323387-1747680300-1747687500@carletonnorth.com
SUMMARY:Ladies Night Pickleball
DESCRIPTION:Ladies Night Pickleball\nMondays 6:45PM  – 8:45PM\nCost: $3 Adult/ $2 55+\nContact Recreation Department:  506-392-6763 ext. 220 or recreation@carletonnorth.com
URL:https://carletonnorth.com/event/ladies-night-pickleball-93/
LOCATION:R. G. “Bun” Veysey Active Living Centre\, Florenceville-Bristol\, NB
CATEGORIES:Community Calendar
END:VEVENT
BEGIN:VEVENT
DTSTART;TZID=America/Halifax:20250519T173000
DTEND;TZID=America/Halifax:20250519T203000
DTSTAMP:20260423T080157
CREATED:20250114T225942Z
LAST-MODIFIED:20250519T215325Z
UID:2564610-1747675800-1747686600@carletonnorth.com
SUMMARY:Rockwall Drop-in
DESCRIPTION:Rockwall Drop-ins\nCost: $3 Adult | $2 55+\n506-392-6763 ext 220 for more information
URL:https://carletonnorth.com/event/rockwall-drop-in-45/
LOCATION:40 McCain St\, Florenceville-Bristol\, NB E7L 3J4\, Canada
CATEGORIES:Community Calendar
END:VEVENT
BEGIN:VEVENT
DTSTART;VALUE=DATE:20250519
DTEND;VALUE=DATE:20250520
DTSTAMP:20260423T080157
CREATED:20250513T202246Z
LAST-MODIFIED:20250519T215325Z
UID:4306458-1747612800-1747699199@carletonnorth.com
SUMMARY:Community Yard Sale 2025
DESCRIPTION:Maps have been posted on the District of Carleton North Facebook Page:  https://www.facebook.com/districtofcarletonnorth/ and the District of Carleton North website:  https://carletonnorth.com/community-yard-sale-2025-maps-are-now-ready/
URL:https://carletonnorth.com/event/community-yard-sale-2025-3/
LOCATION:Centreville & Area
CATEGORIES:Community Calendar
END:VEVENT
BEGIN:VEVENT
DTSTART;VALUE=DATE:20250519
DTEND;VALUE=DATE:20250520
DTSTAMP:20260423T080157
CREATED:20250114T225942Z
LAST-MODIFIED:20250519T215324Z
UID:2564611-1747612800-1747699199@carletonnorth.com
SUMMARY:Victoria Day: Municipal Offices Closed
DESCRIPTION:
URL:https://carletonnorth.com/event/victoria-day-municipal-offices-closed/
CATEGORIES:Community Calendar
END:VEVENT
BEGIN:VEVENT
DTSTART;TZID=America/Halifax:20250518T190000
DTEND;TZID=America/Halifax:20250518T210000
DTSTAMP:20260423T080157
CREATED:20250114T225941Z
LAST-MODIFIED:20250518T213751Z
UID:2564609-1747594800-1747602000@carletonnorth.com
SUMMARY:Kin Club Bingo
DESCRIPTION:The Kin Club Weekly Bingo Takes Place every Sunday\, with door opening at 6pm and games starting at 7pm.\nCost: $10 books\, $5 books\, $1 Specials and $25 package deals and more.
URL:https://carletonnorth.com/event/kin-club-bingo-72/
LOCATION:Florenceville Kin Center\, 381 Centreville Rd\, Florenceville-Bristol\, NB E7L 3K5\, Canada
CATEGORIES:Community Calendar
END:VEVENT
BEGIN:VEVENT
DTSTART;TZID=America/Halifax:20250518T153000
DTEND;TZID=America/Halifax:20250518T183000
DTSTAMP:20260423T080157
CREATED:20250417T135337Z
LAST-MODIFIED:20250517T212238Z
UID:3921908-1747582200-1747593000@carletonnorth.com
SUMMARY:Rockwall Drop-ins
DESCRIPTION:Rockwall Drop-ins\nCost: $3 Adult | $2 55+\nSaturdays & Sundays\n9:00AM-12:00PM\n3:30PM-6:30PM\nFor more information: 506-392-6763 ext. 220
URL:https://carletonnorth.com/event/rockwall-drop-ins-556/
LOCATION:R. G. “Bun” Veysey Active Living Centre\, 40 McCain St\, Florenceville-Bristol\, NB E7L 3J4\, Canada
CATEGORIES:Community Calendar
END:VEVENT
BEGIN:VEVENT
DTSTART;TZID=America/Halifax:20250518T120000
DTEND;TZID=America/Halifax:20250518T130000
DTSTAMP:20260423T080157
CREATED:20250501T172259Z
LAST-MODIFIED:20250517T212238Z
UID:4127612-1747569600-1747573200@carletonnorth.com
SUMMARY:Heat Preparedness Education Session
DESCRIPTION:Glassville Rec Centre\nNHWW will have lots of info on how to stay cool during ‘extreme heat’ events\, we will have FREE cool-kits available and you can enroll in our FREE ‘heat check-in’ program. Come find out what NHWW is doing this summer to assist older persons in your community.\nFor more information call 506-278-3197
URL:https://carletonnorth.com/event/heat-preparedness-education-session-3/
LOCATION:1429 NB-580\, Glassville\, NB E7L 1A8\, Canada
CATEGORIES:Community Calendar
END:VEVENT
BEGIN:VEVENT
DTSTART;TZID=America/Halifax:20250518T090000
DTEND;TZID=America/Halifax:20250518T120000
DTSTAMP:20260423T080157
CREATED:20250417T135336Z
LAST-MODIFIED:20250517T212238Z
UID:3921907-1747558800-1747569600@carletonnorth.com
SUMMARY:Rockwall Drop-ins
DESCRIPTION:Rockwall Drop-ins\nCost: $3 Adult | $2 55+\nSaturdays & Sundays\n9:00AM-12:00PM\n3:30PM-6:30PM\nFor more information: 506-392-6763 ext. 220
URL:https://carletonnorth.com/event/rockwall-drop-ins-555/
LOCATION:R. G. “Bun” Veysey Active Living Centre\, 40 McCain St\, Florenceville-Bristol\, NB E7L 3J4\, Canada
CATEGORIES:Community Calendar
END:VEVENT
BEGIN:VEVENT
DTSTART;VALUE=DATE:20250518
DTEND;VALUE=DATE:20250519
DTSTAMP:20260423T080157
CREATED:20250513T202244Z
LAST-MODIFIED:20250518T213751Z
UID:4306456-1747526400-1747612799@carletonnorth.com
SUMMARY:Community Yard Sale 2025
DESCRIPTION:Maps have been posted on the District of Carleton North Facebook Page: https://www.facebook.com/districtofcarletonnorth/ and the District of Carleton North website:   https://carletonnorth.com/community-yard-sale-2025-maps-are-now-ready/
URL:https://carletonnorth.com/event/community-yard-sale-2025-2/
LOCATION:Aberdeen ( Gordonsville – Juniper)
CATEGORIES:Community Calendar
END:VEVENT
BEGIN:VEVENT
DTSTART;TZID=America/Halifax:20250517T153000
DTEND;TZID=America/Halifax:20250517T183000
DTSTAMP:20260423T080157
CREATED:20250417T135335Z
LAST-MODIFIED:20250517T212236Z
UID:3921906-1747495800-1747506600@carletonnorth.com
SUMMARY:Rockwall Drop-ins
DESCRIPTION:Rockwall Drop-ins\nCost: $3 Adult | $2 55+\nSaturdays & Sundays\n9:00AM-12:00PM\n3:30PM-6:30PM\nFor more information: 506-392-6763 ext. 220
URL:https://carletonnorth.com/event/rockwall-drop-ins-554/
LOCATION:R. G. “Bun” Veysey Active Living Centre\, 40 McCain St\, Florenceville-Bristol\, NB E7L 3J4\, Canada
CATEGORIES:Community Calendar
END:VEVENT
BEGIN:VEVENT
DTSTART;TZID=America/Halifax:20250517T130000
DTEND;TZID=America/Halifax:20250517T150000
DTSTAMP:20260423T080157
CREATED:20250502T173807Z
LAST-MODIFIED:20250516T210747Z
UID:4142057-1747486800-1747494000@carletonnorth.com
SUMMARY:Weaving Workshop with Lora Lloyd
DESCRIPTION:Weaving Workshop – New Date!We’ve rescheduled our weaving workshop with Lora Lloyd to a time that works better for those who expressed interest — thank you for your feedback! \nNew Date & Time:Saturday\, May 17\, 20251:00–3:00 PM \nRiver Arts Centre\, 8746 Main Street\, Florenceville-Bristol \nSpend a relaxed afternoon learning the basics of frame loom weaving. You’ll set up your own loom and create a small\, one-of-a-kind mug rug to take home. No experience needed\, and all materials are included. \n$25 per person \nTo register or find out more\, give us a call at 506-392-6769\, or send us an email: info@mccainartgallery.com \nWe’re looking forward to a creative afternoon — we hope you can join us!
URL:https://carletonnorth.com/event/weaving-workshop-with-lora-lloyd/
LOCATION:8746 Main St\, Florenceville-Bristol\, NB E7L 3G5\, Canada
CATEGORIES:Community Calendar
END:VEVENT
BEGIN:VEVENT
DTSTART;TZID=America/Halifax:20250517T090000
DTEND;TZID=America/Halifax:20250517T120000
DTSTAMP:20260423T080157
CREATED:20250417T135334Z
LAST-MODIFIED:20250516T210747Z
UID:3921905-1747472400-1747483200@carletonnorth.com
SUMMARY:Rockwall Drop-ins
DESCRIPTION:Rockwall Drop-ins\nCost: $3 Adult | $2 55+\nSaturdays & Sundays\n9:00AM-12:00PM\n3:30PM-6:30PM\nFor more information: 506-392-6763 ext. 220
URL:https://carletonnorth.com/event/rockwall-drop-ins-553/
LOCATION:R. G. “Bun” Veysey Active Living Centre\, 40 McCain St\, Florenceville-Bristol\, NB E7L 3J4\, Canada
CATEGORIES:Community Calendar
END:VEVENT
BEGIN:VEVENT
DTSTART;TZID=America/Halifax:20250517T080000
DTEND;TZID=America/Halifax:20250517T110000
DTSTAMP:20260423T080157
CREATED:20250424T153821Z
LAST-MODIFIED:20250516T210747Z
UID:4025435-1747468800-1747479600@carletonnorth.com
SUMMARY:Breakfast at Juniper Community Centre
DESCRIPTION:Don’t forget to join us for Breakfast  from 8am – 11am at the Juniper Community Centre.   Great company and a fantastic way to start your weekend. Everyone is welcome—bring your family\, friends\, and neighbors! 💛 \nBring someone who needs a delicious Saturday morning pick-me-up! 🍳🥓 \n#CommunityBreakfast #SaturdayVibes #GoodFoodGoodCompany \nhttps://www.facebook.com/JCC506
URL:https://carletonnorth.com/event/breakfast-at-juniper-community-centre-4/
LOCATION:Juniper Community Centre\, 267 Juniper Rd\, Juniper\, NB E7L 1H1\, Canada
CATEGORIES:Community Calendar
END:VEVENT
BEGIN:VEVENT
DTSTART;VALUE=DATE:20250517
DTEND;VALUE=DATE:20250518
DTSTAMP:20260423T080157
CREATED:20250508T190839Z
LAST-MODIFIED:20250517T212237Z
UID:4231534-1747440000-1747526399@carletonnorth.com
SUMMARY:Community Yard Sale 2025
DESCRIPTION:Maps have been posted on the District of Carleton North Facebook Page: https://www.facebook.com/districtofcarletonnorth/ and the District of Carleton North website https://carletonnorth.com/community-yard-sale-2025-maps-are-now-ready/
URL:https://carletonnorth.com/event/community-yard-sale-2025/
LOCATION:Florenceville-Bristol & Bath
CATEGORIES:Community Calendar
END:VEVENT
BEGIN:VEVENT
DTSTART;TZID=America/Halifax:20250516T180000
DTEND;TZID=America/Halifax:20250516T210000
DTSTAMP:20260423T080157
CREATED:20250424T153821Z
LAST-MODIFIED:20250516T210745Z
UID:4025434-1747418400-1747429200@carletonnorth.com
SUMMARY:Friday Night Social at Upper Kent Rec
DESCRIPTION:Friday Night Social at The Upper Kent Rec Centre \nFridays: 6:00PM – 9:00PM \nEntry by DonationFollow on Facebook for the weekly menu at https://www.facebook.com/profile.php?id=100082114163442
URL:https://carletonnorth.com/event/friday-night-social-at-upper-kent-rec-4/
LOCATION:Upper Kent Recreation Centre\, 240 Upper Kent Rd\, Upper Kent\, NB E7J 2E6\, Canada
CATEGORIES:Community Calendar
END:VEVENT
BEGIN:VEVENT
DTSTART;TZID=America/Halifax:20250516T173000
DTEND;TZID=America/Halifax:20250516T203000
DTSTAMP:20260423T080157
CREATED:20250501T172258Z
LAST-MODIFIED:20250516T210746Z
UID:4127611-1747416600-1747427400@carletonnorth.com
SUMMARY:Rock Wall Drop-Ins
DESCRIPTION:Rockwall Drop-insCost: $3 Adult | $2 55+ \n For more information: 506-392-6763 ext. 220
URL:https://carletonnorth.com/event/rock-wall-drop-ins-3/
LOCATION:R. G. “Bun” Veysey Active Living Centre\, 40 McCain St\, Florenceville-Bristol\, NB E7L 3J4\, Canada
CATEGORIES:Community Calendar
END:VEVENT
BEGIN:VEVENT
DTSTART;TZID=America/Halifax:20250516T133000
DTEND;TZID=America/Halifax:20250516T150000
DTSTAMP:20260423T080157
CREATED:20250501T172257Z
LAST-MODIFIED:20250515T205317Z
UID:4127610-1747402200-1747407600@carletonnorth.com
SUMMARY:Hearing Screening Clinic
DESCRIPTION:A FREE hearing screening clinic for any child ages 3-5 years in the District of Carleton North who has not had their hearing tested. This event is being held at the Andrew and Laura McCain Library\, you can schedule an appointment\, but walk-ins are welcome.
URL:https://carletonnorth.com/event/hearing-screening-clinic/
LOCATION:8 McCain St\, Florenceville-Bristol\, NB E7L 3G8\, Canada
CATEGORIES:Community Calendar
END:VEVENT
BEGIN:VEVENT
DTSTART;TZID=America/Halifax:20250516T103000
DTEND;TZID=America/Halifax:20250516T113000
DTSTAMP:20260423T080157
CREATED:20250401T095412Z
LAST-MODIFIED:20250515T205316Z
UID:3684267-1747391400-1747395000@carletonnorth.com
SUMMARY:Talk With Me:  Song & Rhymes
DESCRIPTION:Come play\, learn and grow together!  Fun and engaging activities for children aged birth-5 years.  Activities include story time and singing\, arts and crafts.\nFor more information and to register call 1-866-423-8800 or visit Talk With Me Program – Woodstock facebook page.
URL:https://carletonnorth.com/event/talk-with-me-song-rhymes-7/
LOCATION:Andrew & Laura McCain Public Library\, 8 McCain St\, Florenceville-Bristol\, NB E7L 3H6\, Canada
CATEGORIES:Community Calendar
END:VEVENT
END:VCALENDAR