BEGIN:VCALENDAR
VERSION:2.0
PRODID:-//District of Carleton North - ECPv6.15.20//NONSGML v1.0//EN
CALSCALE:GREGORIAN
METHOD:PUBLISH
X-WR-CALNAME:District of Carleton North
X-ORIGINAL-URL:https://carletonnorth.com
X-WR-CALDESC:Events for District of Carleton North
REFRESH-INTERVAL;VALUE=DURATION:PT1H
X-Robots-Tag:noindex
X-PUBLISHED-TTL:PT1H
BEGIN:VTIMEZONE
TZID:America/Halifax
BEGIN:DAYLIGHT
TZOFFSETFROM:-0400
TZOFFSETTO:-0300
TZNAME:ADT
DTSTART:20240310T060000
END:DAYLIGHT
BEGIN:STANDARD
TZOFFSETFROM:-0300
TZOFFSETTO:-0400
TZNAME:AST
DTSTART:20241103T050000
END:STANDARD
BEGIN:DAYLIGHT
TZOFFSETFROM:-0400
TZOFFSETTO:-0300
TZNAME:ADT
DTSTART:20250309T060000
END:DAYLIGHT
BEGIN:STANDARD
TZOFFSETFROM:-0300
TZOFFSETTO:-0400
TZNAME:AST
DTSTART:20251102T050000
END:STANDARD
BEGIN:DAYLIGHT
TZOFFSETFROM:-0400
TZOFFSETTO:-0300
TZNAME:ADT
DTSTART:20260308T060000
END:DAYLIGHT
BEGIN:STANDARD
TZOFFSETFROM:-0300
TZOFFSETTO:-0400
TZNAME:AST
DTSTART:20261101T050000
END:STANDARD
END:VTIMEZONE
BEGIN:VEVENT
DTSTART;VALUE=DATE:20250901
DTEND;VALUE=DATE:20250902
DTSTAMP:20260422T185006
CREATED:20250826T180926Z
LAST-MODIFIED:20250901T193840Z
UID:5845337-1756684800-1756771199@carletonnorth.com
SUMMARY:Labour Day - Municipal Offices Closed
DESCRIPTION:
URL:https://carletonnorth.com/event/labour-day-municipal-offices-closed-2/
CATEGORIES:Community Calendar
END:VEVENT
BEGIN:VEVENT
DTSTART;TZID=America/Halifax:20250831T190000
DTEND;TZID=America/Halifax:20250831T210000
DTSTAMP:20260422T185006
CREATED:20250826T180934Z
LAST-MODIFIED:20250831T192631Z
UID:5845338-1756666800-1756674000@carletonnorth.com
SUMMARY:Kin Club Bingo
DESCRIPTION:Kin Club BingoDate:  Weekly on SundayTime:  7:00PM – 9:00PMLocation:  Florenceville Kin Centre\, 381 Centreville Rd. Florenceville-Bristol \nThe Kin Club Weekly Bingo Takes Place every Sunday\, with door opening at 6pm and games starting at 7pm.Cost: $10 books\, $5 books\, $1 Specials and $25 package deals and more.
URL:https://carletonnorth.com/event/kin-club-bingo-76/
LOCATION:Florenceville Kin Center\, 381 Centreville Rd\, Florenceville-Bristol\, NB E7L 3K5\, Canada
CATEGORIES:Community Calendar
END:VEVENT
BEGIN:VEVENT
DTSTART;TZID=America/Halifax:20250831T090000
DTEND;TZID=America/Halifax:20250831T130000
DTSTAMP:20260422T185006
CREATED:20250826T180913Z
LAST-MODIFIED:20250830T190744Z
UID:5845335-1756630800-1756645200@carletonnorth.com
SUMMARY:Bath Firemen's Brunch
DESCRIPTION:Bath Firemen’s BrunchDate:  August 31\, 2025Time:  9:00AM – 1:00PMLocation:  125 Church Street\, Bath \nIt’s that time of year again!  Enjoy a delicious breakfast and help support the Bath Fire Department.   \nCost is by donation.  Takeout is available! \nProceeds will go towards the purchase of a battery operated Spreader (part of the jaws of life).
URL:https://carletonnorth.com/event/bath-firemens-brunch/
LOCATION:125 Church St\, Bath\, NB E7J 1A4\, Canada
CATEGORIES:Community Calendar
END:VEVENT
BEGIN:VEVENT
DTSTART;TZID=America/Halifax:20250830T140000
DTEND;TZID=America/Halifax:20250830T160000
DTSTAMP:20260422T185006
CREATED:20250826T180905Z
LAST-MODIFIED:20250829T185333Z
UID:5845333-1756562400-1756569600@carletonnorth.com
SUMMARY:Juniper Community Centre Jamboree
DESCRIPTION:Juniper Community Centre Jamboree2:00PM to 4:00PMThe last Saturday of the Month: follow https://www.facebook.com/JCC506 on Facebook \n \nLive Music by local performers  \nLight Lunch to share with friends and neighbors  \nDoor Prizes for a little extra excitement  \n50/50 Draw – Try your luck and support a great cause!  \nAdmission: By donation – Your contributions help support our community efforts! \nBring your family\, invite your friends\, and let’s make it an afternoon to remember! \nEmail: junipercommunitycentre@gmail.comjunipercc.ca
URL:https://carletonnorth.com/event/juniper-community-centre-jamboree-5/
LOCATION:Juniper Community Centre\, 267 Juniper Rd\, Juniper\, NB E7L 1H1\, Canada
CATEGORIES:Community Calendar
END:VEVENT
BEGIN:VEVENT
DTSTART;TZID=America/Halifax:20250830T140000
DTEND;TZID=America/Halifax:20250830T160000
DTSTAMP:20260422T185006
CREATED:20250713T231050Z
LAST-MODIFIED:20250830T112253Z
UID:5199120-1756562400-1756569600@carletonnorth.com
SUMMARY:Public Swim
DESCRIPTION:Public Swim Tuesday\, Wednesday\, Friday\, Saturday and SundayTime:  2:00PM – 4:00PMLocation:  All Pools                   Florenceville-Bristol Pool:  40 McCain Street                   Centreville Pool:  751 Central Street                   Bath Pool:  128 School StreetCost:  $2
URL:https://carletonnorth.com/event/public-swim-41/
CATEGORIES:Pool Schedule
END:VEVENT
BEGIN:VEVENT
DTSTART;TZID=America/Halifax:20250830T080000
DTEND;TZID=America/Halifax:20250830T110000
DTSTAMP:20260422T185006
CREATED:20250826T180858Z
LAST-MODIFIED:20250829T185333Z
UID:5845332-1756540800-1756551600@carletonnorth.com
SUMMARY:Breakfast at Juniper Community Centre
DESCRIPTION:Breakfast at Juniper Community CentreDate: Weekly on SaturdayTime:  8:00AM – 11:00AMLocation:  Juniper Community Centre\, 267 Juniper Rd\, Juniper \nDon’t forget to join us for Breakfast  from 8am – 11am at the Juniper Community Centre.   Great company and a fantastic way to start your weekend. Everyone is welcome—bring your family\, friends\, and neighbors! 💛 \nBring someone who needs a delicious Saturday morning pick-me-up! 🍳🥓 \n#CommunityBreakfast #SaturdayVibes #GoodFoodGoodCompany \nhttps://www.facebook.com/JCC506
URL:https://carletonnorth.com/event/breakfast-at-juniper-community-centre-18/
LOCATION:Juniper Community Centre\, 267 Juniper Rd\, Juniper\, NB E7L 1H1\, Canada
CATEGORIES:Community Calendar
END:VEVENT
BEGIN:VEVENT
DTSTART;TZID=America/Halifax:20250829T140000
DTEND;TZID=America/Halifax:20250829T160000
DTSTAMP:20260422T185006
CREATED:20250713T231050Z
LAST-MODIFIED:20250829T110800Z
UID:5199119-1756476000-1756483200@carletonnorth.com
SUMMARY:Public Swim
DESCRIPTION:Public Swim Tuesday\, Wednesday\, Friday\, Saturday and SundayTime:  2:00PM – 4:00PMLocation:  All Pools                   Florenceville-Bristol Pool:  40 McCain Street                   Centreville Pool:  751 Central Street                   Bath Pool:  128 School StreetCost:  $2
URL:https://carletonnorth.com/event/public-swim-40/
CATEGORIES:Pool Schedule
END:VEVENT
BEGIN:VEVENT
DTSTART;TZID=America/Halifax:20250828T183000
DTEND;TZID=America/Halifax:20250828T200000
DTSTAMP:20260422T185006
CREATED:20250826T180838Z
LAST-MODIFIED:20250828T183938Z
UID:5845329-1756405800-1756411200@carletonnorth.com
SUMMARY:Brazilian Jiu Jitsu For beginners (Age 10+)
DESCRIPTION:Brazilian Jiu Jitsu For beginners (Age 10+)Date:  Weekly every Tuesday & Thursday in June\, July  & AugustTime:  6:30PM – 8:00PMLocation:  6 Welch Street\, Florenceville-Bristol – Pure Therapy \nCost:  $20 covers both Tuesday and Thursday classes for the weekOr $20 per drop-in class \nSign Up Online:  puretherapy.ca
URL:https://carletonnorth.com/event/brazilian-jiu-jitsu-for-beginners-age-10-22/
LOCATION:6 Welch St\, Florenceville-Bristol\, NB E7L 2E4\, Canada
CATEGORIES:Community Calendar
END:VEVENT
BEGIN:VEVENT
DTSTART;TZID=America/Halifax:20250828T180000
DTEND;TZID=America/Halifax:20250828T200000
DTSTAMP:20260422T185006
CREATED:20250826T180831Z
LAST-MODIFIED:20250828T183937Z
UID:5845328-1756404000-1756411200@carletonnorth.com
SUMMARY:Clay Handbuilding - Veterans Night
DESCRIPTION:Whether you’ve got a current project or are a brand-newbie wanting to explore clay\, join instructor Jenna Ross & other friendly clay-lovers for a casual evening of creativity at the River Art Centre & Studios. \nNo registration required. Basic instruction is provided to get you started. ….Bring your ideas\, gusto\, project dreams & we’ll see what happens! \nFee to attend each Drop-in is $5 per person. The first (bisque) firing of any pot you decide to keep costs $10 each piece. Then Glazing costs an additional $10 each piece. \nChildren aged 7-14 welcome to participate if accompanied by an adult. No experience necessary\, just an openness to try! See you there! \nFor more information contact the Gallery. info@mccainartgallery.com 506-392-6769
URL:https://carletonnorth.com/event/clay-handbuilding-veterans-night-5/
LOCATION:8746 Main St\, Florenceville-Bristol\, NB E7L 3G5\, Canada
CATEGORIES:Community Calendar
END:VEVENT
BEGIN:VEVENT
DTSTART;TZID=America/Halifax:20250828T180000
DTEND;TZID=America/Halifax:20250828T190000
DTSTAMP:20260422T185006
CREATED:20250713T231050Z
LAST-MODIFIED:20250828T105335Z
UID:5199118-1756404000-1756407600@carletonnorth.com
SUMMARY:Adult Lap - All Pools
DESCRIPTION:Adult LapDate: Weekly on ThursdaysTime:  6:00PM – 7:00PMLocation:  All Pools                   Florenceville-Bristol Pool:  40 McCain Street                   Centreville Pool:  751 Central Street                   Bath Pool:  128 School StreetCost:  $2
URL:https://carletonnorth.com/event/adult-lap-all-pools-9/
CATEGORIES:Pool Schedule
END:VEVENT
BEGIN:VEVENT
DTSTART;TZID=America/Halifax:20250828T090000
DTEND;TZID=America/Halifax:20250828T120000
DTSTAMP:20260422T185006
CREATED:20250713T231049Z
LAST-MODIFIED:20250828T105334Z
UID:5199117-1756371600-1756382400@carletonnorth.com
SUMMARY:Morning Swimming Lessons - All Pools
DESCRIPTION:Swimming Lesson SessionsMorning Lessons:  Monday – ThursdayJune 30 – July 17July 21 – August 7August 11 – August 28 \nPool Locations \nFlorenceville-Bristol Pool:  40 McCain StreetCentreville Pool:  751 Central StreetBath Pool:  128 School Street
URL:https://carletonnorth.com/event/morning-swimming-lessons-all-pools-27/
CATEGORIES:Pool Schedule
END:VEVENT
BEGIN:VEVENT
DTSTART;VALUE=DATE:20250828
DTEND;VALUE=DATE:20250902
DTSTAMP:20260422T185006
CREATED:20250826T180947Z
LAST-MODIFIED:20250901T193840Z
UID:5845340-1756339200-1756771199@carletonnorth.com
SUMMARY:River Bend Balloon Festival
DESCRIPTION:River Bend Balloon Festival Date:  Aug 28 – Sept 1Location:  Bath Fairgrounds\, 200 Main St. Bath\, NB \nJoin us in the heart of Bath\, New Brunswick for a one-of-a-kind celebration where hot air balloons fill the skies and community spirit fills the air. Whether you’re here for the breathtaking balloon launches\, live entertainment\, or family-friendly fun on the fairgrounds\, the River Bend Balloon Fest has something for everyone. Come early\, stay late\, and make memories that will last a lifetime. \nFor detailed information visit the River Bend Festivals Facebook page or the River Bend Festivals website.
URL:https://carletonnorth.com/event/river-bend-balloon-festival/
LOCATION:200 Main St\, Bath\, NB E7L 2B6\, Canada
CATEGORIES:Community Calendar
END:VEVENT
BEGIN:VEVENT
DTSTART;TZID=America/Halifax:20250827T183000
DTEND;TZID=America/Halifax:20250827T193000
DTSTAMP:20260422T185006
CREATED:20250826T180822Z
LAST-MODIFIED:20250827T182228Z
UID:5845327-1756319400-1756323000@carletonnorth.com
SUMMARY:Wednesday Music at the Gazebo
DESCRIPTION:Wednesday at the GazeboTIME: 6:30PM TO 8:30PMEvery Wednesday in July and AugustSchedule to be posted on www.carletonnorth.com \nFor updates: https://www.facebook.com/exploredistrictofcarletonnorth
URL:https://carletonnorth.com/event/wednesday-music-at-the-gazebo-5/
LOCATION:Centreville Gazebo\, 751 Central Street\, Centreville\, NB
CATEGORIES:Community Calendar
END:VEVENT
BEGIN:VEVENT
DTSTART;TZID=America/Halifax:20250827T140000
DTEND;TZID=America/Halifax:20250827T160000
DTSTAMP:20260422T185006
CREATED:20250713T231049Z
LAST-MODIFIED:20250827T105239Z
UID:5199116-1756303200-1756310400@carletonnorth.com
SUMMARY:Public Swim
DESCRIPTION:Public Swim Tuesday\, Wednesday\, Friday\, Saturday and SundayTime:  2:00PM – 4:00PMLocation:  All Pools                   Florenceville-Bristol Pool:  40 McCain Street                   Centreville Pool:  751 Central Street                   Bath Pool:  128 School StreetCost:  $2
URL:https://carletonnorth.com/event/public-swim-39/
CATEGORIES:Pool Schedule
END:VEVENT
BEGIN:VEVENT
DTSTART;TZID=America/Halifax:20250827T130000
DTEND;TZID=America/Halifax:20250827T160000
DTSTAMP:20260422T185006
CREATED:20250826T180815Z
LAST-MODIFIED:20250827T182228Z
UID:5845326-1756299600-1756310400@carletonnorth.com
SUMMARY:Senior Puzzles\, Social & Cards
DESCRIPTION:Senior Puzzles\, Social & CardsDate:  Weekly on WednesdaysTime:  1:00PM – 4:00PMLocation:  R.G. ‘Bun’ Veysey Active Living Centre\,  40 McCain St. Florenceville-Bristol \nEnjoy an afternoon of card games\, snacks\, tea and fun!  Play a variation of puzzles. Feel free to bring puzzles to trade! \nCost:   $3 for entry (55+)
URL:https://carletonnorth.com/event/senior-puzzles-social-cards-64/
LOCATION:40 McCain St\, Florenceville-Bristol\, NB E7L 3J4\, Canada
CATEGORIES:Community Calendar
END:VEVENT
BEGIN:VEVENT
DTSTART;TZID=America/Halifax:20250827T111500
DTEND;TZID=America/Halifax:20250827T121500
DTSTAMP:20260422T185006
CREATED:20250826T180808Z
LAST-MODIFIED:20250826T180808Z
UID:5845325-1756293300-1756296900@carletonnorth.com
SUMMARY:Senior Stretching
DESCRIPTION:Date:  Weekly Every Wednesday in JuneTime:  11:15AM – 12:15PMLocation:  Centreville Baptist ChurchEvent Details: \nNursing Home Without Walls is offering Senior Stretching at Centreville Baptist at 11:15am.  This is a great opportunity to get moving and to socialize.  Includes some light seated exercise with NHWW staff. \nFor more information or to join contact NHWW (506) 278-3197
URL:https://carletonnorth.com/event/senior-stretching-81/
LOCATION:Shiktehawk Place
CATEGORIES:Community Calendar
END:VEVENT
BEGIN:VEVENT
DTSTART;TZID=America/Halifax:20250827T100000
DTEND;TZID=America/Halifax:20250827T110000
DTSTAMP:20260422T185006
CREATED:20250826T180800Z
LAST-MODIFIED:20250826T180800Z
UID:5845324-1756288800-1756292400@carletonnorth.com
SUMMARY:Senior Stretching
DESCRIPTION:Date:  Weekly Every Wednesday in JulyTime:  10:00AM – 11:00AMLocation:  Shiktehawk Place \nEvent Details: \nNursing Home Without Walls is offering Senior Stretching at Shiktehawk Place at 10:00am.  This is a great opportunity to get moving and to socialize.  Includes some light seated exercise. \nFor more information or to join contact NHWW (506)278-3197
URL:https://carletonnorth.com/event/senior-stretching-80/
LOCATION:Shiktehawk Place
CATEGORIES:Community Calendar
END:VEVENT
BEGIN:VEVENT
DTSTART;TZID=America/Halifax:20250827T090000
DTEND;TZID=America/Halifax:20250827T120000
DTSTAMP:20260422T185006
CREATED:20250713T231049Z
LAST-MODIFIED:20250827T105239Z
UID:5199115-1756285200-1756296000@carletonnorth.com
SUMMARY:Morning Swimming Lessons - All Pools
DESCRIPTION:Swimming Lesson SessionsMorning Lessons:  Monday – ThursdayJune 30 – July 17July 21 – August 7August 11 – August 28 \nPool LocationsFlorenceville-Bristol Pool:  40 McCain StreetCentreville Pool:  751 Central StreetBath Pool:  128 School Street
URL:https://carletonnorth.com/event/morning-swimming-lessons-all-pools-26/
CATEGORIES:Pool Schedule
END:VEVENT
BEGIN:VEVENT
DTSTART;TZID=America/Halifax:20250826T190000
DTEND;TZID=America/Halifax:20250826T210000
DTSTAMP:20260422T185006
CREATED:20250826T180852Z
LAST-MODIFIED:20250826T180852Z
UID:5845331-1756234800-1756242000@carletonnorth.com
SUMMARY:District of Carleton North Council Meeting
DESCRIPTION:Items for Council’s consideration must be submitted to the Clerk amy.mcintosh@carletonnorht.com one week in advance of a Council meeting.
URL:https://carletonnorth.com/event/district-of-carleton-north-council-meeting-38/
LOCATION:Town Office\, 19 Station Rd\, Florenceville-Bristol\, NB E7L 3J8\, Canada
CATEGORIES:Community Calendar
END:VEVENT
BEGIN:VEVENT
DTSTART;TZID=America/Halifax:20250826T190000
DTEND;TZID=America/Halifax:20250826T200000
DTSTAMP:20260422T185006
CREATED:20250713T231048Z
LAST-MODIFIED:20250826T105503Z
UID:5199114-1756234800-1756238400@carletonnorth.com
SUMMARY:Public Swim: All Pools
DESCRIPTION:Public SwimDate:  Weekly on TuesdaysLocation:  All Pools                   Florenceville-Bristol Pool: 40 McCain Street                   Centreville Pool: 751 Central Street                   Bath Pool:128 School Street \nCost:  $2
URL:https://carletonnorth.com/event/public-swim-all-pools-9/
CATEGORIES:Pool Schedule
END:VEVENT
BEGIN:VEVENT
DTSTART;TZID=America/Halifax:20250826T183000
DTEND;TZID=America/Halifax:20250826T203000
DTSTAMP:20260422T185006
CREATED:20250826T180747Z
LAST-MODIFIED:20250826T180747Z
UID:5845322-1756233000-1756240200@carletonnorth.com
SUMMARY:Tunesday at Riverside Park
DESCRIPTION:Tunesday – Music at the GazeboNEW TIME: 6:30PM to  8:30PMRiverside Park\, Florenceville-Bristol \nJoin in the fun every Tuesday in July and August. Bring a Chair and enjoy the show.For updates follow the Tourism Facebook page:https://www.facebook.com/exploredistrictofcarletonnorthRain location: Second Wind Music Centre)
URL:https://carletonnorth.com/event/tunesday-at-riverside-park-8/
LOCATION:Riverside Park\, 9173 Main St\, Florenceville-Bristol\, NB E7L 2Y3\, Canada
CATEGORIES:Community Calendar
END:VEVENT
BEGIN:VEVENT
DTSTART;TZID=America/Halifax:20250826T183000
DTEND;TZID=America/Halifax:20250826T200000
DTSTAMP:20260422T185006
CREATED:20250826T180741Z
LAST-MODIFIED:20250826T180741Z
UID:5845321-1756233000-1756238400@carletonnorth.com
SUMMARY:Brazilian Jiu Jitsu For beginners (Age 10+)
DESCRIPTION:Brazilian Jiu Jitsu For beginners (Age 10+)Date:  Weekly every Tuesday & Thursday in June\, July  & AugustTime:  6:30PM – 8:00PMLocation:  6 Welch Street\, Florenceville-Bristol – Pure Therapy \nCost:  $20 covers both Tuesday and Thursday classes for the weekOr $20 per drop-in class \nSign Up Online:  puretherapy.ca
URL:https://carletonnorth.com/event/brazilian-jiu-jitsu-for-beginners-age-10-21/
LOCATION:6 Welch St\, Florenceville-Bristol\, NB E7L 2E4\, Canada
CATEGORIES:Community Calendar
END:VEVENT
BEGIN:VEVENT
DTSTART;TZID=America/Halifax:20250826T180000
DTEND;TZID=America/Halifax:20250826T190000
DTSTAMP:20260422T185006
CREATED:20250713T231048Z
LAST-MODIFIED:20250826T105502Z
UID:5199113-1756231200-1756234800@carletonnorth.com
SUMMARY:Night Swimming Lessons - All Pools
DESCRIPTION:Night Swimming LessonsSession:  July 8 – August 26Time:  6:00PM – 7:00PM Location:  All Pools                   Florenceville-Bristol Pool:  40 McCain Street                   Centreville Pool:  751 Central Street                   Bath Pool:  128 School Street \n                   
URL:https://carletonnorth.com/event/night-swimming-lessons-all-pools-16/
CATEGORIES:Pool Schedule
END:VEVENT
BEGIN:VEVENT
DTSTART;TZID=America/Halifax:20250826T173000
DTEND;TZID=America/Halifax:20250826T184500
DTSTAMP:20260422T185006
CREATED:20250713T231048Z
LAST-MODIFIED:20250826T105502Z
UID:5199112-1756229400-1756233900@carletonnorth.com
SUMMARY:Night Swimming Lessons - All Pools
DESCRIPTION:Night Swimming LessonsSession:  July 8 – August 26Time:  5:30PM – 6:45PM Location:  All Pools                   Florenceville-Bristol Pool:  40 McCain Street                   Centreville Pool:  751 Central Street                   Bath Pool:  128 School Street \n                   
URL:https://carletonnorth.com/event/night-swimming-lessons-all-pools-15/
CATEGORIES:Pool Schedule
END:VEVENT
BEGIN:VEVENT
DTSTART;TZID=America/Halifax:20250826T140000
DTEND;TZID=America/Halifax:20250826T160000
DTSTAMP:20260422T185006
CREATED:20250713T231047Z
LAST-MODIFIED:20250826T105501Z
UID:5199111-1756216800-1756224000@carletonnorth.com
SUMMARY:Public Swim
DESCRIPTION:Public Swim Tuesday\, Wednesday\, Friday\, Saturday and SundayTime:  2:00PM – 4:00PMLocation:  All Pools                   Florenceville-Bristol Pool:  40 McCain Street                   Centreville Pool:  751 Central Street                   Bath Pool:  128 School StreetCost:  $2
URL:https://carletonnorth.com/event/public-swim-38/
CATEGORIES:Pool Schedule
END:VEVENT
BEGIN:VEVENT
DTSTART;TZID=America/Halifax:20250826T123000
DTEND;TZID=America/Halifax:20250826T133000
DTSTAMP:20260422T185006
CREATED:20250713T231047Z
LAST-MODIFIED:20250826T105501Z
UID:5199110-1756211400-1756215000@carletonnorth.com
SUMMARY:Senior/Lap
DESCRIPTION:Senior/LapDate: Weekly Monday- FridayTime:  12:30PM – 1:30PMLocation:  All Pools                   Florenceville-Bristol Pool:  40 McCain Street                   Centreville Pool:  751 Central Street                   Bath Pool:  128 School StreetCost:  $2
URL:https://carletonnorth.com/event/senior-lap-24/
CATEGORIES:Pool Schedule
END:VEVENT
BEGIN:VEVENT
DTSTART;TZID=America/Halifax:20250826T090000
DTEND;TZID=America/Halifax:20250826T120000
DTSTAMP:20260422T185006
CREATED:20250713T231047Z
LAST-MODIFIED:20250826T105500Z
UID:5199109-1756198800-1756209600@carletonnorth.com
SUMMARY:Lessons - All Pools
DESCRIPTION:Swimming Lesson SessionsMorning Lessons:  Monday – ThursdayJune 30 – July 17July 21 – August 7August 11 – August 28 \nNight Lessons:  Tuesday NightJuly 8 – August 26
URL:https://carletonnorth.com/event/lessons-all-pools-8/
CATEGORIES:Pool Schedule
END:VEVENT
BEGIN:VEVENT
DTSTART;VALUE=DATE:20250826
DTEND;VALUE=DATE:20250827
DTSTAMP:20260422T185006
CREATED:20250826T180753Z
LAST-MODIFIED:20250826T180753Z
UID:5845323-1756166400-1756252799@carletonnorth.com
SUMMARY:Grocery Run/Night Market Visit
DESCRIPTION:Grocery Run/Night Market Visit – Nursing Home Without Walls (NHWW)Date:  August 26\, 2025Location:  Woodstock \nCome & join NHWW for a monthly grocery run and visit to the night market.  Travel is provided on the manor bus\, leaving in the afternoon.  Visit grocery stores\, the night market and supper out.   \nLimited seating.  Must pre-register by calling: (506) 278-3197
URL:https://carletonnorth.com/event/grocery-run-night-market-visit/
LOCATION:Woodstock\, NB\, Canada
CATEGORIES:Community Calendar
END:VEVENT
BEGIN:VEVENT
DTSTART;TZID=America/Halifax:20250825T190000
DTEND;TZID=America/Halifax:20250825T200000
DTSTAMP:20260422T185006
CREATED:20250713T231047Z
LAST-MODIFIED:20250825T105303Z
UID:5199108-1756148400-1756152000@carletonnorth.com
SUMMARY:Free Swim - All Pools
DESCRIPTION:Free SwimDate:  Weekly on MondaysTime:  7:00PM -8:00PMLocation:  All Pools                   Florenceville-Bristol Pool:  40 McCain Street                   Centreville Pool:  751 Central Street                   Bath Pool:  128 School Street \nFree Swim Donated by Florenceville Rotary Club
URL:https://carletonnorth.com/event/free-swim-all-pools-34/
CATEGORIES:Pool Schedule
END:VEVENT
BEGIN:VEVENT
DTSTART;TZID=America/Halifax:20250825T180000
DTEND;TZID=America/Halifax:20250825T190000
DTSTAMP:20260422T185006
CREATED:20250713T231046Z
LAST-MODIFIED:20250825T105302Z
UID:5199107-1756144800-1756148400@carletonnorth.com
SUMMARY:Swim Team
DESCRIPTION:Swim TeamDate:  Weekly on Mon/Wed/FriTime:  6:00PM – 7:00PMLocation:  All Pools \nPool Locations:Florenceville-Bristol Pool:  40 McCain StreetCentreville Pool:  751 Central StreetBath Pool:  128 School Street
URL:https://carletonnorth.com/event/swim-team-18/
CATEGORIES:Pool Schedule
END:VEVENT
END:VCALENDAR