BEGIN:VCALENDAR
VERSION:2.0
PRODID:-//District of Carleton North - ECPv6.15.20//NONSGML v1.0//EN
CALSCALE:GREGORIAN
METHOD:PUBLISH
X-ORIGINAL-URL:https://carletonnorth.com
X-WR-CALDESC:Events for District of Carleton North
REFRESH-INTERVAL;VALUE=DURATION:PT1H
X-Robots-Tag:noindex
X-PUBLISHED-TTL:PT1H
BEGIN:VTIMEZONE
TZID:America/Halifax
BEGIN:DAYLIGHT
TZOFFSETFROM:-0400
TZOFFSETTO:-0300
TZNAME:ADT
DTSTART:20240310T060000
END:DAYLIGHT
BEGIN:STANDARD
TZOFFSETFROM:-0300
TZOFFSETTO:-0400
TZNAME:AST
DTSTART:20241103T050000
END:STANDARD
BEGIN:DAYLIGHT
TZOFFSETFROM:-0400
TZOFFSETTO:-0300
TZNAME:ADT
DTSTART:20250309T060000
END:DAYLIGHT
BEGIN:STANDARD
TZOFFSETFROM:-0300
TZOFFSETTO:-0400
TZNAME:AST
DTSTART:20251102T050000
END:STANDARD
BEGIN:DAYLIGHT
TZOFFSETFROM:-0400
TZOFFSETTO:-0300
TZNAME:ADT
DTSTART:20260308T060000
END:DAYLIGHT
BEGIN:STANDARD
TZOFFSETFROM:-0300
TZOFFSETTO:-0400
TZNAME:AST
DTSTART:20261101T050000
END:STANDARD
END:VTIMEZONE
BEGIN:VEVENT
DTSTART;TZID=America/Halifax:20250819T190000
DTEND;TZID=America/Halifax:20250819T200000
DTSTAMP:20260422T184715
CREATED:20250713T231039Z
LAST-MODIFIED:20250819T102352Z
UID:5199086-1755630000-1755633600@carletonnorth.com
SUMMARY:Public Swim: All Pools
DESCRIPTION:Public SwimDate:  Weekly on TuesdaysLocation:  All Pools                   Florenceville-Bristol Pool: 40 McCain Street                   Centreville Pool: 751 Central Street                   Bath Pool:128 School Street \nCost:  $2
URL:https://carletonnorth.com/event/public-swim-all-pools-8/
CATEGORIES:Pool Schedule
END:VEVENT
BEGIN:VEVENT
DTSTART;TZID=America/Halifax:20250820T090000
DTEND;TZID=America/Halifax:20250820T120000
DTSTAMP:20260422T184715
CREATED:20250713T231040Z
LAST-MODIFIED:20250820T103757Z
UID:5199088-1755680400-1755691200@carletonnorth.com
SUMMARY:Morning Swimming Lessons - All Pools
DESCRIPTION:Swimming Lesson SessionsMorning Lessons:  Monday – ThursdayJune 30 – July 17July 21 – August 7August 11 – August 28 \nPool LocationsFlorenceville-Bristol Pool:  40 McCain StreetCentreville Pool:  751 Central StreetBath Pool:  128 School Street
URL:https://carletonnorth.com/event/morning-swimming-lessons-all-pools-23/
CATEGORIES:Pool Schedule
END:VEVENT
BEGIN:VEVENT
DTSTART;TZID=America/Halifax:20250820T123000
DTEND;TZID=America/Halifax:20250820T133000
DTSTAMP:20260422T184715
CREATED:20250713T231040Z
LAST-MODIFIED:20250820T103757Z
UID:5199089-1755693000-1755696600@carletonnorth.com
SUMMARY:Senior/Lap
DESCRIPTION:Senior/LapDate: Weekly Monday- FridayTime:  12:30PM – 1:30PMLocation:  All Pools                   Florenceville-Bristol Pool:  40 McCain Street                   Centreville Pool:  751 Central Street                   Bath Pool:  128 School StreetCost:  $2
URL:https://carletonnorth.com/event/senior-lap-22/
CATEGORIES:Pool Schedule
END:VEVENT
BEGIN:VEVENT
DTSTART;TZID=America/Halifax:20250820T130000
DTEND;TZID=America/Halifax:20250820T160000
DTSTAMP:20260422T184715
CREATED:20250619T191723Z
LAST-MODIFIED:20250820T162548Z
UID:4841315-1755694800-1755705600@carletonnorth.com
SUMMARY:Senior Puzzles\, Social & Cards
DESCRIPTION:Senior Puzzles\, Social & CardsDate:  Weekly on WednesdaysTime:  1:00PM – 4:00PMLocation:  R.G. ‘Bun’ Veysey Active Living Centre\,  40 McCain St. Florenceville-Bristol \nEnjoy an afternoon of card games\, snacks\, tea and fun!  Play a variation of puzzles. Feel free to bring puzzles to trade! \nCost:   $3 for entry (55+)
URL:https://carletonnorth.com/event/senior-puzzles-social-cards-63/
LOCATION:40 McCain St\, Florenceville-Bristol\, NB E7L 3J4\, Canada
CATEGORIES:Community Calendar
END:VEVENT
BEGIN:VEVENT
DTSTART;TZID=America/Halifax:20250820T140000
DTEND;TZID=America/Halifax:20250820T160000
DTSTAMP:20260422T184715
CREATED:20250713T231040Z
LAST-MODIFIED:20250820T103757Z
UID:5199090-1755698400-1755705600@carletonnorth.com
SUMMARY:Public Swim
DESCRIPTION:Public Swim Tuesday\, Wednesday\, Friday\, Saturday and SundayTime:  2:00PM – 4:00PMLocation:  All Pools                   Florenceville-Bristol Pool:  40 McCain Street                   Centreville Pool:  751 Central Street                   Bath Pool:  128 School StreetCost:  $2
URL:https://carletonnorth.com/event/public-swim-34/
CATEGORIES:Pool Schedule
END:VEVENT
BEGIN:VEVENT
DTSTART;TZID=America/Halifax:20250820T180000
DTEND;TZID=America/Halifax:20250820T190000
DTSTAMP:20260422T184715
CREATED:20250713T231040Z
LAST-MODIFIED:20250820T103758Z
UID:5199091-1755712800-1755716400@carletonnorth.com
SUMMARY:Swim Team
DESCRIPTION:Swim TeamDate:  Weekly on Mon/Wed/FriTime:  6:00PM – 7:00PMLocation:  All Pools \nPool Locations:Florenceville-Bristol Pool:  40 McCain StreetCentreville Pool:  751 Central StreetBath Pool:  128 School Street
URL:https://carletonnorth.com/event/swim-team-17/
CATEGORIES:Pool Schedule
END:VEVENT
BEGIN:VEVENT
DTSTART;TZID=America/Halifax:20250820T183000
DTEND;TZID=America/Halifax:20250820T193000
DTSTAMP:20260422T184715
CREATED:20250806T145300Z
LAST-MODIFIED:20250820T162548Z
UID:5544664-1755714600-1755718200@carletonnorth.com
SUMMARY:Wednesday Music at the Gazebo
DESCRIPTION:Wednesday at the GazeboTIME: 6:30PM TO 8:30PMEvery Wednesday in July and AugustSchedule to be posted on www.carletonnorth.com \nFor updates: https://www.facebook.com/exploredistrictofcarletonnorth
URL:https://carletonnorth.com/event/wednesday-music-at-the-gazebo-11/
LOCATION:Centreville Gazebo\, 751 Central Street\, Centreville\, NB
CATEGORIES:Community Calendar
END:VEVENT
BEGIN:VEVENT
DTSTART;TZID=America/Halifax:20250821T090000
DTEND;TZID=America/Halifax:20250821T120000
DTSTAMP:20260422T184715
CREATED:20250713T231042Z
LAST-MODIFIED:20250821T103743Z
UID:5199092-1755766800-1755777600@carletonnorth.com
SUMMARY:Morning Swimming Lessons - All Pools
DESCRIPTION:Swimming Lesson SessionsMorning Lessons:  Monday – ThursdayJune 30 – July 17July 21 – August 7August 11 – August 28 \nPool Locations \nFlorenceville-Bristol Pool:  40 McCain StreetCentreville Pool:  751 Central StreetBath Pool:  128 School Street
URL:https://carletonnorth.com/event/morning-swimming-lessons-all-pools-24/
CATEGORIES:Pool Schedule
END:VEVENT
BEGIN:VEVENT
DTSTART;TZID=America/Halifax:20250821T123000
DTEND;TZID=America/Halifax:20250821T133000
DTSTAMP:20260422T184715
CREATED:20250713T231042Z
LAST-MODIFIED:20250821T103743Z
UID:5199093-1755779400-1755783000@carletonnorth.com
SUMMARY:Senior/Lap - Centreville & Florenceville-Bristol
DESCRIPTION:Senior/LapDate:  Weekly Monday- FridayTime:  12:30PM – 1:30PMLocation:  Florenceville-Bristol Pool:  40 McCain Street                   Centreville Pool:  751 Central Street                   Cost:  $2
URL:https://carletonnorth.com/event/senior-lap-centreville-florenceville-bristol-14/
CATEGORIES:Pool Schedule
END:VEVENT
BEGIN:VEVENT
DTSTART;TZID=America/Halifax:20250821T123000
DTEND;TZID=America/Halifax:20250821T133000
DTSTAMP:20260422T184715
CREATED:20250713T231042Z
LAST-MODIFIED:20250821T103744Z
UID:5199094-1755779400-1755783000@carletonnorth.com
SUMMARY:Aqua Fitness - Bath Pool
DESCRIPTION:Aqua FitnessDate:  Mondays & ThursdaysTime:  12:30PM – 1:30PMLocation:  Bath Pool:  128 School Street                   Cost:  $5 per class           \nFor more information contact Cisca Bakker at 506-273-0384
URL:https://carletonnorth.com/event/aqua-fitness-bath-pool-16/
LOCATION:128 School St\, Bath\, NB E7J 1C4\, Canada
CATEGORIES:Pool Schedule
END:VEVENT
BEGIN:VEVENT
DTSTART;TZID=America/Halifax:20250821T140000
DTEND;TZID=America/Halifax:20250821T160000
DTSTAMP:20260422T184715
CREATED:20250713T231043Z
LAST-MODIFIED:20250821T103744Z
UID:5199095-1755784800-1755792000@carletonnorth.com
SUMMARY:Free Swim: All Pools
DESCRIPTION:Florenceville-Bristol Pool: 40 McCain Street\nCentreville Pool: 751 Central Street\nBath Pool:128 School Street\nFree Swim Donated by Bath Lions Club
URL:https://carletonnorth.com/event/free-swim-all-pools-31/
CATEGORIES:Pool Schedule
END:VEVENT
BEGIN:VEVENT
DTSTART;TZID=America/Halifax:20250821T163000
DTEND;TZID=America/Halifax:20250821T173000
DTSTAMP:20260422T184715
CREATED:20250816T155253Z
LAST-MODIFIED:20250821T164019Z
UID:5691365-1755793800-1755797400@carletonnorth.com
SUMMARY:NHWW -A Guide to Facebook & Messenger
DESCRIPTION:NHWW – A Guide to Facebook & MessengerDate:  August 21\, 2025Time:  4:30PM – 5:30PMLocation:  Community Hall\, 8696 Main St\, Florenceville-Bristol \nJoin NHWW  to learn how to create a Facebook account and how to use both Facebook & Messenger with ease. \nFor more information call (506) 278-3197 OR Email:  rvmnhww@nb.aibn.com
URL:https://carletonnorth.com/event/nhww-a-guide-to-facebook-messenger/
LOCATION:8696 Main St\, Florenceville-Bristol\, NB E7L 3G8\, Canada
CATEGORIES:Community Calendar
END:VEVENT
BEGIN:VEVENT
DTSTART;TZID=America/Halifax:20250821T180000
DTEND;TZID=America/Halifax:20250821T190000
DTSTAMP:20260422T184715
CREATED:20250713T231043Z
LAST-MODIFIED:20250821T103744Z
UID:5199097-1755799200-1755802800@carletonnorth.com
SUMMARY:Adult Lap - All Pools
DESCRIPTION:Adult LapDate: Weekly on ThursdaysTime:  6:00PM – 7:00PMLocation:  All Pools                   Florenceville-Bristol Pool:  40 McCain Street                   Centreville Pool:  751 Central Street                   Bath Pool:  128 School StreetCost:  $2
URL:https://carletonnorth.com/event/adult-lap-all-pools-8/
CATEGORIES:Pool Schedule
END:VEVENT
BEGIN:VEVENT
DTSTART;TZID=America/Halifax:20250821T183000
DTEND;TZID=America/Halifax:20250821T200000
DTSTAMP:20260422T184715
CREATED:20250619T191723Z
LAST-MODIFIED:20250821T164019Z
UID:4841316-1755801000-1755806400@carletonnorth.com
SUMMARY:Brazilian Jiu Jitsu For beginners (Age 10+)
DESCRIPTION:Brazilian Jiu Jitsu For beginners (Age 10+)Date:  Weekly every Tuesday & Thursday in June\, July  & AugustTime:  6:30PM – 8:00PMLocation:  6 Welch Street\, Florenceville-Bristol – Pure Therapy \nCost:  $20 covers both Tuesday and Thursday classes for the weekOr $20 per drop-in class \nSign Up Online:  puretherapy.ca
URL:https://carletonnorth.com/event/brazilian-jiu-jitsu-for-beginners-age-10-20/
LOCATION:6 Welch St\, Florenceville-Bristol\, NB E7L 2E4\, Canada
CATEGORIES:Community Calendar
END:VEVENT
BEGIN:VEVENT
DTSTART;TZID=America/Halifax:20250821T190000
DTEND;TZID=America/Halifax:20250821T200000
DTSTAMP:20260422T184715
CREATED:20250713T231043Z
LAST-MODIFIED:20250821T103744Z
UID:5199096-1755802800-1755806400@carletonnorth.com
SUMMARY:Free Swim - All Pools
DESCRIPTION:Florenceville-Bristol Pool: 40 McCain Street\nCentreville Pool: 751 Central Street\nBath Pool:128 School Street\nFree Swim Donated by Bath Lions Club
URL:https://carletonnorth.com/event/free-swim-all-pools-32/
CATEGORIES:Pool Schedule
END:VEVENT
BEGIN:VEVENT
DTSTART;TZID=America/Halifax:20250822T123000
DTEND;TZID=America/Halifax:20250822T133000
DTSTAMP:20260422T184715
CREATED:20250713T231043Z
LAST-MODIFIED:20250822T103753Z
UID:5199098-1755865800-1755869400@carletonnorth.com
SUMMARY:Senior/Lap
DESCRIPTION:Senior/LapDate: Weekly Monday- FridayTime:  12:30PM – 1:30PMLocation:  All Pools                   Florenceville-Bristol Pool:  40 McCain Street                   Centreville Pool:  751 Central Street                   Bath Pool:  128 School StreetCost:  $2
URL:https://carletonnorth.com/event/senior-lap-23/
CATEGORIES:Pool Schedule
END:VEVENT
BEGIN:VEVENT
DTSTART;TZID=America/Halifax:20250822T140000
DTEND;TZID=America/Halifax:20250822T160000
DTSTAMP:20260422T184715
CREATED:20250713T231044Z
LAST-MODIFIED:20250822T103754Z
UID:5199099-1755871200-1755878400@carletonnorth.com
SUMMARY:Public Swim
DESCRIPTION:Public Swim Tuesday\, Wednesday\, Friday\, Saturday and SundayTime:  2:00PM – 4:00PMLocation:  All Pools                   Florenceville-Bristol Pool:  40 McCain Street                   Centreville Pool:  751 Central Street                   Bath Pool:  128 School StreetCost:  $2
URL:https://carletonnorth.com/event/public-swim-35/
CATEGORIES:Pool Schedule
END:VEVENT
BEGIN:VEVENT
DTSTART;TZID=America/Halifax:20250822T180000
DTEND;TZID=America/Halifax:20250822T190000
DTSTAMP:20260422T184715
CREATED:20250713T231044Z
LAST-MODIFIED:20250822T103754Z
UID:5199100-1755885600-1755889200@carletonnorth.com
SUMMARY:Swim Team Lap - All Pools
DESCRIPTION:Swim TeamDate:  Weekly on Mon/Wed/FriTime:  6:00PM – 7:00PMLocation:  All Pools \nPool Locations:Florenceville-Bristol Pool:  40 McCain StreetCentreville Pool:  751 Central StreetBath Pool:  128 School Street
URL:https://carletonnorth.com/event/swim-team-lap-all-pools-8/
CATEGORIES:Pool Schedule
END:VEVENT
BEGIN:VEVENT
DTSTART;TZID=America/Halifax:20250823T080000
DTEND;TZID=America/Halifax:20250823T110000
DTSTAMP:20260422T184715
CREATED:20250619T191726Z
LAST-MODIFIED:20250822T165522Z
UID:4841322-1755936000-1755946800@carletonnorth.com
SUMMARY:Breakfast at Juniper Community Centre
DESCRIPTION:Breakfast at Juniper Community CentreDate: Weekly on SaturdayTime:  8:00AM – 11:00AMLocation:  Juniper Community Centre\, 267 Juniper Rd\, Juniper \nDon’t forget to join us for Breakfast  from 8am – 11am at the Juniper Community Centre.   Great company and a fantastic way to start your weekend. Everyone is welcome—bring your family\, friends\, and neighbors! 💛 \nBring someone who needs a delicious Saturday morning pick-me-up! 🍳🥓 \n#CommunityBreakfast #SaturdayVibes #GoodFoodGoodCompany \nhttps://www.facebook.com/JCC506
URL:https://carletonnorth.com/event/breakfast-at-juniper-community-centre-17/
LOCATION:Juniper Community Centre\, 267 Juniper Rd\, Juniper\, NB E7L 1H1\, Canada
CATEGORIES:Community Calendar
END:VEVENT
BEGIN:VEVENT
DTSTART;TZID=America/Halifax:20250823T140000
DTEND;TZID=America/Halifax:20250823T160000
DTSTAMP:20260422T184715
CREATED:20250713T231044Z
LAST-MODIFIED:20250823T103752Z
UID:5199101-1755957600-1755964800@carletonnorth.com
SUMMARY:Public Swim
DESCRIPTION:Public Swim Tuesday\, Wednesday\, Friday\, Saturday and SundayTime:  2:00PM – 4:00PMLocation:  All Pools                   Florenceville-Bristol Pool:  40 McCain Street                   Centreville Pool:  751 Central Street                   Bath Pool:  128 School StreetCost:  $2
URL:https://carletonnorth.com/event/public-swim-36/
CATEGORIES:Pool Schedule
END:VEVENT
BEGIN:VEVENT
DTSTART;TZID=America/Halifax:20250824T140000
DTEND;TZID=America/Halifax:20250824T160000
DTSTAMP:20260422T184715
CREATED:20250713T231045Z
LAST-MODIFIED:20250824T105301Z
UID:5199102-1756044000-1756051200@carletonnorth.com
SUMMARY:Public Swim
DESCRIPTION:Public Swim Tuesday\, Wednesday\, Friday\, Saturday and SundayTime:  2:00PM – 4:00PMLocation:  All Pools                   Florenceville-Bristol Pool:  40 McCain Street                   Centreville Pool:  751 Central Street                   Bath Pool:  128 School StreetCost:  $2
URL:https://carletonnorth.com/event/public-swim-37/
CATEGORIES:Pool Schedule
END:VEVENT
BEGIN:VEVENT
DTSTART;TZID=America/Halifax:20250824T190000
DTEND;TZID=America/Halifax:20250824T210000
DTSTAMP:20260422T184715
CREATED:20250824T172327Z
LAST-MODIFIED:20250824T172327Z
UID:5811615-1756062000-1756069200@carletonnorth.com
SUMMARY:Kin Club Bingo
DESCRIPTION:Kin Club BingoDate:  Weekly on SundayTime:  7:00PM – 9:00PMLocation:  Florenceville Kin Centre\, 381 Centreville Rd. Florenceville-Bristol \nThe Kin Club Weekly Bingo Takes Place every Sunday\, with door opening at 6pm and games starting at 7pm.Cost: $10 books\, $5 books\, $1 Specials and $25 package deals and more.
URL:https://carletonnorth.com/event/kin-club-bingo-85/
LOCATION:Florenceville Kin Center\, 381 Centreville Rd\, Florenceville-Bristol\, NB E7L 3K5\, Canada
CATEGORIES:Community Calendar
END:VEVENT
BEGIN:VEVENT
DTSTART;TZID=America/Halifax:20250825T073000
DTEND;TZID=America/Halifax:20250829T173000
DTSTAMP:20260422T184715
CREATED:20250824T172519Z
LAST-MODIFIED:20250829T185332Z
UID:5811628-1756107000-1756488600@carletonnorth.com
SUMMARY:DCN Summer Day Camp -  Week 9 -Send Off
DESCRIPTION:DCN Summer Day Camp \nWeek 9– Send OffDate:  Aug 25th – Aug 29thTime:  7:30AM – 5:30PMLocation:  R.G. ‘Bun’ Veysey Active Living Centre\, 40 McCain St. Florenceville-Bristol \nAug 25th – Career Day (Special Visitors)Aug 26th – Art DayAug 27th – Camp’s Got TalentAug 28th – Back to SchoolAug 29th – Hang Out/Fun DayCamp Information:Summer Camp 2025 is a 9 week program running from July 2nd to August 29th for children ages 6-12. \nThe camp has been designed to offer different activities throughout each day such as rock climbing\, swimming\, crafts\, and sports – ex. badminton\, basketball\, soccer etc. \nThe camp operates as a drop off/pick up program with doors opening at 7:30am and closing at 5:30pm \nPrice Information: \n1 Child | 1 Day – $35 \n1 Child | 2 Days – $70 \n1 Child | 3 Days – $105 \n1 Child | 4-5 Days – $125 (Full Time) \n \n2 Children | 1 Day – $70 \n2 Children | 2 Days – $140 \n2 Children | 3 Days – $210 \n2 Children | 4- 5 Days – $200 (Full Time) \n \n3 Children | 1 Day – $105 \n3 Children | 2 Days – $ 210 \n3 Children | 3 Days – $315 \n3 Children | 4-5 Days – $250 (Full Time) \n \n*+ $35 per child for part time (1-3 days) \, +$50 per child for full time (ex 4-5) days at 3 or more children \nPayment for camp must be made in person PRIOR to the first day of attendance for each week. \nFor any questions\, please contact: 📧recreation@carletonnorth.com or 📞 (506) 392-6763 ext. 220
URL:https://carletonnorth.com/event/dcn-summer-day-camp-week-9-send-off/
LOCATION:R. G. “Bun” Veysey Active Living Centre\, 40 McCain St\, Florenceville-Bristol\, NB E7L 3J4\, Canada
CATEGORIES:Community Calendar
END:VEVENT
BEGIN:VEVENT
DTSTART;TZID=America/Halifax:20250825T090000
DTEND;TZID=America/Halifax:20250825T120000
DTSTAMP:20260422T184715
CREATED:20250713T231045Z
LAST-MODIFIED:20250825T105300Z
UID:5199103-1756112400-1756123200@carletonnorth.com
SUMMARY:Morning Swimming Lessons - All Pools
DESCRIPTION:Swimming Lesson SessionsMorning Lessons:  Monday – ThursdayJune 30 – July 17July 21 – August 7August 11 – August 28Pool Locations \nFlorenceville-Bristol Pool:  40 McCain StreetCentreville Pool:  751 Central StreetBath Pool:  128 School Street
URL:https://carletonnorth.com/event/morning-swimming-lessons-all-pools-25/
CATEGORIES:Pool Schedule
END:VEVENT
BEGIN:VEVENT
DTSTART;TZID=America/Halifax:20250825T123000
DTEND;TZID=America/Halifax:20250825T133000
DTSTAMP:20260422T184715
CREATED:20250713T231045Z
LAST-MODIFIED:20250825T105301Z
UID:5199104-1756125000-1756128600@carletonnorth.com
SUMMARY:Senior/Lap - Centreville & Florenceville-Bristol
DESCRIPTION:Senior/LapDate:  Weekly Monday- FridayTime:  12:30PM – 1:30PMLocation:  Florenceville-Bristol Pool:  40 McCain Street                   Centreville Pool:  751 Central Street                   Cost:  $2
URL:https://carletonnorth.com/event/senior-lap-centreville-florenceville-bristol-15/
CATEGORIES:Pool Schedule
END:VEVENT
BEGIN:VEVENT
DTSTART;TZID=America/Halifax:20250825T123000
DTEND;TZID=America/Halifax:20250825T133000
DTSTAMP:20260422T184715
CREATED:20250713T231046Z
LAST-MODIFIED:20250825T105301Z
UID:5199105-1756125000-1756128600@carletonnorth.com
SUMMARY:Aqua Fitness - Bath Pool
DESCRIPTION:Aqua FitnessDate:  Mondays & ThursdaysTime:  12:30PM – 1:30PMLocation:  Bath Pool:  128 School Street                   Cost:  $5 per class           \nFor more information contact Cisca Bakker at 506-273-0384
URL:https://carletonnorth.com/event/aqua-fitness-bath-pool-17/
LOCATION:128 School St\, Bath\, NB E7J 1C4\, Canada
CATEGORIES:Pool Schedule
END:VEVENT
BEGIN:VEVENT
DTSTART;TZID=America/Halifax:20250825T130000
DTEND;TZID=America/Halifax:20250825T140000
DTSTAMP:20260422T184715
CREATED:20250824T172335Z
LAST-MODIFIED:20250824T172335Z
UID:5811616-1756126800-1756130400@carletonnorth.com
SUMMARY:Senior Stretching
DESCRIPTION:Date:  Every Monday in JulyTime:  1:00PM – 2:00PMLocation:  Beechwood Senior ComplexEvent Details:   \nNursing Home Without Walls is offering Senior Stretching at Beechwood Senior Complex at 1:00pm.  This is a great opportunity to get moving and to socialize.  Includes some light seated exercise with NHWW staff. For more information or to join call NHWW (506) 278-3197
URL:https://carletonnorth.com/event/senior-stretching-78/
LOCATION:Beechwood Senior Complex
CATEGORIES:Community Calendar
END:VEVENT
BEGIN:VEVENT
DTSTART;TZID=America/Halifax:20250825T140000
DTEND;TZID=America/Halifax:20250825T150000
DTSTAMP:20260422T184715
CREATED:20250824T172343Z
LAST-MODIFIED:20250824T172343Z
UID:5811617-1756130400-1756134000@carletonnorth.com
SUMMARY:Senior Stretching
DESCRIPTION:Date:  Weekly every Monday in JulyTIme:  2:00PM – 3:00PMLocation:   River View Manor Complex \nEvent Details: \nNursing Home Without Walls is offering Senior Stretching at River View Manor Complex at 2:00pm.  This is a great opportunity to get moving and to socialize.  Includes some light seated exercise with NHWW staff. \nFor more information or to join call NHWW (506)278-3197
URL:https://carletonnorth.com/event/senior-stretching-79/
LOCATION:River View Manor Complex\, 96 Hospital St\, Bath\, NB E7J 1B9\, Canada
CATEGORIES:Community Calendar
END:VEVENT
BEGIN:VEVENT
DTSTART;TZID=America/Halifax:20250825T140000
DTEND;TZID=America/Halifax:20250825T160000
DTSTAMP:20260422T184715
CREATED:20250713T231046Z
LAST-MODIFIED:20250825T105302Z
UID:5199106-1756130400-1756137600@carletonnorth.com
SUMMARY:Free Swim: All Pools
DESCRIPTION:Free SwimDate:  Weekly on MondaysTime:  2:00PM – 4:00PMLocation:  All Pools                   Florenceville-Bristol Pool:  40 McCain Street                   Centreville Pool:  751 Central Street                   Bath Pool:  128 School Street \nFree Swim Donated by Florenceville Rotary Club
URL:https://carletonnorth.com/event/free-swim-all-pools-33/
CATEGORIES:Pool Schedule
END:VEVENT
BEGIN:VEVENT
DTSTART;TZID=America/Halifax:20250825T180000
DTEND;TZID=America/Halifax:20250825T190000
DTSTAMP:20260422T184715
CREATED:20250713T231046Z
LAST-MODIFIED:20250825T105302Z
UID:5199107-1756144800-1756148400@carletonnorth.com
SUMMARY:Swim Team
DESCRIPTION:Swim TeamDate:  Weekly on Mon/Wed/FriTime:  6:00PM – 7:00PMLocation:  All Pools \nPool Locations:Florenceville-Bristol Pool:  40 McCain StreetCentreville Pool:  751 Central StreetBath Pool:  128 School Street
URL:https://carletonnorth.com/event/swim-team-18/
CATEGORIES:Pool Schedule
END:VEVENT
END:VCALENDAR