BEGIN:VCALENDAR
VERSION:2.0
PRODID:-//District of Carleton North - ECPv6.15.20//NONSGML v1.0//EN
CALSCALE:GREGORIAN
METHOD:PUBLISH
X-ORIGINAL-URL:https://carletonnorth.com
X-WR-CALDESC:Events for District of Carleton North
REFRESH-INTERVAL;VALUE=DURATION:PT1H
X-Robots-Tag:noindex
X-PUBLISHED-TTL:PT1H
BEGIN:VTIMEZONE
TZID:America/Halifax
BEGIN:DAYLIGHT
TZOFFSETFROM:-0400
TZOFFSETTO:-0300
TZNAME:ADT
DTSTART:20240310T060000
END:DAYLIGHT
BEGIN:STANDARD
TZOFFSETFROM:-0300
TZOFFSETTO:-0400
TZNAME:AST
DTSTART:20241103T050000
END:STANDARD
BEGIN:DAYLIGHT
TZOFFSETFROM:-0400
TZOFFSETTO:-0300
TZNAME:ADT
DTSTART:20250309T060000
END:DAYLIGHT
BEGIN:STANDARD
TZOFFSETFROM:-0300
TZOFFSETTO:-0400
TZNAME:AST
DTSTART:20251102T050000
END:STANDARD
BEGIN:DAYLIGHT
TZOFFSETFROM:-0400
TZOFFSETTO:-0300
TZNAME:ADT
DTSTART:20260308T060000
END:DAYLIGHT
BEGIN:STANDARD
TZOFFSETFROM:-0300
TZOFFSETTO:-0400
TZNAME:AST
DTSTART:20261101T050000
END:STANDARD
END:VTIMEZONE
BEGIN:VEVENT
DTSTART;TZID=America/Halifax:20250806T130000
DTEND;TZID=America/Halifax:20250806T160000
DTSTAMP:20260422T184855
CREATED:20250619T191706Z
LAST-MODIFIED:20250806T145251Z
UID:4841276-1754485200-1754496000@carletonnorth.com
SUMMARY:Senior Puzzles\, Social & Cards
DESCRIPTION:Senior Puzzles\, Social & CardsDate:  Weekly on WednesdaysTime:  1:00PM – 4:00PMLocation:  R.G. ‘Bun’ Veysey Active Living Centre\,  40 McCain St. Florenceville-Bristol \nEnjoy an afternoon of card games\, snacks\, tea and fun!  Play a variation of puzzles. Feel free to bring puzzles to trade! \nCost:   $3 for entry (55+)
URL:https://carletonnorth.com/event/senior-puzzles-social-cards-61/
LOCATION:40 McCain St\, Florenceville-Bristol\, NB E7L 3J4\, Canada
CATEGORIES:Community Calendar
END:VEVENT
BEGIN:VEVENT
DTSTART;TZID=America/Halifax:20250806T140000
DTEND;TZID=America/Halifax:20250806T160000
DTSTAMP:20260422T184855
CREATED:20250713T231025Z
LAST-MODIFIED:20250805T233748Z
UID:5199036-1754488800-1754496000@carletonnorth.com
SUMMARY:Public Swim
DESCRIPTION:Public Swim Tuesday\, Wednesday\, Friday\, Saturday and SundayTime:  2:00PM – 4:00PMLocation:  All Pools                   Florenceville-Bristol Pool:  40 McCain Street                   Centreville Pool:  751 Central Street                   Bath Pool:  128 School StreetCost:  $2
URL:https://carletonnorth.com/event/public-swim-24/
CATEGORIES:Pool Schedule
END:VEVENT
BEGIN:VEVENT
DTSTART;TZID=America/Halifax:20250806T180000
DTEND;TZID=America/Halifax:20250806T190000
DTSTAMP:20260422T184855
CREATED:20250713T231025Z
LAST-MODIFIED:20250805T233749Z
UID:5199037-1754503200-1754506800@carletonnorth.com
SUMMARY:Swim Team
DESCRIPTION:Swim TeamDate:  Weekly on Mon/Wed/FriTime:  6:00PM – 7:00PMLocation:  All Pools \nPool Locations:Florenceville-Bristol Pool:  40 McCain StreetCentreville Pool:  751 Central StreetBath Pool:  128 School Street
URL:https://carletonnorth.com/event/swim-team-13/
CATEGORIES:Pool Schedule
END:VEVENT
BEGIN:VEVENT
DTSTART;TZID=America/Halifax:20250806T183000
DTEND;TZID=America/Halifax:20250806T193000
DTSTAMP:20260422T184855
CREATED:20250806T145249Z
LAST-MODIFIED:20250806T145249Z
UID:5544660-1754505000-1754508600@carletonnorth.com
SUMMARY:Wednesday Music at the Gazebo
DESCRIPTION:Wednesday at the GazeboTIME: 6:30PM TO 8:30PMEvery Wednesday in July and AugustSchedule to be posted on www.carletonnorth.com \nFor updates: https://www.facebook.com/exploredistrictofcarletonnorth
URL:https://carletonnorth.com/event/wednesday-music-at-the-gazebo-9/
LOCATION:Centreville Gazebo\, 751 Central Street\, Centreville\, NB
CATEGORIES:Community Calendar
END:VEVENT
BEGIN:VEVENT
DTSTART;TZID=America/Halifax:20250807T090000
DTEND;TZID=America/Halifax:20250807T120000
DTSTAMP:20260422T184855
CREATED:20250713T231025Z
LAST-MODIFIED:20250806T235241Z
UID:5199038-1754557200-1754568000@carletonnorth.com
SUMMARY:Morning Swimming Lessons - All Pools
DESCRIPTION:Swimming Lesson SessionsMorning Lessons:  Monday – ThursdayJune 30 – July 17July 21 – August 7August 11 – August 28 \nPool Locations \nFlorenceville-Bristol Pool:  40 McCain StreetCentreville Pool:  751 Central StreetBath Pool:  128 School Street
URL:https://carletonnorth.com/event/morning-swimming-lessons-all-pools-18/
CATEGORIES:Pool Schedule
END:VEVENT
BEGIN:VEVENT
DTSTART;TZID=America/Halifax:20250807T123000
DTEND;TZID=America/Halifax:20250807T133000
DTSTAMP:20260422T184855
CREATED:20250713T231025Z
LAST-MODIFIED:20250806T235241Z
UID:5199039-1754569800-1754573400@carletonnorth.com
SUMMARY:Senior/Lap - Centreville & Florenceville-Bristol
DESCRIPTION:Senior/LapDate:  Weekly Monday- FridayTime:  12:30PM – 1:30PMLocation:  Florenceville-Bristol Pool:  40 McCain Street                   Centreville Pool:  751 Central Street                   Cost:  $2
URL:https://carletonnorth.com/event/senior-lap-centreville-florenceville-bristol-10/
CATEGORIES:Pool Schedule
END:VEVENT
BEGIN:VEVENT
DTSTART;TZID=America/Halifax:20250807T123000
DTEND;TZID=America/Halifax:20250807T133000
DTSTAMP:20260422T184855
CREATED:20250713T231026Z
LAST-MODIFIED:20250806T235242Z
UID:5199040-1754569800-1754573400@carletonnorth.com
SUMMARY:Aqua Fitness - Bath Pool
DESCRIPTION:Aqua FitnessDate:  Mondays & ThursdaysTime:  12:30PM – 1:30PMLocation:  Bath Pool:  128 School Street                   Cost:  $5 per class           \nFor more information contact Cisca Bakker at 506-273-0384
URL:https://carletonnorth.com/event/aqua-fitness-bath-pool-12/
LOCATION:128 School St\, Bath\, NB E7J 1C4\, Canada
CATEGORIES:Pool Schedule
END:VEVENT
BEGIN:VEVENT
DTSTART;TZID=America/Halifax:20250807T140000
DTEND;TZID=America/Halifax:20250807T160000
DTSTAMP:20260422T184855
CREATED:20250713T231026Z
LAST-MODIFIED:20250806T235242Z
UID:5199041-1754575200-1754582400@carletonnorth.com
SUMMARY:Free Swim: All Pools
DESCRIPTION:Florenceville-Bristol Pool: 40 McCain Street\nCentreville Pool: 751 Central Street\nBath Pool:128 School Street\nFree Swim Donated by Bath Lions Club
URL:https://carletonnorth.com/event/free-swim-all-pools-23/
CATEGORIES:Pool Schedule
END:VEVENT
BEGIN:VEVENT
DTSTART;TZID=America/Halifax:20250807T180000
DTEND;TZID=America/Halifax:20250807T190000
DTSTAMP:20260422T184855
CREATED:20250713T231027Z
LAST-MODIFIED:20250806T235243Z
UID:5199043-1754589600-1754593200@carletonnorth.com
SUMMARY:Adult Lap - All Pools
DESCRIPTION:Adult LapDate: Weekly on ThursdaysTime:  6:00PM – 7:00PMLocation:  All Pools                   Florenceville-Bristol Pool:  40 McCain Street                   Centreville Pool:  751 Central Street                   Bath Pool:  128 School StreetCost:  $2
URL:https://carletonnorth.com/event/adult-lap-all-pools-6/
CATEGORIES:Pool Schedule
END:VEVENT
BEGIN:VEVENT
DTSTART;TZID=America/Halifax:20250807T180000
DTEND;TZID=America/Halifax:20250807T200000
DTSTAMP:20260422T184855
CREATED:20250619T191708Z
LAST-MODIFIED:20250807T145522Z
UID:4841280-1754589600-1754596800@carletonnorth.com
SUMMARY:Clay Handbuilding - Newbie Night
DESCRIPTION:Whether you’ve got a current project or are a brand-newbie wanting to explore clay\, join instructor Jenna Ross & other friendly clay-lovers for a casual evening of creativity at the River Art Centre & Studios. \nNo registration required. Basic instruction is provided to get you started. ….Bring your ideas\, gusto\, project dreams & we’ll see what happens! \nFee to attend each Drop-in is $5 per person. The first (bisque) firing of any pot you decide to keep costs $10 each piece. Then Glazing costs an additional $10 each piece. \nChildren aged 7-14 welcome to participate if accompanied by an adult. No experience necessary\, just an openness to try! See you there! \nFor more information contact the Gallery. info@mccainartgallery.com 506-392-6769
URL:https://carletonnorth.com/event/clay-handbuilding-newbie-night-6/
LOCATION:8746 Main St\, Florenceville-Bristol\, NB E7L 3G5\, Canada
CATEGORIES:Community Calendar
END:VEVENT
BEGIN:VEVENT
DTSTART;TZID=America/Halifax:20250807T183000
DTEND;TZID=America/Halifax:20250807T200000
DTSTAMP:20260422T184855
CREATED:20250619T191708Z
LAST-MODIFIED:20250807T145524Z
UID:4841279-1754591400-1754596800@carletonnorth.com
SUMMARY:Brazilian Jiu Jitsu For beginners (Age 10+)
DESCRIPTION:Brazilian Jiu Jitsu For beginners (Age 10+)Date:  Weekly every Tuesday & Thursday in June\, July  & AugustTime:  6:30PM – 8:00PMLocation:  6 Welch Street\, Florenceville-Bristol – Pure Therapy \nCost:  $20 covers both Tuesday and Thursday classes for the weekOr $20 per drop-in class \nSign Up Online:  puretherapy.ca
URL:https://carletonnorth.com/event/brazilian-jiu-jitsu-for-beginners-age-10-16/
LOCATION:6 Welch St\, Florenceville-Bristol\, NB E7L 2E4\, Canada
CATEGORIES:Community Calendar
END:VEVENT
BEGIN:VEVENT
DTSTART;TZID=America/Halifax:20250807T190000
DTEND;TZID=America/Halifax:20250807T200000
DTSTAMP:20260422T184855
CREATED:20250713T231026Z
LAST-MODIFIED:20250806T235243Z
UID:5199042-1754593200-1754596800@carletonnorth.com
SUMMARY:Free Swim - All Pools
DESCRIPTION:Florenceville-Bristol Pool: 40 McCain Street\nCentreville Pool: 751 Central Street\nBath Pool:128 School Street\nFree Swim Donated by Bath Lions Club
URL:https://carletonnorth.com/event/free-swim-all-pools-24/
CATEGORIES:Pool Schedule
END:VEVENT
BEGIN:VEVENT
DTSTART;TZID=America/Halifax:20250808T123000
DTEND;TZID=America/Halifax:20250808T133000
DTSTAMP:20260422T184855
CREATED:20250713T231027Z
LAST-MODIFIED:20250807T235225Z
UID:5199044-1754656200-1754659800@carletonnorth.com
SUMMARY:Senior/Lap
DESCRIPTION:Senior/LapDate: Weekly Monday- FridayTime:  12:30PM – 1:30PMLocation:  All Pools                   Florenceville-Bristol Pool:  40 McCain Street                   Centreville Pool:  751 Central Street                   Bath Pool:  128 School StreetCost:  $2
URL:https://carletonnorth.com/event/senior-lap-17/
CATEGORIES:Pool Schedule
END:VEVENT
BEGIN:VEVENT
DTSTART;TZID=America/Halifax:20250808T140000
DTEND;TZID=America/Halifax:20250808T160000
DTSTAMP:20260422T184855
CREATED:20250713T231027Z
LAST-MODIFIED:20250807T235226Z
UID:5199045-1754661600-1754668800@carletonnorth.com
SUMMARY:Public Swim
DESCRIPTION:Public Swim Tuesday\, Wednesday\, Friday\, Saturday and SundayTime:  2:00PM – 4:00PMLocation:  All Pools                   Florenceville-Bristol Pool:  40 McCain Street                   Centreville Pool:  751 Central Street                   Bath Pool:  128 School StreetCost:  $2
URL:https://carletonnorth.com/event/public-swim-25/
CATEGORIES:Pool Schedule
END:VEVENT
BEGIN:VEVENT
DTSTART;TZID=America/Halifax:20250808T180000
DTEND;TZID=America/Halifax:20250808T190000
DTSTAMP:20260422T184855
CREATED:20250713T231028Z
LAST-MODIFIED:20250807T235226Z
UID:5199046-1754676000-1754679600@carletonnorth.com
SUMMARY:Swim Team Lap - All Pools
DESCRIPTION:Swim TeamDate:  Weekly on Mon/Wed/FriTime:  6:00PM – 7:00PMLocation:  All Pools \nPool Locations:Florenceville-Bristol Pool:  40 McCain StreetCentreville Pool:  751 Central StreetBath Pool:  128 School Street
URL:https://carletonnorth.com/event/swim-team-lap-all-pools-6/
CATEGORIES:Pool Schedule
END:VEVENT
BEGIN:VEVENT
DTSTART;TZID=America/Halifax:20250809T080000
DTEND;TZID=America/Halifax:20250809T110000
DTSTAMP:20260422T184855
CREATED:20250619T191709Z
LAST-MODIFIED:20250808T150746Z
UID:4841283-1754726400-1754737200@carletonnorth.com
SUMMARY:Breakfast at Juniper Community Centre
DESCRIPTION:Breakfast at Juniper Community CentreDate: Weekly on SaturdayTime:  8:00AM – 11:00AMLocation:  Juniper Community Centre\, 267 Juniper Rd\, Juniper \nDon’t forget to join us for Breakfast  from 8am – 11am at the Juniper Community Centre.   Great company and a fantastic way to start your weekend. Everyone is welcome—bring your family\, friends\, and neighbors! 💛 \nBring someone who needs a delicious Saturday morning pick-me-up! 🍳🥓 \n#CommunityBreakfast #SaturdayVibes #GoodFoodGoodCompany \nhttps://www.facebook.com/JCC506
URL:https://carletonnorth.com/event/breakfast-at-juniper-community-centre-15/
LOCATION:Juniper Community Centre\, 267 Juniper Rd\, Juniper\, NB E7L 1H1\, Canada
CATEGORIES:Community Calendar
END:VEVENT
BEGIN:VEVENT
DTSTART;TZID=America/Halifax:20250809T140000
DTEND;TZID=America/Halifax:20250809T160000
DTSTAMP:20260422T184855
CREATED:20250713T231028Z
LAST-MODIFIED:20250808T235338Z
UID:5199047-1754748000-1754755200@carletonnorth.com
SUMMARY:Public Swim
DESCRIPTION:Public Swim Tuesday\, Wednesday\, Friday\, Saturday and SundayTime:  2:00PM – 4:00PMLocation:  All Pools                   Florenceville-Bristol Pool:  40 McCain Street                   Centreville Pool:  751 Central Street                   Bath Pool:  128 School StreetCost:  $2
URL:https://carletonnorth.com/event/public-swim-26/
CATEGORIES:Pool Schedule
END:VEVENT
BEGIN:VEVENT
DTSTART;TZID=America/Halifax:20250810T140000
DTEND;TZID=America/Halifax:20250810T160000
DTSTAMP:20260422T184855
CREATED:20250713T231028Z
LAST-MODIFIED:20250809T235249Z
UID:5199048-1754834400-1754841600@carletonnorth.com
SUMMARY:Public Swim
DESCRIPTION:Public Swim Tuesday\, Wednesday\, Friday\, Saturday and SundayTime:  2:00PM – 4:00PMLocation:  All Pools                   Florenceville-Bristol Pool:  40 McCain Street                   Centreville Pool:  751 Central Street                   Bath Pool:  128 School StreetCost:  $2
URL:https://carletonnorth.com/event/public-swim-27/
CATEGORIES:Pool Schedule
END:VEVENT
BEGIN:VEVENT
DTSTART;TZID=America/Halifax:20250810T190000
DTEND;TZID=America/Halifax:20250810T210000
DTSTAMP:20260422T184855
CREATED:20250705T103807Z
LAST-MODIFIED:20250810T150750Z
UID:5074095-1754852400-1754859600@carletonnorth.com
SUMMARY:Kin Club Bingo
DESCRIPTION:Kin Club BingoDate:  Weekly on SundayTime:  7:00PM – 9:00PMLocation:  Florenceville Kin Centre\, 381 Centreville Rd. Florenceville-Bristol \nThe Kin Club Weekly Bingo Takes Place every Sunday\, with door opening at 6pm and games starting at 7pm.Cost: $10 books\, $5 books\, $1 Specials and $25 package deals and more.
URL:https://carletonnorth.com/event/kin-club-bingo-189/
LOCATION:Florenceville Kin Center\, 381 Centreville Rd\, Florenceville-Bristol\, NB E7L 3K5\, Canada
CATEGORIES:Community Calendar
END:VEVENT
BEGIN:VEVENT
DTSTART;TZID=America/Halifax:20250811T073000
DTEND;TZID=America/Halifax:20250815T173000
DTSTAMP:20260422T184855
CREATED:20250619T191715Z
LAST-MODIFIED:20250815T155238Z
UID:4841297-1754897400-1755279000@carletonnorth.com
SUMMARY:DCN Summer Day Camp -  Week 7 - Fiction & Fantasy
DESCRIPTION:DCN Summer Day Camp \nWeek 7– Fiction & FantasyDate:  Aug 11th – Aug 15thTime:  7:30AM – 5:30PMLocation:  R.G. ‘Bun’ Veysey Active Living Centre\, 40 McCain St. Florenceville-Bristol \nAug 11th -Cartoon DayAug 12th – Fairy Tale Day (Trip to the Library)Aug 13th – SuperheroesAug 14th – Theatre & ImprovAug 15th – Sci-Fi Day \nCamp Information:Summer Camp 2025 is a 9 week program running from July 2nd to August 29th for children ages 6-12. \nThe camp has been designed to offer different activities throughout each day such as rock climbing\, swimming\, crafts\, and sports – ex. badminton\, basketball\, soccer etc. \nThe camp operates as a drop off/pick up program with doors opening at 7:30am and closing at 5:30pm \nPrice Information: \n1 Child | 1 Day – $35 \n1 Child | 2 Days – $70 \n1 Child | 3 Days – $105 \n1 Child | 4-5 Days – $125 (Full Time) \n \n2 Children | 1 Day – $70 \n2 Children | 2 Days – $140 \n2 Children | 3 Days – $210 \n2 Children | 4- 5 Days – $200 (Full Time) \n \n3 Children | 1 Day – $105 \n3 Children | 2 Days – $ 210 \n3 Children | 3 Days – $315 \n3 Children | 4-5 Days – $250 (Full Time) \n \n*+ $35 per child for part time (1-3 days) \, +$50 per child for full time (ex 4-5) days at 3 or more children \nPayment for camp must be made in person PRIOR to the first day of attendance for each week. \nFor any questions\, please contact: 📧recreation@carletonnorth.com or 📞 (506) 392-6763 ext. 220
URL:https://carletonnorth.com/event/dcn-summer-day-camp-week-7-fiction-fantasy/
LOCATION:R. G. “Bun” Veysey Active Living Centre\, 40 McCain St\, Florenceville-Bristol\, NB E7L 3J4\, Canada
CATEGORIES:Community Calendar
END:VEVENT
BEGIN:VEVENT
DTSTART;TZID=America/Halifax:20250811T090000
DTEND;TZID=America/Halifax:20250811T120000
DTSTAMP:20260422T184855
CREATED:20250713T231029Z
LAST-MODIFIED:20250810T235439Z
UID:5199049-1754902800-1754913600@carletonnorth.com
SUMMARY:Morning Swimming Lessons - All Pools
DESCRIPTION:Swimming Lesson SessionsMorning Lessons:  Monday – ThursdayJune 30 – July 17July 21 – August 7August 11 – August 28Pool Locations \nFlorenceville-Bristol Pool:  40 McCain StreetCentreville Pool:  751 Central StreetBath Pool:  128 School Street
URL:https://carletonnorth.com/event/morning-swimming-lessons-all-pools-19/
CATEGORIES:Pool Schedule
END:VEVENT
BEGIN:VEVENT
DTSTART;TZID=America/Halifax:20250811T123000
DTEND;TZID=America/Halifax:20250811T133000
DTSTAMP:20260422T184855
CREATED:20250713T231029Z
LAST-MODIFIED:20250810T235440Z
UID:5199051-1754915400-1754919000@carletonnorth.com
SUMMARY:Aqua Fitness - Bath Pool
DESCRIPTION:Aqua FitnessDate:  Mondays & ThursdaysTime:  12:30PM – 1:30PMLocation:  Bath Pool:  128 School Street                   Cost:  $5 per class           \nFor more information contact Cisca Bakker at 506-273-0384
URL:https://carletonnorth.com/event/aqua-fitness-bath-pool-13/
LOCATION:128 School St\, Bath\, NB E7J 1C4\, Canada
CATEGORIES:Pool Schedule
END:VEVENT
BEGIN:VEVENT
DTSTART;TZID=America/Halifax:20250811T123000
DTEND;TZID=America/Halifax:20250811T133000
DTSTAMP:20260422T184855
CREATED:20250713T231029Z
LAST-MODIFIED:20250810T235440Z
UID:5199050-1754915400-1754919000@carletonnorth.com
SUMMARY:Senior/Lap - Centreville & Florenceville-Bristol
DESCRIPTION:Senior/LapDate:  Weekly Monday- FridayTime:  12:30PM – 1:30PMLocation:  Florenceville-Bristol Pool:  40 McCain Street                   Centreville Pool:  751 Central Street                   Cost:  $2
URL:https://carletonnorth.com/event/senior-lap-centreville-florenceville-bristol-11/
CATEGORIES:Pool Schedule
END:VEVENT
BEGIN:VEVENT
DTSTART;TZID=America/Halifax:20250811T140000
DTEND;TZID=America/Halifax:20250811T160000
DTSTAMP:20260422T184855
CREATED:20250713T231029Z
LAST-MODIFIED:20250810T235440Z
UID:5199052-1754920800-1754928000@carletonnorth.com
SUMMARY:Free Swim: All Pools
DESCRIPTION:Free SwimDate:  Weekly on MondaysTime:  2:00PM – 4:00PMLocation:  All Pools                   Florenceville-Bristol Pool:  40 McCain Street                   Centreville Pool:  751 Central Street                   Bath Pool:  128 School Street \nFree Swim Donated by Florenceville Rotary Club
URL:https://carletonnorth.com/event/free-swim-all-pools-25/
CATEGORIES:Pool Schedule
END:VEVENT
BEGIN:VEVENT
DTSTART;TZID=America/Halifax:20250811T180000
DTEND;TZID=America/Halifax:20250811T190000
DTSTAMP:20260422T184855
CREATED:20250713T231030Z
LAST-MODIFIED:20250810T235441Z
UID:5199054-1754935200-1754938800@carletonnorth.com
SUMMARY:Swim Team
DESCRIPTION:Swim TeamDate:  Weekly on Mon/Wed/FriTime:  6:00PM – 7:00PMLocation:  All Pools \nPool Locations:Florenceville-Bristol Pool:  40 McCain StreetCentreville Pool:  751 Central StreetBath Pool:  128 School Street
URL:https://carletonnorth.com/event/swim-team-14/
CATEGORIES:Pool Schedule
END:VEVENT
BEGIN:VEVENT
DTSTART;TZID=America/Halifax:20250811T190000
DTEND;TZID=America/Halifax:20250811T200000
DTSTAMP:20260422T184855
CREATED:20250713T231030Z
LAST-MODIFIED:20250810T235441Z
UID:5199053-1754938800-1754942400@carletonnorth.com
SUMMARY:Free Swim - All Pools
DESCRIPTION:Free SwimDate:  Weekly on MondaysTime:  7:00PM -8:00PMLocation:  All Pools                   Florenceville-Bristol Pool:  40 McCain Street                   Centreville Pool:  751 Central Street                   Bath Pool:  128 School Street \nFree Swim Donated by Florenceville Rotary Club
URL:https://carletonnorth.com/event/free-swim-all-pools-26/
CATEGORIES:Pool Schedule
END:VEVENT
BEGIN:VEVENT
DTSTART;VALUE=DATE:20250812
DTEND;VALUE=DATE:20250813
DTSTAMP:20260422T184855
CREATED:20250802T142234Z
LAST-MODIFIED:20250812T152314Z
UID:5488414-1754956800-1755043199@carletonnorth.com
SUMMARY:NHWW - Foot Care Clinic
DESCRIPTION:Nursing Home Without Walls Foot Care ClinicDate:  August 12\, 2025Time:  Provided by NHWW | (506) 278-3197Location: Provided by NHWW | (506) 278-3197 \nIf you are 60+\, do not have a Foot Care coverage\, have underlying health conditions and struggle to look after your feet\, give us a call. \nMust call to register.  Limited spaces available.  Call (506) 278-3197 today!
URL:https://carletonnorth.com/event/nhww-foot-care-clinic/
CATEGORIES:Community Calendar
END:VEVENT
BEGIN:VEVENT
DTSTART;TZID=America/Halifax:20250812T090000
DTEND;TZID=America/Halifax:20250812T120000
DTSTAMP:20260422T184855
CREATED:20250713T231030Z
LAST-MODIFIED:20250812T102433Z
UID:5199055-1754989200-1755000000@carletonnorth.com
SUMMARY:Lessons - All Pools
DESCRIPTION:Swimming Lesson SessionsMorning Lessons:  Monday – ThursdayJune 30 – July 17July 21 – August 7August 11 – August 28 \nNight Lessons:  Tuesday NightJuly 8 – August 26
URL:https://carletonnorth.com/event/lessons-all-pools-6/
CATEGORIES:Pool Schedule
END:VEVENT
BEGIN:VEVENT
DTSTART;TZID=America/Halifax:20250812T093000
DTEND;TZID=America/Halifax:20250814T113000
DTSTAMP:20260422T184855
CREATED:20250619T191715Z
LAST-MODIFIED:20250813T152503Z
UID:4841296-1754991000-1755171000@carletonnorth.com
SUMMARY:Summer Art Camps (Ages 7-9)
DESCRIPTION:Ages 7-9 Summer Art Camps.Each 3 day camp is $45 \nDates:July 2-4 | Hands OnJuly 8-10 | Let’s Tell a StoryJuly 15-17 | Photography without CamerasJuly 29-31 | Let’s DrawAugust 12-14 | Creating with Nature \nFor more information please visit: https://mccainartgallery.com/exhibitions/summer-art-camps-2025/ \nTo register\, please contact the gallery: 506-392-6769 | info@mccainartgallery.com \n\n\n\n\n\n\n\nCost\n\n\n$45 per 3 day camp
URL:https://carletonnorth.com/event/summer-art-camps-ages-7-9-5/
LOCATION:8746 Main St\, Florenceville-Bristol\, NB E7L 3G5\, Canada
CATEGORIES:Community Calendar
END:VEVENT
BEGIN:VEVENT
DTSTART;TZID=America/Halifax:20250812T123000
DTEND;TZID=America/Halifax:20250812T133000
DTSTAMP:20260422T184855
CREATED:20250713T231031Z
LAST-MODIFIED:20250812T102433Z
UID:5199056-1755001800-1755005400@carletonnorth.com
SUMMARY:Senior/Lap
DESCRIPTION:Senior/LapDate: Weekly Monday- FridayTime:  12:30PM – 1:30PMLocation:  All Pools                   Florenceville-Bristol Pool:  40 McCain Street                   Centreville Pool:  751 Central Street                   Bath Pool:  128 School StreetCost:  $2
URL:https://carletonnorth.com/event/senior-lap-18/
CATEGORIES:Pool Schedule
END:VEVENT
END:VCALENDAR