BEGIN:VCALENDAR
VERSION:2.0
PRODID:-//District of Carleton North - ECPv6.15.20//NONSGML v1.0//EN
CALSCALE:GREGORIAN
METHOD:PUBLISH
X-ORIGINAL-URL:https://carletonnorth.com
X-WR-CALDESC:Events for District of Carleton North
REFRESH-INTERVAL;VALUE=DURATION:PT1H
X-Robots-Tag:noindex
X-PUBLISHED-TTL:PT1H
BEGIN:VTIMEZONE
TZID:America/Halifax
BEGIN:DAYLIGHT
TZOFFSETFROM:-0400
TZOFFSETTO:-0300
TZNAME:ADT
DTSTART:20240310T060000
END:DAYLIGHT
BEGIN:STANDARD
TZOFFSETFROM:-0300
TZOFFSETTO:-0400
TZNAME:AST
DTSTART:20241103T050000
END:STANDARD
BEGIN:DAYLIGHT
TZOFFSETFROM:-0400
TZOFFSETTO:-0300
TZNAME:ADT
DTSTART:20250309T060000
END:DAYLIGHT
BEGIN:STANDARD
TZOFFSETFROM:-0300
TZOFFSETTO:-0400
TZNAME:AST
DTSTART:20251102T050000
END:STANDARD
BEGIN:DAYLIGHT
TZOFFSETFROM:-0400
TZOFFSETTO:-0300
TZNAME:ADT
DTSTART:20260308T060000
END:DAYLIGHT
BEGIN:STANDARD
TZOFFSETFROM:-0300
TZOFFSETTO:-0400
TZNAME:AST
DTSTART:20261101T050000
END:STANDARD
END:VTIMEZONE
BEGIN:VEVENT
DTSTART;TZID=America/Halifax:20250925T160000
DTEND;TZID=America/Halifax:20250925T171500
DTSTAMP:20260422T184859
CREATED:20250822T132300Z
LAST-MODIFIED:20250925T060733Z
UID:5776519-1758816000-1758820500@carletonnorth.com
SUMMARY:CARLETON NORTH GIRLS
DESCRIPTION:
URL:https://carletonnorth.com/event/carleton-north-girls-36/
END:VEVENT
BEGIN:VEVENT
DTSTART;TZID=America/Halifax:20250925T170000
DTEND;TZID=America/Halifax:20250925T200000
DTSTAMP:20260422T184859
CREATED:20250924T130910Z
LAST-MODIFIED:20250925T165244Z
UID:6284591-1758819600-1758830400@carletonnorth.com
SUMMARY:Evening Market
DESCRIPTION:Evening MarketDate:  Sept 25\, 2025Time:  5:00PM – 8:00PMLocation:  Riverside Park\, 9173 Mian St. Florenceville-Bristol \nThe Evening Market is back for one special evening on September 25th at Riverside Park\, 9173 Main St. Florenceville-Bristol. \nThe Evening Market fosters a sense of belonging and connection while celebrating local culture and craftsmanship through local artists\, producers\, vendors and artisans.  \nBy shopping at the evening market\, community members directly support local businesses. This economic engagement strengthens the local economy and encourages a collaborative spirit.   \nThe Evening Market has potential to enrich the social fabric of our community by providing a space for people to interact\, celebrate local culture\, and create lasting memories together. \nDon’t miss this opportunity to gather\, connect and experience the best of our community all in one evening! \nFor more information or to become a vendor click here:  https://carletonnorth.com/tourism-department/festivals-and-events/ \nFor all inquiries contact the Tourism Department506-392-6763 ext. 210
URL:https://carletonnorth.com/event/evening-market/
LOCATION:9173 Main St\, Bristol\, NB E7L 2A5\, Canada
CATEGORIES:Community Calendar
END:VEVENT
BEGIN:VEVENT
DTSTART;TZID=America/Halifax:20250925T173000
DTEND;TZID=America/Halifax:20250925T183000
DTSTAMP:20260422T184859
CREATED:20250821T132311Z
LAST-MODIFIED:20250925T060733Z
UID:5761971-1758821400-1758825000@carletonnorth.com
SUMMARY:U7 - MINOR HOCKEY
DESCRIPTION:
URL:https://carletonnorth.com/event/u7-minor-hockey-39/
END:VEVENT
BEGIN:VEVENT
DTSTART;TZID=America/Halifax:20250925T183000
DTEND;TZID=America/Halifax:20250925T200000
DTSTAMP:20260422T184859
CREATED:20250924T130918Z
LAST-MODIFIED:20250925T165245Z
UID:6284592-1758825000-1758830400@carletonnorth.com
SUMMARY:Brazilian Jiu Jitsu For beginners (Age 10+)
DESCRIPTION:Brazilian Jiu Jitsu For beginners (Age 10+)Date:  Weekly every Tuesday & Thursday in Sept\, Oct\, Nov\, DecTime:  6:30PM – 8:00PMLocation:  6 Welch Street\, Florenceville-Bristol – Pure Therapy \nDrop-In: $20 per class (Tuesday or Thursday) \nDiscount:Special Offer: Attend Tuesday with Gregg and get Thursday free with Wendell! \nSign up for classes@puretherapy.ca \nTuesday: Core class with Greg Conner\, 2nd Degree Black Belt under Joe Moreira. Learn the foundation of the week’s techniques. \nThursday: Practice session with Wendell\, reinforcing what was taught on Tuesday. \nNo experience needed—join anytime
URL:https://carletonnorth.com/event/brazilian-jiu-jitsu-for-beginners-age-10-28/
LOCATION:6 Welch St\, Florenceville-Bristol\, NB E7L 2E4\, Canada
CATEGORIES:Community Calendar
END:VEVENT
BEGIN:VEVENT
DTSTART;TZID=America/Halifax:20250925T184500
DTEND;TZID=America/Halifax:20250925T194500
DTSTAMP:20260422T184859
CREATED:20250821T132311Z
LAST-MODIFIED:20250925T060733Z
UID:5761972-1758825900-1758829500@carletonnorth.com
SUMMARY:U13 - MINOR HOCKEY
DESCRIPTION:
URL:https://carletonnorth.com/event/u13-minor-hockey-9/
END:VEVENT
BEGIN:VEVENT
DTSTART;TZID=America/Halifax:20250925T200000
DTEND;TZID=America/Halifax:20250925T210000
DTSTAMP:20260422T184859
CREATED:20250822T180733Z
LAST-MODIFIED:20250925T060734Z
UID:5780519-1758830400-1758834000@carletonnorth.com
SUMMARY:CARLETON NORTH BOYS
DESCRIPTION:
URL:https://carletonnorth.com/event/carleton-north-boys-123/
END:VEVENT
BEGIN:VEVENT
DTSTART;TZID=America/Halifax:20250925T200000
DTEND;TZID=America/Halifax:20250925T213000
DTSTAMP:20260422T184859
CREATED:20250822T132301Z
LAST-MODIFIED:20250925T060734Z
UID:5776520-1758830400-1758835800@carletonnorth.com
SUMMARY:CARLETON NORTH BOYS
DESCRIPTION:
URL:https://carletonnorth.com/event/carleton-north-boys-44/
END:VEVENT
BEGIN:VEVENT
DTSTART;VALUE=DATE:20250926
DTEND;VALUE=DATE:20250927
DTSTAMP:20260422T184859
CREATED:20250924T130937Z
LAST-MODIFIED:20250926T170757Z
UID:6284594-1758844800-1758931199@carletonnorth.com
SUMMARY:Drive-In Movie Night
DESCRIPTION:🍿 Drive-In Nights are BACK!  \nTime:  Doors open at 7:00PM\, movie starts at dusk \nLocation:  Bath Fairgrounds\, 200 Main St. Bath\, NB \nGet ready for Drive-In movie night beginning September 12th at the Bath Fair Grounds! \nAdmission for each movie night is donated to a different charity each week (see below): \nNight 1 | Sept 12 | Moana 2: Sanctuary HouseNight 2 | Sept 19 | The Mighty Ducks: Toy & TurkeyNight 3 | Sept 26 | Paddington In Peru: We’ve Got Your Back River ValleyNight 4 | Oct 3 | Lilo & Stitch: Valley Food Bank \nAdmission is by donation \nThe District is grateful for their partners: McCain Foods (Canada) & Home Zone Electronics
URL:https://carletonnorth.com/event/drive-in-movie-night-3/
LOCATION:200 Main St\, Bath\, NB E7L 2B6\, Canada
CATEGORIES:Community Calendar
END:VEVENT
BEGIN:VEVENT
DTSTART;TZID=America/Halifax:20250926T130000
DTEND;TZID=America/Halifax:20250926T143000
DTSTAMP:20260422T184859
CREATED:20250926T062253Z
LAST-MODIFIED:20250926T062253Z
UID:6311436-1758891600-1758897000@carletonnorth.com
SUMMARY:PUBLIC SKATE
DESCRIPTION:
URL:https://carletonnorth.com/event/public-skate-127/
END:VEVENT
BEGIN:VEVENT
DTSTART;TZID=America/Halifax:20250926T144500
DTEND;TZID=America/Halifax:20250926T154500
DTSTAMP:20260422T184859
CREATED:20250926T062254Z
LAST-MODIFIED:20250926T062254Z
UID:6311437-1758897900-1758901500@carletonnorth.com
SUMMARY:PRIVATE RENTAL
DESCRIPTION:
URL:https://carletonnorth.com/event/private-rental-32/
END:VEVENT
BEGIN:VEVENT
DTSTART;TZID=America/Halifax:20250926T150000
DTEND;TZID=America/Halifax:20250926T190000
DTSTAMP:20260422T184859
CREATED:20250924T130945Z
LAST-MODIFIED:20250926T170757Z
UID:6284595-1758898800-1758913200@carletonnorth.com
SUMMARY:Fall Yard Sale
DESCRIPTION:Fall Yard Sale Date:  September 26\, 2025Time: 3:00PM – 7:00PMLocation:  St. John the Evangelist Church Basement\, 309 Johnville Rd.\, Johnville
URL:https://carletonnorth.com/event/fall-yard-sale-2/
LOCATION:309 Johnville Rd\, Johnville\, NB E7J 1J1\, Canada
CATEGORIES:Community Calendar
END:VEVENT
BEGIN:VEVENT
DTSTART;TZID=America/Halifax:20250926T160000
DTEND;TZID=America/Halifax:20250926T171500
DTSTAMP:20260422T184859
CREATED:20250903T115318Z
LAST-MODIFIED:20250926T062254Z
UID:5964877-1758902400-1758906900@carletonnorth.com
SUMMARY:HARTLAND HUSKIES
DESCRIPTION:
URL:https://carletonnorth.com/event/hartland-huskies-15/
END:VEVENT
BEGIN:VEVENT
DTSTART;TZID=America/Halifax:20250926T173000
DTEND;TZID=America/Halifax:20250926T183000
DTSTAMP:20260422T184859
CREATED:20250821T132312Z
LAST-MODIFIED:20250926T062254Z
UID:5761973-1758907800-1758911400@carletonnorth.com
SUMMARY:ZWD #1 - MINOR HOCKEY
DESCRIPTION:
URL:https://carletonnorth.com/event/zwd-1-minor-hockey/
END:VEVENT
BEGIN:VEVENT
DTSTART;TZID=America/Halifax:20250926T184500
DTEND;TZID=America/Halifax:20250926T200000
DTSTAMP:20260422T184859
CREATED:20250821T132312Z
LAST-MODIFIED:20250926T062255Z
UID:5761974-1758912300-1758916800@carletonnorth.com
SUMMARY:U13AAA -  NORTH WEST BULLS
DESCRIPTION:
URL:https://carletonnorth.com/event/u13aaa-north-west-bulls-2/
END:VEVENT
BEGIN:VEVENT
DTSTART;TZID=America/Halifax:20250926T201500
DTEND;TZID=America/Halifax:20250926T211500
DTSTAMP:20260422T184859
CREATED:20250904T123845Z
LAST-MODIFIED:20250926T062255Z
UID:5979912-1758917700-1758921300@carletonnorth.com
SUMMARY:WESTERN VALLEY FEMALES
DESCRIPTION:
URL:https://carletonnorth.com/event/western-valley-females/
END:VEVENT
BEGIN:VEVENT
DTSTART;TZID=America/Halifax:20250927T080000
DTEND;TZID=America/Halifax:20250927T110000
DTSTAMP:20260422T184859
CREATED:20250924T131005Z
LAST-MODIFIED:20250926T170758Z
UID:6284597-1758960000-1758970800@carletonnorth.com
SUMMARY:Breakfast at Juniper Community Centre
DESCRIPTION:Breakfast at Juniper Community CentreDate: Weekly on SaturdayTime:  8:00AM – 11:00AMLocation:  Juniper Community Centre\, 267 Juniper Rd\, Juniper \nDon’t forget to join us for Breakfast  from 8am – 11am at the Juniper Community Centre.   Great company and a fantastic way to start your weekend. Everyone is welcome—bring your family\, friends\, and neighbors! 💛 \nBring someone who needs a delicious Saturday morning pick-me-up! 🍳🥓 \n#CommunityBreakfast #SaturdayVibes #GoodFoodGoodCompany \nhttps://www.facebook.com/JCC506
URL:https://carletonnorth.com/event/breakfast-at-juniper-community-centre-22/
LOCATION:Juniper Community Centre\, 267 Juniper Rd\, Juniper\, NB E7L 1H1\, Canada
CATEGORIES:Community Calendar
END:VEVENT
BEGIN:VEVENT
DTSTART;TZID=America/Halifax:20250927T083000
DTEND;TZID=America/Halifax:20250927T093000
DTSTAMP:20260422T184859
CREATED:20250821T132312Z
LAST-MODIFIED:20250927T063735Z
UID:5761975-1758961800-1758965400@carletonnorth.com
SUMMARY:U7 - MINOR HOCKEY
DESCRIPTION:
URL:https://carletonnorth.com/event/u7-minor-hockey-40/
END:VEVENT
BEGIN:VEVENT
DTSTART;TZID=America/Halifax:20250927T090000
DTEND;TZID=America/Halifax:20250927T140000
DTSTAMP:20260422T184859
CREATED:20250925T165245Z
LAST-MODIFIED:20250926T170756Z
UID:6303074-1758963600-1758981600@carletonnorth.com
SUMMARY:Fall Yard Sale
DESCRIPTION:Fall Yard Sale Date:  September 27\, 2025Time:  9:00AM – 2:00PMLocation:  St. John the Evangelist Church Basement\, 309 Johnville Rd.\, Johnville
URL:https://carletonnorth.com/event/fall-yard-sale-4/
LOCATION:309 Johnville Rd\, Johnville\, NB E7J 1J1\, Canada
CATEGORIES:Community Calendar
END:VEVENT
BEGIN:VEVENT
DTSTART;TZID=America/Halifax:20250927T090000
DTEND;TZID=America/Halifax:20250927T160000
DTSTAMP:20260422T184859
CREATED:20250924T130956Z
LAST-MODIFIED:20250927T172247Z
UID:6284596-1758963600-1758988800@carletonnorth.com
SUMMARY:Bowl for Kids 2025
DESCRIPTION:Big Brothers Big Sisters of Carleton-YorkBowl for Kids 2025Date: Saturday\, September 27\, 2025Location:  Woodstock Bowlacade\, 11 Sawyer Rd\, JacksonvilleBE A SPONSOR OR GET YOUR TEAM TOGETHER \nFor more information: 506-328-2094 or info.cy2bigbrothersigsisters.cahttps://carletonyork.bigbrothersbigsisters.ca/bowl-for-kids-2025/https://www.facebook.com/bbbs.cy
URL:https://carletonnorth.com/event/bowl-for-kids-2025/
LOCATION:Woodstock Bowlacade\, 11 Sawyer Rd\, Jacksonville\, NB E7M 5K5\, Canada
CATEGORIES:Community Calendar
END:VEVENT
BEGIN:VEVENT
DTSTART;TZID=America/Halifax:20250927T094500
DTEND;TZID=America/Halifax:20250927T104500
DTSTAMP:20260422T184859
CREATED:20250821T132312Z
LAST-MODIFIED:20250927T063736Z
UID:5761976-1758966300-1758969900@carletonnorth.com
SUMMARY:U9 - MINOR HOCKEY
DESCRIPTION:
URL:https://carletonnorth.com/event/u9-minor-hockey-31/
END:VEVENT
BEGIN:VEVENT
DTSTART;TZID=America/Halifax:20250927T110000
DTEND;TZID=America/Halifax:20250927T120000
DTSTAMP:20260422T184859
CREATED:20250821T132313Z
LAST-MODIFIED:20250927T063736Z
UID:5761977-1758970800-1758974400@carletonnorth.com
SUMMARY:U13 - MINOR HOCKEY
DESCRIPTION:
URL:https://carletonnorth.com/event/u11-minor-hockey-9/
END:VEVENT
BEGIN:VEVENT
DTSTART;TZID=America/Halifax:20250927T121500
DTEND;TZID=America/Halifax:20250927T131500
DTSTAMP:20260422T184859
CREATED:20250821T132313Z
LAST-MODIFIED:20250927T063736Z
UID:5761978-1758975300-1758978900@carletonnorth.com
SUMMARY:ZWD #2 - MINOR HOCKEY
DESCRIPTION:
URL:https://carletonnorth.com/event/zwd-2-minor-hockey/
END:VEVENT
BEGIN:VEVENT
DTSTART;TZID=America/Halifax:20250927T133000
DTEND;TZID=America/Halifax:20250927T143000
DTSTAMP:20260422T184859
CREATED:20250821T132313Z
LAST-MODIFIED:20250927T063737Z
UID:5761979-1758979800-1758983400@carletonnorth.com
SUMMARY:U11 - MINOR HOCKEY
DESCRIPTION:
URL:https://carletonnorth.com/event/u13-minor-hockey-10/
END:VEVENT
BEGIN:VEVENT
DTSTART;TZID=America/Halifax:20250927T140000
DTEND;TZID=America/Halifax:20250927T160000
DTSTAMP:20260422T184859
CREATED:20250924T131013Z
LAST-MODIFIED:20250927T172246Z
UID:6284598-1758981600-1758988800@carletonnorth.com
SUMMARY:Juniper Community Centre Jamboree
DESCRIPTION:Juniper Community Centre Jamboree2:00PM to 4:00PMThe last Saturday of the Month: follow https://www.facebook.com/JCC506 on Facebook \n \nLive Music by local performers  \nLight Lunch to share with friends and neighbors  \nDoor Prizes for a little extra excitement  \n50/50 Draw – Try your luck and support a great cause!  \nAdmission: By donation – Your contributions help support our community efforts! \nBring your family\, invite your friends\, and let’s make it an afternoon to remember! \nEmail: junipercommunitycentre@gmail.comjunipercc.ca
URL:https://carletonnorth.com/event/juniper-community-centre-jamboree-6/
LOCATION:Juniper Community Centre\, 267 Juniper Rd\, Juniper\, NB E7L 1H1\, Canada
CATEGORIES:Community Calendar
END:VEVENT
BEGIN:VEVENT
DTSTART;TZID=America/Halifax:20250927T144500
DTEND;TZID=America/Halifax:20250927T154500
DTSTAMP:20260422T184859
CREATED:20250821T132313Z
LAST-MODIFIED:20250927T063737Z
UID:5761980-1758984300-1758987900@carletonnorth.com
SUMMARY:U15/18 - MINOR HOCKEY
DESCRIPTION:
URL:https://carletonnorth.com/event/u15-18-minor-hockey-6/
END:VEVENT
BEGIN:VEVENT
DTSTART;TZID=America/Halifax:20250927T160000
DTEND;TZID=America/Halifax:20250927T170000
DTSTAMP:20260422T184859
CREATED:20250821T132313Z
LAST-MODIFIED:20250927T063737Z
UID:5761981-1758988800-1758992400@carletonnorth.com
SUMMARY:U13AAA NORTH WEST BULLS
DESCRIPTION:
URL:https://carletonnorth.com/event/first-shift-1-minor-hockey/
END:VEVENT
BEGIN:VEVENT
DTSTART;TZID=America/Halifax:20250927T171500
DTEND;TZID=America/Halifax:20250927T181500
DTSTAMP:20260422T184859
CREATED:20250821T132314Z
LAST-MODIFIED:20250927T063737Z
UID:5761982-1758993300-1758996900@carletonnorth.com
SUMMARY:RIVERVALLEY ROADRUNNERS
DESCRIPTION:
URL:https://carletonnorth.com/event/rivervalley-roadrunners/
END:VEVENT
BEGIN:VEVENT
DTSTART;TZID=America/Halifax:20250927T183000
DTEND;TZID=America/Halifax:20250927T193000
DTSTAMP:20260422T184859
CREATED:20250904T123847Z
LAST-MODIFIED:20250927T063738Z
UID:5979913-1758997800-1759001400@carletonnorth.com
SUMMARY:WESTERN VALLEY FEMALES
DESCRIPTION:
URL:https://carletonnorth.com/event/western-valley-females-2/
END:VEVENT
BEGIN:VEVENT
DTSTART;TZID=America/Halifax:20250927T194500
DTEND;TZID=America/Halifax:20250927T210000
DTSTAMP:20260422T184859
CREATED:20250904T173825Z
LAST-MODIFIED:20250927T063738Z
UID:5982945-1759002300-1759006800@carletonnorth.com
SUMMARY:SOUTHERN VICTORIA BOYS
DESCRIPTION:
URL:https://carletonnorth.com/event/southern-victoria-boys-2/
END:VEVENT
BEGIN:VEVENT
DTSTART;TZID=America/Halifax:20250928T080000
DTEND;TZID=America/Halifax:20250928T103000
DTSTAMP:20260422T184859
CREATED:20250924T131041Z
LAST-MODIFIED:20250927T172248Z
UID:6284600-1759046400-1759055400@carletonnorth.com
SUMMARY:Household Hazardous Waste Disposal Day 2025
DESCRIPTION:Household Hazardous Waste Disposal Day 2025Date: Sunday September 28Time: 8:00AM to 10:30AMLocation:  Town Office\, 19 Station Road\, Florenceville-BristolFlorenceville-Bristol Fire Department will be onsite to assist with disposalThis is a drive-thru service and all materials for disposal must be placed in the trunk for easy access from volunteers.
URL:https://carletonnorth.com/event/household-hazardous-waste-disposal-day-2025/
LOCATION:19 Station Rd\, Florenceville-Bristol\, NB E7L 3J8\, Canada
CATEGORIES:Community Calendar
END:VEVENT
END:VCALENDAR