BEGIN:VCALENDAR
VERSION:2.0
PRODID:-//District of Carleton North - ECPv6.15.20//NONSGML v1.0//EN
CALSCALE:GREGORIAN
METHOD:PUBLISH
X-WR-CALNAME:District of Carleton North
X-ORIGINAL-URL:https://carletonnorth.com
X-WR-CALDESC:Events for District of Carleton North
REFRESH-INTERVAL;VALUE=DURATION:PT1H
X-Robots-Tag:noindex
X-PUBLISHED-TTL:PT1H
BEGIN:VTIMEZONE
TZID:America/Halifax
BEGIN:DAYLIGHT
TZOFFSETFROM:-0400
TZOFFSETTO:-0300
TZNAME:ADT
DTSTART:20240310T060000
END:DAYLIGHT
BEGIN:STANDARD
TZOFFSETFROM:-0300
TZOFFSETTO:-0400
TZNAME:AST
DTSTART:20241103T050000
END:STANDARD
BEGIN:DAYLIGHT
TZOFFSETFROM:-0400
TZOFFSETTO:-0300
TZNAME:ADT
DTSTART:20250309T060000
END:DAYLIGHT
BEGIN:STANDARD
TZOFFSETFROM:-0300
TZOFFSETTO:-0400
TZNAME:AST
DTSTART:20251102T050000
END:STANDARD
BEGIN:DAYLIGHT
TZOFFSETFROM:-0400
TZOFFSETTO:-0300
TZNAME:ADT
DTSTART:20260308T060000
END:DAYLIGHT
BEGIN:STANDARD
TZOFFSETFROM:-0300
TZOFFSETTO:-0400
TZNAME:AST
DTSTART:20261101T050000
END:STANDARD
END:VTIMEZONE
BEGIN:VEVENT
DTSTART;TZID=America/Halifax:20250529T080000
DTEND;TZID=America/Halifax:20250529T180000
DTSTAMP:20260423T085607
CREATED:20250507T185340Z
LAST-MODIFIED:20250529T082341Z
UID:4217090-1748505600-1748541600@carletonnorth.com
SUMMARY:Yard Sale Fundraiser
DESCRIPTION:Date:  May 22\, 2025Time:  8:00AM – 6:00PMLocation:  Bannon Bible Camp\, 85 Jericho Rd\, Bannon \nStarting May 22 and open each weekend until June 21.  \nYard Sale open Thursdays and Fridays 8am to 6pm; Saturdays 8am to Noon. \nProceeds for Bannon Bible Camp.  \nContact Ruth Sawler at ruan@nbnet.nb.ca.
URL:https://carletonnorth.com/event/yard-sale-fundraiser-4/
LOCATION:Bannon Bible Camp\, 85 Jericho Rd\, Bannon\, NB E7L 3T1\, Canada
CATEGORIES:Community Calendar
END:VEVENT
BEGIN:VEVENT
DTSTART;TZID=America/Halifax:20250528T173000
DTEND;TZID=America/Halifax:20250528T203000
DTSTAMP:20260423T085607
CREATED:20250114T225953Z
LAST-MODIFIED:20250527T235354Z
UID:2564637-1748453400-1748464200@carletonnorth.com
SUMMARY:Rockwall Drop-in
DESCRIPTION:Rockwall Drop-ins\nCost: $3 Adult | $2 55+\n506-392-6763 ext 220 for more information
URL:https://carletonnorth.com/event/rockwall-drop-in-50/
LOCATION:40 McCain St\, Florenceville-Bristol\, NB E7L 3J4\, Canada
CATEGORIES:Community Calendar
END:VEVENT
BEGIN:VEVENT
DTSTART;TZID=America/Halifax:20250528T130000
DTEND;TZID=America/Halifax:20250528T160000
DTSTAMP:20260423T085607
CREATED:20250114T225953Z
LAST-MODIFIED:20250527T235354Z
UID:2564636-1748437200-1748448000@carletonnorth.com
SUMMARY:Senior Puzzles\, Social & Cards
DESCRIPTION:They have snacks\, tea\, and play a variation of puzzles. you can also bring puzzles to trade!\nfrom 1pm-4pm $3 for entry (55+)\nEnjoy an afternoon of card games\, snacks\, and fun!
URL:https://carletonnorth.com/event/senior-puzzles-social-cards-52/
LOCATION:40 McCain St\, Florenceville-Bristol\, NB E7L 3J4\, Canada
CATEGORIES:Community Calendar
END:VEVENT
BEGIN:VEVENT
DTSTART;TZID=America/Halifax:20250528T110000
DTEND;TZID=America/Halifax:20250528T120000
DTSTAMP:20260423T085607
CREATED:20250501T172311Z
LAST-MODIFIED:20250527T235353Z
UID:4127619-1748430000-1748433600@carletonnorth.com
SUMMARY:Senior Stretching
DESCRIPTION:Nursing Home Without Walls is offering Senior Stretching at Centreville Baptist Church at 11:00am.  This is a great opportunity to get moving and to socialize.  Includes some light seated exercise.
URL:https://carletonnorth.com/event/senior-stretching-48/
LOCATION:Centreville Baptist Church\, 756 Central St\, Centreville\, NB E7K 2L6\, Canada
CATEGORIES:Community Calendar
END:VEVENT
BEGIN:VEVENT
DTSTART;TZID=America/Halifax:20250528T100000
DTEND;TZID=America/Halifax:20250528T110000
DTSTAMP:20260423T085607
CREATED:20250501T172311Z
LAST-MODIFIED:20250527T235353Z
UID:4127620-1748426400-1748430000@carletonnorth.com
SUMMARY:Senior Stretching
DESCRIPTION:Nursing Home Without Walls is offering Senior Stretching at Shiktehawk Place at 10:00am.  This is a great opportunity to get moving and to socialize.  Includes some light seated exercise.
URL:https://carletonnorth.com/event/senior-stretching-49/
LOCATION:Shiktehawk Place
CATEGORIES:Community Calendar
END:VEVENT
BEGIN:VEVENT
DTSTART;TZID=America/Halifax:20250528T083000
DTEND;TZID=America/Halifax:20250528T103000
DTSTAMP:20260423T085607
CREATED:20250307T195558Z
LAST-MODIFIED:20250527T235353Z
UID:3323393-1748421000-1748428200@carletonnorth.com
SUMMARY:Novice Pickleball Drop-Ins
DESCRIPTION:Novice Pickleball Drop-ins\, Wednesdays from 8:30AM-10:30AMR.G. “Bun” Veysey Active Living CentreAll ages and skill levels welcomeCost: $3- Adults $2-Senior/55+ \n \nFor any questions\, please contact: \n📧 recreation@carletonnorth.com \n☎ (506) 392-6763 Ext. 220
URL:https://carletonnorth.com/event/novice-pickleball-drop-ins-87/
LOCATION:40 McCain St\, Florenceville-Bristol\, NB E7L 3J4\, Canada
CATEGORIES:Community Calendar
END:VEVENT
BEGIN:VEVENT
DTSTART;VALUE=DATE:20250528
DTEND;VALUE=DATE:20250529
DTSTAMP:20260423T085607
CREATED:20250503T175358Z
LAST-MODIFIED:20250527T235352Z
UID:4158281-1748390400-1748476799@carletonnorth.com
SUMMARY:NHWW Errand Trip-FREE Transportation
DESCRIPTION:Nursing Home Without Walls is providing transportation  for banking and grocery shopping for Seniors 60+ living in the Juniper/Glassville areas.  \nLeave the driving to someone else\, give us a call to arrange this FREE service. River View Manor Bus –  Seniors In Motion\nRoute: Juniper/Glassville to Florenceville-Bristol\nFor more information call 506-278-3197. Last day to sign up is May 20\, 2025
URL:https://carletonnorth.com/event/nhww-errand-trip-free-transportation/
LOCATION:Glassville/Juniper Area
CATEGORIES:Community Calendar
END:VEVENT
BEGIN:VEVENT
DTSTART;TZID=America/Halifax:20250527T190000
DTEND;TZID=America/Halifax:20250527T210000
DTSTAMP:20260423T085607
CREATED:20250114T225952Z
LAST-MODIFIED:20250527T235351Z
UID:2564633-1748372400-1748379600@carletonnorth.com
SUMMARY:District of Carleton North Council Meeting
DESCRIPTION:Items for Council’s consideration must be submitted to the Clerk amy.mcintosh@carletonnorht.com one week in advance of a Council meeting.
URL:https://carletonnorth.com/event/district-of-carleton-north-council-meeting-35/
LOCATION:Town Office\, 19 Station Rd\, Florenceville-Bristol\, NB E7L 3J8\, Canada
CATEGORIES:Community Calendar
END:VEVENT
BEGIN:VEVENT
DTSTART;TZID=America/Halifax:20250527T180000
DTEND;TZID=America/Halifax:20250527T210000
DTSTAMP:20260423T085607
CREATED:20250310T203924Z
LAST-MODIFIED:20250527T235352Z
UID:3370379-1748368800-1748379600@carletonnorth.com
SUMMARY:Tuesday Night Bingo
DESCRIPTION:Tuesday Night Bingo February 25th –  June 17th 2025 at the Upper Kent Rec Centre.  Doors open at 6:00pm – game starts at 7:00pm.  25 cents/3 cards/ toonie #/ final game winner takes all.  For more information\, check out Upper Kent Recreation Centre facebook page
URL:https://carletonnorth.com/event/tuesday-night-bingo-29/
LOCATION:240 Upper Kent Rd\, Upper Kent\, NB E7J 2E6\, Canada
CATEGORIES:Community Calendar
END:VEVENT
BEGIN:VEVENT
DTSTART;TZID=America/Halifax:20250527T173000
DTEND;TZID=America/Halifax:20250527T203000
DTSTAMP:20260423T085607
CREATED:20250114T225952Z
LAST-MODIFIED:20250526T233753Z
UID:2564634-1748367000-1748377800@carletonnorth.com
SUMMARY:Rockwall Drop-in
DESCRIPTION:Rockwall Drop-ins\nCost: $3 Adult | $2 55+\n506-392-6763 ext 220 for more information
URL:https://carletonnorth.com/event/rockwall-drop-in-49/
LOCATION:40 McCain St\, Florenceville-Bristol\, NB E7L 3J4\, Canada
CATEGORIES:Community Calendar
END:VEVENT
BEGIN:VEVENT
DTSTART;TZID=America/Halifax:20250527T093000
DTEND;TZID=America/Halifax:20250527T113000
DTSTAMP:20260423T085607
CREATED:20250114T225951Z
LAST-MODIFIED:20250526T233753Z
UID:2564631-1748338200-1748345400@carletonnorth.com
SUMMARY:Play Group: St. Leo's Church
DESCRIPTION:The Valley Family Resource Centre: Play GroupWednesdays 9:30AM – 11:30AMSt. Leo’s Church\, 60 Perkins Way\, Florenceville-BristolUse the Side\, Basement Door entrance \nRunning from September to JuneRegistration/More Information: 506-325-2299/ heidi.homer@frc-crf.comRegistration Form: https://docs.google.com/forms/d/e/1FAIpQLSfax8DDMZzgKvN6QzkDk9UuFZ_KswBWLHKVCf1A5eAyyktzvQ/viewform
URL:https://carletonnorth.com/event/play-group-st-leos-church-20/
LOCATION:St Leo the Great’s Church\, 60 Perkins Way\, Florenceville-Bristol\, NB E7L 3H9\, Canada
CATEGORIES:Community Calendar
END:VEVENT
BEGIN:VEVENT
DTSTART;TZID=America/Halifax:20250527T083000
DTEND;TZID=America/Halifax:20250527T103000
DTSTAMP:20260423T085607
CREATED:20250306T193957Z
LAST-MODIFIED:20250526T233752Z
UID:3308865-1748334600-1748341800@carletonnorth.com
SUMMARY:Drop-in Pickleball
DESCRIPTION:Tuesday & Friday Pickleball\, 8:30AM-10:30AMR.G. “Bun” Veysey Active Living CentreAll ages and skill levels welcomeCost: $3- Adults $2-Senior/55+ \nFor any questions\, please contact: \n📧 recreation@carletonnorth.com \n☎ (506) 392-6763 Ext. 220
URL:https://carletonnorth.com/event/drop-in-pickleball-188/
LOCATION:40 McCain St\, Florenceville-Bristol\, NB E7L 3J4\, Canada\, Northern Carleton Recreation Centre
CATEGORIES:Community Calendar
END:VEVENT
BEGIN:VEVENT
DTSTART;TZID=America/Halifax:20250526T184500
DTEND;TZID=America/Halifax:20250526T204500
DTSTAMP:20260423T085607
CREATED:20250307T195555Z
LAST-MODIFIED:20250526T233752Z
UID:3323391-1748285100-1748292300@carletonnorth.com
SUMMARY:Ladies Night Pickleball
DESCRIPTION:Ladies Night Pickleball\nMondays 6:45PM  – 8:45PM\nCost: $3 Adult/ $2 55+\nContact Recreation Department:  506-392-6763 ext. 220 or recreation@carletonnorth.com
URL:https://carletonnorth.com/event/ladies-night-pickleball-94/
LOCATION:R. G. “Bun” Veysey Active Living Centre\, Florenceville-Bristol\, NB
CATEGORIES:Community Calendar
END:VEVENT
BEGIN:VEVENT
DTSTART;TZID=America/Halifax:20250526T173000
DTEND;TZID=America/Halifax:20250526T203000
DTSTAMP:20260423T085607
CREATED:20250114T225950Z
LAST-MODIFIED:20250525T232234Z
UID:2564629-1748280600-1748291400@carletonnorth.com
SUMMARY:Rockwall Drop-in
DESCRIPTION:Rockwall Drop-ins\nCost: $3 Adult | $2 55+\n506-392-6763 ext 220 for more information
URL:https://carletonnorth.com/event/rockwall-drop-in-48/
LOCATION:40 McCain St\, Florenceville-Bristol\, NB E7L 3J4\, Canada
CATEGORIES:Community Calendar
END:VEVENT
BEGIN:VEVENT
DTSTART;TZID=America/Halifax:20250526T140000
DTEND;TZID=America/Halifax:20250526T150000
DTSTAMP:20260423T085607
CREATED:20250501T172308Z
LAST-MODIFIED:20250525T232234Z
UID:4127617-1748268000-1748271600@carletonnorth.com
SUMMARY:Senior Stretching
DESCRIPTION:Nursing Home Without Walls is offering Senior Stretching at River View Manor Complex at 2:00pm.  This is a great opportunity to get moving and to socialize.  Includes some light seated exercise.
URL:https://carletonnorth.com/event/senior-stretching-46/
LOCATION:River View Manor Complex\, 96 Hospital St\, Bath\, NB E7J 1B9\, Canada
CATEGORIES:Community Calendar
END:VEVENT
BEGIN:VEVENT
DTSTART;TZID=America/Halifax:20250526T130000
DTEND;TZID=America/Halifax:20250526T140000
DTSTAMP:20260423T085607
CREATED:20250501T172308Z
LAST-MODIFIED:20250525T232233Z
UID:4127618-1748264400-1748268000@carletonnorth.com
SUMMARY:Senior Stretching
DESCRIPTION:Nursing Home Without Walls is offering Senior Stretching at Beechwood Senior Complex at 1:00pm.  This is a great opportunity to get moving and to socialize.  Includes some light seated exercise.
URL:https://carletonnorth.com/event/senior-stretching-47/
LOCATION:Beechwood Senior Complex
CATEGORIES:Community Calendar
END:VEVENT
BEGIN:VEVENT
DTSTART;TZID=America/Halifax:20250525T190000
DTEND;TZID=America/Halifax:20250525T210000
DTSTAMP:20260423T085607
CREATED:20250114T225950Z
LAST-MODIFIED:20250525T232233Z
UID:2564628-1748199600-1748206800@carletonnorth.com
SUMMARY:Kin Club Bingo
DESCRIPTION:The Kin Club Weekly Bingo Takes Place every Sunday\, with door opening at 6pm and games starting at 7pm.\nCost: $10 books\, $5 books\, $1 Specials and $25 package deals and more.
URL:https://carletonnorth.com/event/kin-club-bingo-73/
LOCATION:Florenceville Kin Center\, 381 Centreville Rd\, Florenceville-Bristol\, NB E7L 3K5\, Canada
CATEGORIES:Community Calendar
END:VEVENT
BEGIN:VEVENT
DTSTART;TZID=America/Halifax:20250525T153000
DTEND;TZID=America/Halifax:20250525T183000
DTSTAMP:20260423T085607
CREATED:20250417T135347Z
LAST-MODIFIED:20250524T230735Z
UID:3921912-1748187000-1748197800@carletonnorth.com
SUMMARY:Rockwall Drop-ins
DESCRIPTION:Rockwall Drop-ins\nCost: $3 Adult | $2 55+\nSaturdays & Sundays\n9:00AM-12:00PM\n3:30PM-6:30PM\nFor more information: 506-392-6763 ext. 220
URL:https://carletonnorth.com/event/rockwall-drop-ins-560/
LOCATION:R. G. “Bun” Veysey Active Living Centre\, 40 McCain St\, Florenceville-Bristol\, NB E7L 3J4\, Canada
CATEGORIES:Community Calendar
END:VEVENT
BEGIN:VEVENT
DTSTART;TZID=America/Halifax:20250525T090000
DTEND;TZID=America/Halifax:20250525T120000
DTSTAMP:20260423T085607
CREATED:20250417T135345Z
LAST-MODIFIED:20250524T230734Z
UID:3921911-1748163600-1748174400@carletonnorth.com
SUMMARY:Rockwall Drop-ins
DESCRIPTION:Rockwall Drop-ins\nCost: $3 Adult | $2 55+\nSaturdays & Sundays\n9:00AM-12:00PM\n3:30PM-6:30PM\nFor more information: 506-392-6763 ext. 220
URL:https://carletonnorth.com/event/rockwall-drop-ins-559/
LOCATION:R. G. “Bun” Veysey Active Living Centre\, 40 McCain St\, Florenceville-Bristol\, NB E7L 3J4\, Canada
CATEGORIES:Community Calendar
END:VEVENT
BEGIN:VEVENT
DTSTART;TZID=America/Halifax:20250524T153000
DTEND;TZID=America/Halifax:20250524T183000
DTSTAMP:20260423T085607
CREATED:20250417T135344Z
LAST-MODIFIED:20250523T225323Z
UID:3921910-1748100600-1748111400@carletonnorth.com
SUMMARY:Rockwall Drop-ins
DESCRIPTION:Rockwall Drop-ins\nCost: $3 Adult | $2 55+\nSaturdays & Sundays\n9:00AM-12:00PM\n3:30PM-6:30PM\nFor more information: 506-392-6763 ext. 220
URL:https://carletonnorth.com/event/rockwall-drop-ins-558/
LOCATION:R. G. “Bun” Veysey Active Living Centre\, 40 McCain St\, Florenceville-Bristol\, NB E7L 3J4\, Canada
CATEGORIES:Community Calendar
END:VEVENT
BEGIN:VEVENT
DTSTART;TZID=America/Halifax:20250524T090000
DTEND;TZID=America/Halifax:20250524T120000
DTSTAMP:20260423T085607
CREATED:20250417T135343Z
LAST-MODIFIED:20250523T225322Z
UID:3921909-1748077200-1748088000@carletonnorth.com
SUMMARY:Rockwall Drop-ins
DESCRIPTION:Rockwall Drop-ins\nCost: $3 Adult | $2 55+\nSaturdays & Sundays\n9:00AM-12:00PM\n3:30PM-6:30PM\nFor more information: 506-392-6763 ext. 220
URL:https://carletonnorth.com/event/rockwall-drop-ins-557/
LOCATION:R. G. “Bun” Veysey Active Living Centre\, 40 McCain St\, Florenceville-Bristol\, NB E7L 3J4\, Canada
CATEGORIES:Community Calendar
END:VEVENT
BEGIN:VEVENT
DTSTART;TZID=America/Halifax:20250524T080000
DTEND;TZID=America/Halifax:20250524T120000
DTSTAMP:20260423T085607
CREATED:20250507T185328Z
LAST-MODIFIED:20250523T225322Z
UID:4217089-1748073600-1748088000@carletonnorth.com
SUMMARY:Yard Sale Fundraiser
DESCRIPTION:Date:  May 22\, 2025Time:  8:00AM – 12:00PMLocation:  Bannon Bible Camp\, 85 Jericho Rd\, Bannon \nStarting May 22 and open each weekend until June 21.  \nYard Sale open Thursdays and Fridays 8am to 6pm; Saturdays 8am to Noon. \nProceeds for Bannon Bible Camp.  \nContact Ruth Sawler at ruan@nbnet.nb.ca.
URL:https://carletonnorth.com/event/yard-sale-fundraiser-3/
LOCATION:Bannon Bible Camp\, 85 Jericho Rd\, Bannon\, NB E7L 3T1\, Canada
CATEGORIES:Community Calendar
END:VEVENT
BEGIN:VEVENT
DTSTART;TZID=America/Halifax:20250524T080000
DTEND;TZID=America/Halifax:20250524T110000
DTSTAMP:20260423T085607
CREATED:20250424T153832Z
LAST-MODIFIED:20250523T225322Z
UID:4025437-1748073600-1748084400@carletonnorth.com
SUMMARY:Breakfast at Juniper Community Centre
DESCRIPTION:Don’t forget to join us for Breakfast  from 8am – 11am at the Juniper Community Centre.   Great company and a fantastic way to start your weekend. Everyone is welcome—bring your family\, friends\, and neighbors! 💛 \nBring someone who needs a delicious Saturday morning pick-me-up! 🍳🥓 \n#CommunityBreakfast #SaturdayVibes #GoodFoodGoodCompany \nhttps://www.facebook.com/JCC506
URL:https://carletonnorth.com/event/breakfast-at-juniper-community-centre-5/
LOCATION:Juniper Community Centre\, 267 Juniper Rd\, Juniper\, NB E7L 1H1\, Canada
CATEGORIES:Community Calendar
END:VEVENT
BEGIN:VEVENT
DTSTART;TZID=America/Halifax:20250523T190000
DTEND;TZID=America/Halifax:20250523T203000
DTSTAMP:20260423T085607
CREATED:20250507T185327Z
LAST-MODIFIED:20250523T225320Z
UID:4217088-1748026800-1748032200@carletonnorth.com
SUMMARY:Worship Night
DESCRIPTION:Date:  May 23\, 2025Time:  7:00PM – 8:30PMLocation:  Bristol Free Will Baptist Church\, 20 Tapley Rd\, Bristol \nThe “Joyful Journeyers” invite you Friday May 23rd\, 7pm at Bristol Free Will Baptist Church. They will bring a night full of Worship music along with Scripture. We will have light refreshments after.  \nThis event is for all ages. \nFREE event
URL:https://carletonnorth.com/event/worship-night/
LOCATION:Bristol Free Will Baptist Church\, 20 Tapley Rd\, Bristol\, NB E7L 2E1\, Canada
CATEGORIES:Community Calendar
END:VEVENT
BEGIN:VEVENT
DTSTART;TZID=America/Halifax:20250523T180000
DTEND;TZID=America/Halifax:20250523T210000
DTSTAMP:20260423T085607
CREATED:20250424T153831Z
LAST-MODIFIED:20250523T225321Z
UID:4025436-1748023200-1748034000@carletonnorth.com
SUMMARY:Friday Night Social at Upper Kent Rec
DESCRIPTION:Friday Night Social at The Upper Kent Rec Centre \nFridays: 6:00PM – 9:00PM \nEntry by DonationFollow on Facebook for the weekly menu at https://www.facebook.com/profile.php?id=100082114163442
URL:https://carletonnorth.com/event/friday-night-social-at-upper-kent-rec-5/
LOCATION:Upper Kent Recreation Centre\, 240 Upper Kent Rd\, Upper Kent\, NB E7J 2E6\, Canada
CATEGORIES:Community Calendar
END:VEVENT
BEGIN:VEVENT
DTSTART;TZID=America/Halifax:20250523T173000
DTEND;TZID=America/Halifax:20250523T203000
DTSTAMP:20260423T085607
CREATED:20250501T172305Z
LAST-MODIFIED:20250523T225321Z
UID:4127616-1748021400-1748032200@carletonnorth.com
SUMMARY:Rock Wall Drop-Ins
DESCRIPTION:Rockwall Drop-insCost: $3 Adult | $2 55+ \n For more information: 506-392-6763 ext. 220
URL:https://carletonnorth.com/event/rock-wall-drop-ins-4/
LOCATION:R. G. “Bun” Veysey Active Living Centre\, 40 McCain St\, Florenceville-Bristol\, NB E7L 3J4\, Canada
CATEGORIES:Community Calendar
END:VEVENT
BEGIN:VEVENT
DTSTART;TZID=America/Halifax:20250523T103000
DTEND;TZID=America/Halifax:20250523T113000
DTSTAMP:20260423T085607
CREATED:20250401T095420Z
LAST-MODIFIED:20250522T223840Z
UID:3684268-1747996200-1747999800@carletonnorth.com
SUMMARY:Talk With Me:  Song & Rhymes
DESCRIPTION:Come play\, learn and grow together!  Fun and engaging activities for children aged birth-5 years.  Activities include story time and singing\, arts and crafts.\nFor more information and to register call 1-866-423-8800 or visit Talk With Me Program – Woodstock facebook page.
URL:https://carletonnorth.com/event/talk-with-me-song-rhymes-8/
LOCATION:Andrew & Laura McCain Public Library\, 8 McCain St\, Florenceville-Bristol\, NB E7L 3H6\, Canada
CATEGORIES:Community Calendar
END:VEVENT
BEGIN:VEVENT
DTSTART;TZID=America/Halifax:20250523T083000
DTEND;TZID=America/Halifax:20250523T103000
DTSTAMP:20260423T085607
CREATED:20250306T193952Z
LAST-MODIFIED:20250522T223839Z
UID:3308864-1747989000-1747996200@carletonnorth.com
SUMMARY:Drop-in Pickleball
DESCRIPTION:Tuesday & Friday Pickleball\, 8:30AM-10:30AMR.G. “Bun” Veysey Active Living CentreAll ages and skill levels welcomeCost: $3- Adults $2-Senior/55+ \nFor any questions\, please contact: \n📧 recreation@carletonnorth.com \n☎ (506) 392-6763 Ext. 220
URL:https://carletonnorth.com/event/drop-in-pickleball-187/
LOCATION:40 McCain St\, Florenceville-Bristol\, NB E7L 3J4\, Canada\, Northern Carleton Recreation Centre
CATEGORIES:Community Calendar
END:VEVENT
BEGIN:VEVENT
DTSTART;TZID=America/Halifax:20250523T080000
DTEND;TZID=America/Halifax:20250523T180000
DTSTAMP:20260423T085607
CREATED:20250507T185326Z
LAST-MODIFIED:20250522T223841Z
UID:4217086-1747987200-1748023200@carletonnorth.com
SUMMARY:Yard Sale Fundraiser
DESCRIPTION:Date:  May 22\, 2025Time:  8:00AM – 6:00PMLocation:  Bannon Bible Camp\, 85 Jericho Rd\, Bannon \nStarting May 22 and open each weekend until June 21.  \nYard Sale open Thursdays and Fridays 8am to 6pm; Saturdays 8am to Noon. \nProceeds for Bannon Bible Camp.  \nContact Ruth Sawler at ruan@nbnet.nb.ca.
URL:https://carletonnorth.com/event/yard-sale-fundraiser-2/
LOCATION:Bannon Bible Camp\, 85 Jericho Rd\, Bannon\, NB E7L 3T1\, Canada
CATEGORIES:Community Calendar
END:VEVENT
BEGIN:VEVENT
DTSTART;TZID=America/Halifax:20250522T183000
DTEND;TZID=America/Halifax:20250522T193000
DTSTAMP:20260423T085607
CREATED:20250501T172304Z
LAST-MODIFIED:20250521T222240Z
UID:4127615-1747938600-1747942200@carletonnorth.com
SUMMARY:Heat Preparedness Education Session
DESCRIPTION:Date:  May 22\, 2025Time:  6:30PM – 7:30PMLocation:   Community Hall\, 8696 Main St\, Florenceville-Bristol \nNHWW will have lots of info on how to stay cool during ‘extreme heat’ events\, we will have FREE cool-kits available and you can enroll in our FREE ‘heat check-in’ program. Come find out what NHWW is doing this summer to assist older persons in your community. \nFor more information call 506-278-3197
URL:https://carletonnorth.com/event/heat-preparedness-education-session-4/
LOCATION:Florenceville-Bristol Community Hall\, 8696 Main St\, Florenceville-Bristol\, NB E7L 3G8\, Canada
CATEGORIES:Community Calendar
END:VEVENT
END:VCALENDAR