BEGIN:VCALENDAR
VERSION:2.0
PRODID:-//District of Carleton North - ECPv6.15.20//NONSGML v1.0//EN
CALSCALE:GREGORIAN
METHOD:PUBLISH
X-WR-CALNAME:District of Carleton North
X-ORIGINAL-URL:https://carletonnorth.com
X-WR-CALDESC:Events for District of Carleton North
REFRESH-INTERVAL;VALUE=DURATION:PT1H
X-Robots-Tag:noindex
X-PUBLISHED-TTL:PT1H
BEGIN:VTIMEZONE
TZID:America/Halifax
BEGIN:DAYLIGHT
TZOFFSETFROM:-0400
TZOFFSETTO:-0300
TZNAME:ADT
DTSTART:20240310T060000
END:DAYLIGHT
BEGIN:STANDARD
TZOFFSETFROM:-0300
TZOFFSETTO:-0400
TZNAME:AST
DTSTART:20241103T050000
END:STANDARD
BEGIN:DAYLIGHT
TZOFFSETFROM:-0400
TZOFFSETTO:-0300
TZNAME:ADT
DTSTART:20250309T060000
END:DAYLIGHT
BEGIN:STANDARD
TZOFFSETFROM:-0300
TZOFFSETTO:-0400
TZNAME:AST
DTSTART:20251102T050000
END:STANDARD
BEGIN:DAYLIGHT
TZOFFSETFROM:-0400
TZOFFSETTO:-0300
TZNAME:ADT
DTSTART:20260308T060000
END:DAYLIGHT
BEGIN:STANDARD
TZOFFSETFROM:-0300
TZOFFSETTO:-0400
TZNAME:AST
DTSTART:20261101T050000
END:STANDARD
END:VTIMEZONE
BEGIN:VEVENT
DTSTART;TZID=America/Halifax:20250516T103000
DTEND;TZID=America/Halifax:20250516T113000
DTSTAMP:20260423T155753
CREATED:20250401T095412Z
LAST-MODIFIED:20250515T205316Z
UID:3684267-1747391400-1747395000@carletonnorth.com
SUMMARY:Talk With Me:  Song & Rhymes
DESCRIPTION:Come play\, learn and grow together!  Fun and engaging activities for children aged birth-5 years.  Activities include story time and singing\, arts and crafts.\nFor more information and to register call 1-866-423-8800 or visit Talk With Me Program – Woodstock facebook page.
URL:https://carletonnorth.com/event/talk-with-me-song-rhymes-7/
LOCATION:Andrew & Laura McCain Public Library\, 8 McCain St\, Florenceville-Bristol\, NB E7L 3H6\, Canada
CATEGORIES:Community Calendar
END:VEVENT
BEGIN:VEVENT
DTSTART;TZID=America/Halifax:20250516T083000
DTEND;TZID=America/Halifax:20250516T103000
DTSTAMP:20260423T155753
CREATED:20250306T193943Z
LAST-MODIFIED:20250515T205317Z
UID:3308862-1747384200-1747391400@carletonnorth.com
SUMMARY:Drop-in Pickleball
DESCRIPTION:Tuesday & Friday Pickleball\, 8:30AM-10:30AMR.G. “Bun” Veysey Active Living CentreAll ages and skill levels welcomeCost: $3- Adults $2-Senior/55+ \nFor any questions\, please contact: \n📧 recreation@carletonnorth.com \n☎ (506) 392-6763 Ext. 220
URL:https://carletonnorth.com/event/drop-in-pickleball-185/
LOCATION:40 McCain St\, Florenceville-Bristol\, NB E7L 3J4\, Canada\, Northern Carleton Recreation Centre
CATEGORIES:Community Calendar
END:VEVENT
BEGIN:VEVENT
DTSTART;VALUE=DATE:20250516
DTEND;VALUE=DATE:20250517
DTSTAMP:20260423T155753
CREATED:20250405T105405Z
LAST-MODIFIED:20250516T210745Z
UID:3743565-1747353600-1747439999@carletonnorth.com
SUMMARY:FREE Foot Care Clinic
DESCRIPTION:Nursing Home Without Walls is offering a FREE Foot Care Clinic.  If you do not have Foot Care coverage and struggle to look after your feet\, give us a call. Must call to register.  Limited spaces available. Call 506-278-3197 for more information or to register.
URL:https://carletonnorth.com/event/free-foot-care-clinic-2/
CATEGORIES:Community Calendar
END:VEVENT
BEGIN:VEVENT
DTSTART;TZID=America/Halifax:20250515T173000
DTEND;TZID=America/Halifax:20250515T203000
DTSTAMP:20260423T155753
CREATED:20250114T225937Z
LAST-MODIFIED:20250515T205316Z
UID:2564601-1747330200-1747341000@carletonnorth.com
SUMMARY:Rockwall Drop-ins
DESCRIPTION:Rockwall Drop-ins\nCost: $3 Adult | $2 55+\nThursdays\n1:00PM-3:00PM\n5:30PM-8:30PM\nFor more information: 506-392-6763 ext. 220
URL:https://carletonnorth.com/event/rockwall-drop-ins-136/
LOCATION:40 McCain St\, Florenceville-Bristol\, NB E7L 3J4\, Canada
CATEGORIES:Community Calendar
END:VEVENT
BEGIN:VEVENT
DTSTART;TZID=America/Halifax:20250515T130000
DTEND;TZID=America/Halifax:20250515T150000
DTSTAMP:20260423T155753
CREATED:20250114T225937Z
LAST-MODIFIED:20250514T203826Z
UID:2564600-1747314000-1747321200@carletonnorth.com
SUMMARY:Rockwall Drop-Ins
DESCRIPTION:Rockwall Drop-ins\nCost: $3 Adult | $2 55+\n506-392-6763 ext 220 for more information
URL:https://carletonnorth.com/event/rockwall-drop-ins-135/
LOCATION:R. G. “Bun” Veysey Active Living Centre\, 40 McCain Street\, Florenceville-Bristol\, NB
CATEGORIES:Community Calendar
END:VEVENT
BEGIN:VEVENT
DTSTART;TZID=America/Halifax:20250515T100000
DTEND;TZID=America/Halifax:20250515T110000
DTSTAMP:20260423T155753
CREATED:20250501T172255Z
LAST-MODIFIED:20250514T203819Z
UID:4127609-1747303200-1747306800@carletonnorth.com
SUMMARY:Heat Preparedness Education Session
DESCRIPTION:NHWW will have lots of info on how to stay cool during ‘extreme heat’ events\, we will have FREE cool-kits available and you can enroll in our FREE ‘heat check-in’ program. Come find out what NHWW is doing this summer to assist older persons in your community.\nFor more information call 506-278-3197
URL:https://carletonnorth.com/event/heat-preparedness-education-session-2/
LOCATION:Upper Kent Recreation Centre\, 240 Upper Kent Rd\, Upper Kent\, NB E7J 2E6\, Canada
CATEGORIES:Community Calendar
END:VEVENT
BEGIN:VEVENT
DTSTART;TZID=America/Halifax:20250514T173000
DTEND;TZID=America/Halifax:20250514T203000
DTSTAMP:20260423T155753
CREATED:20250114T225937Z
LAST-MODIFIED:20250514T203812Z
UID:2564599-1747243800-1747254600@carletonnorth.com
SUMMARY:Rockwall Drop-in
DESCRIPTION:Rockwall Drop-ins\nCost: $3 Adult | $2 55+\n506-392-6763 ext 220 for more information
URL:https://carletonnorth.com/event/rockwall-drop-in-44/
LOCATION:40 McCain St\, Florenceville-Bristol\, NB E7L 3J4\, Canada
CATEGORIES:Community Calendar
END:VEVENT
BEGIN:VEVENT
DTSTART;TZID=America/Halifax:20250514T130000
DTEND;TZID=America/Halifax:20250514T160000
DTSTAMP:20260423T155753
CREATED:20250114T225936Z
LAST-MODIFIED:20250513T202237Z
UID:2564598-1747227600-1747238400@carletonnorth.com
SUMMARY:Senior Puzzles\, Social & Cards
DESCRIPTION:They have snacks\, tea\, and play a variation of puzzles. you can also bring puzzles to trade!\nfrom 1pm-4pm $3 for entry (55+)\nEnjoy an afternoon of card games\, snacks\, and fun!
URL:https://carletonnorth.com/event/senior-puzzles-social-cards-32/
LOCATION:40 McCain St\, Florenceville-Bristol\, NB E7L 3J4\, Canada
CATEGORIES:Community Calendar
END:VEVENT
BEGIN:VEVENT
DTSTART;TZID=America/Halifax:20250514T110000
DTEND;TZID=America/Halifax:20250514T120000
DTSTAMP:20260423T155753
CREATED:20250501T172252Z
LAST-MODIFIED:20250513T202237Z
UID:4127607-1747220400-1747224000@carletonnorth.com
SUMMARY:Senior Stretching
DESCRIPTION:Nursing Home Without Walls is offering Senior Stretching at Centreville Baptist Church at 11:00am.  This is a great opportunity to get moving and to socialize.  Includes some light seated exercise.
URL:https://carletonnorth.com/event/senior-stretching-43/
LOCATION:Centreville Baptist Church\, 756 Central St\, Centreville\, NB E7K 2L6\, Canada
CATEGORIES:Community Calendar
END:VEVENT
BEGIN:VEVENT
DTSTART;TZID=America/Halifax:20250514T100000
DTEND;TZID=America/Halifax:20250514T110000
DTSTAMP:20260423T155753
CREATED:20250501T172251Z
LAST-MODIFIED:20250513T202236Z
UID:4127606-1747216800-1747220400@carletonnorth.com
SUMMARY:Senior Stretching
DESCRIPTION:Nursing Home Without Walls is offering Senior Stretching at Shiktehawk Place at 10:00am.  This is a great opportunity to get moving and to socialize.  Includes some light seated exercise.
URL:https://carletonnorth.com/event/senior-stretching-42/
LOCATION:Shiktehawk Place
CATEGORIES:Community Calendar
END:VEVENT
BEGIN:VEVENT
DTSTART;TZID=America/Halifax:20250514T093000
DTEND;TZID=America/Halifax:20250514T113000
DTSTAMP:20260423T155753
CREATED:20250310T203908Z
LAST-MODIFIED:20250513T202237Z
UID:3370377-1747215000-1747222200@carletonnorth.com
SUMMARY:VFRC: School Readiness
DESCRIPTION:School Readiness Program: Valley Family Resource CentreProgram is for 4 year old entering Kindergarten in Fall of 2025 \nWhere: Andrew & Laura McCain Public LibraryWhen: Wednesdays starting March 12 – May 14Time: 9:30AM – 11:30AM \nREGISTRATION: www.vfrc.ca inquiries: 506-325-2299/heidi.horner@frc-crf.com
URL:https://carletonnorth.com/event/vfrc-school-readiness-19/
LOCATION:Andrew & Laura McCain Public Library\, 8 McCain St\, Florenceville-Bristol\, NB E7L 3H6\, Canada
CATEGORIES:Community Calendar
END:VEVENT
BEGIN:VEVENT
DTSTART;TZID=America/Halifax:20250514T083000
DTEND;TZID=America/Halifax:20250514T110000
DTSTAMP:20260423T155753
CREATED:20250501T172252Z
LAST-MODIFIED:20250513T202236Z
UID:4127608-1747211400-1747220400@carletonnorth.com
SUMMARY:NHWW Free Blood Pressure Clinic
DESCRIPTION:NHWW is offering a FREE Blood Pressure Drop-In Clinic for anyone 60+.  There will be a healthcare professional on site to check on various aspects of your wellbeing.  You can choose to have any of the following tested;  blood pressure\, glucose\, weight\, H20 level. \nFor more information contact NHWW at 506-278-3197
URL:https://carletonnorth.com/event/nhww-free-blood-pressure-clinic/
LOCATION:R. G. “Bun” Veysey Active Living Centre\, 40 McCain St\, Florenceville-Bristol\, NB E7L 3J4\, Canada
CATEGORIES:Community Calendar
END:VEVENT
BEGIN:VEVENT
DTSTART;TZID=America/Halifax:20250514T083000
DTEND;TZID=America/Halifax:20250514T103000
DTSTAMP:20260423T155753
CREATED:20250307T195538Z
LAST-MODIFIED:20250513T202235Z
UID:3323385-1747211400-1747218600@carletonnorth.com
SUMMARY:Novice Pickleball Drop-Ins
DESCRIPTION:Novice Pickleball Drop-ins\, Wednesdays from 8:30AM-10:30AMR.G. “Bun” Veysey Active Living CentreAll ages and skill levels welcomeCost: $3- Adults $2-Senior/55+ \n \nFor any questions\, please contact: \n📧 recreation@carletonnorth.com \n☎ (506) 392-6763 Ext. 220
URL:https://carletonnorth.com/event/novice-pickleball-drop-ins-85/
LOCATION:40 McCain St\, Florenceville-Bristol\, NB E7L 3J4\, Canada
CATEGORIES:Community Calendar
END:VEVENT
BEGIN:VEVENT
DTSTART;TZID=America/Halifax:20250513T190000
DTEND;TZID=America/Halifax:20250513T210000
DTSTAMP:20260423T155753
CREATED:20250114T225935Z
LAST-MODIFIED:20250513T202234Z
UID:2564594-1747162800-1747170000@carletonnorth.com
SUMMARY:District of Carleton North Council Meeting
DESCRIPTION:Items for Council’s consideration must be submitted to the Clerk amy.mcintosh.com one week in advance of a Council meeting.
URL:https://carletonnorth.com/event/district-of-carleton-north-council-meeting-34/
LOCATION:Town Office\, 19 Station Rd\, Florenceville-Bristol\, NB E7L 3J8\, Canada
CATEGORIES:Community Calendar
END:VEVENT
BEGIN:VEVENT
DTSTART;TZID=America/Halifax:20250513T180000
DTEND;TZID=America/Halifax:20250513T210000
DTSTAMP:20260423T155753
CREATED:20250310T203907Z
LAST-MODIFIED:20250513T202235Z
UID:3370376-1747159200-1747170000@carletonnorth.com
SUMMARY:Tuesday Night Bingo
DESCRIPTION:Tuesday Night Bingo February 25th –  June 17th 2025 at the Upper Kent Rec Centre.  Doors open at 6:00pm – game starts at 7:00pm.  25 cents/3 cards/ toonie #/ final game winner takes all.  For more information\, check out Upper Kent Recreation Centre facebook page
URL:https://carletonnorth.com/event/tuesday-night-bingo-25/
LOCATION:240 Upper Kent Rd\, Upper Kent\, NB E7J 2E6\, Canada
CATEGORIES:Community Calendar
END:VEVENT
BEGIN:VEVENT
DTSTART;TZID=America/Halifax:20250513T173000
DTEND;TZID=America/Halifax:20250513T203000
DTSTAMP:20260423T155753
CREATED:20250114T225935Z
LAST-MODIFIED:20250513T202235Z
UID:2564595-1747157400-1747168200@carletonnorth.com
SUMMARY:Rockwall Drop-in
DESCRIPTION:Rockwall Drop-ins\nCost: $3 Adult | $2 55+\n506-392-6763 ext 220 for more information
URL:https://carletonnorth.com/event/rockwall-drop-in-43/
LOCATION:40 McCain St\, Florenceville-Bristol\, NB E7L 3J4\, Canada
CATEGORIES:Community Calendar
END:VEVENT
BEGIN:VEVENT
DTSTART;TZID=America/Halifax:20250513T093000
DTEND;TZID=America/Halifax:20250513T113000
DTSTAMP:20260423T155753
CREATED:20250114T225935Z
LAST-MODIFIED:20250512T200829Z
UID:2564593-1747128600-1747135800@carletonnorth.com
SUMMARY:Play Group: St. Leo's Church
DESCRIPTION:The Valley Family Resource Centre: Play GroupWednesdays 9:30AM – 11:30AMSt. Leo’s Church\, 60 Perkins Way\, Florenceville-BristolUse the Side\, Basement Door entrance \nRunning from September to JuneRegistration/More Information: 506-325-2299/ heidi.homer@frc-crf.comRegistration Form: https://docs.google.com/forms/d/e/1FAIpQLSfax8DDMZzgKvN6QzkDk9UuFZ_KswBWLHKVCf1A5eAyyktzvQ/viewform
URL:https://carletonnorth.com/event/play-group-st-leos-church-18/
LOCATION:St Leo the Great’s Church\, 60 Perkins Way\, Florenceville-Bristol\, NB E7L 3H9\, Canada
CATEGORIES:Community Calendar
END:VEVENT
BEGIN:VEVENT
DTSTART;TZID=America/Halifax:20250513T083000
DTEND;TZID=America/Halifax:20250513T103000
DTSTAMP:20260423T155753
CREATED:20250306T193937Z
LAST-MODIFIED:20250512T200829Z
UID:3308861-1747125000-1747132200@carletonnorth.com
SUMMARY:Drop-in Pickleball
DESCRIPTION:Tuesday & Friday Pickleball\, 8:30AM-10:30AMR.G. “Bun” Veysey Active Living CentreAll ages and skill levels welcomeCost: $3- Adults $2-Senior/55+ \nFor any questions\, please contact: \n📧 recreation@carletonnorth.com \n☎ (506) 392-6763 Ext. 220
URL:https://carletonnorth.com/event/drop-in-pickleball-184/
LOCATION:40 McCain St\, Florenceville-Bristol\, NB E7L 3J4\, Canada\, Northern Carleton Recreation Centre
CATEGORIES:Community Calendar
END:VEVENT
BEGIN:VEVENT
DTSTART;TZID=America/Halifax:20250512T184500
DTEND;TZID=America/Halifax:20250512T204500
DTSTAMP:20260423T155753
CREATED:20250307T195535Z
LAST-MODIFIED:20250512T200828Z
UID:3323383-1747075500-1747082700@carletonnorth.com
SUMMARY:Ladies Night Pickleball
DESCRIPTION:Ladies Night Pickleball\nMondays 6:45PM  – 8:45PM\nCost: $3 Adult/ $2 55+\nContact Recreation Department:  506-392-6763 ext. 220 or recreation@carletonnorth.com
URL:https://carletonnorth.com/event/ladies-night-pickleball-92/
LOCATION:R. G. “Bun” Veysey Active Living Centre\, Florenceville-Bristol\, NB
CATEGORIES:Community Calendar
END:VEVENT
BEGIN:VEVENT
DTSTART;TZID=America/Halifax:20250512T173000
DTEND;TZID=America/Halifax:20250512T203000
DTSTAMP:20260423T155753
CREATED:20250114T225934Z
LAST-MODIFIED:20250512T200828Z
UID:2564591-1747071000-1747081800@carletonnorth.com
SUMMARY:Rockwall Drop-in
DESCRIPTION:Rockwall Drop-ins\nCost: $3 Adult | $2 55+\n506-392-6763 ext 220 for more information
URL:https://carletonnorth.com/event/rockwall-drop-in-42/
LOCATION:40 McCain St\, Florenceville-Bristol\, NB E7L 3J4\, Canada
CATEGORIES:Community Calendar
END:VEVENT
BEGIN:VEVENT
DTSTART;TZID=America/Halifax:20250512T140000
DTEND;TZID=America/Halifax:20250512T150000
DTSTAMP:20260423T155753
CREATED:20250501T172249Z
LAST-MODIFIED:20250511T195301Z
UID:4127605-1747058400-1747062000@carletonnorth.com
SUMMARY:Senior Stretching
DESCRIPTION:Nursing Home Without Walls is offering Senior Stretching at River View Manor Complex at 2:00pm.  This is a great opportunity to get moving and to socialize.  Includes some light seated exercise.
URL:https://carletonnorth.com/event/senior-stretching-41/
LOCATION:River View Manor Complex\, 96 Hospital St\, Bath\, NB E7J 1B9\, Canada
CATEGORIES:Community Calendar
END:VEVENT
BEGIN:VEVENT
DTSTART;TZID=America/Halifax:20250512T130000
DTEND;TZID=America/Halifax:20250512T140000
DTSTAMP:20260423T155753
CREATED:20250501T172248Z
LAST-MODIFIED:20250511T195300Z
UID:4127604-1747054800-1747058400@carletonnorth.com
SUMMARY:Senior Stretching
DESCRIPTION:Nursing Home Without Walls is offering Senior Stretching at Beechwood Senior Complex at 1:00pm.  This is a great opportunity to get moving and to socialize.  Includes some light seated exercise.
URL:https://carletonnorth.com/event/senior-stretching-40/
LOCATION:Beechwood Senior Complex
CATEGORIES:Community Calendar
END:VEVENT
BEGIN:VEVENT
DTSTART;TZID=America/Halifax:20250511T190000
DTEND;TZID=America/Halifax:20250511T210000
DTSTAMP:20260423T155753
CREATED:20250114T225933Z
LAST-MODIFIED:20250511T195300Z
UID:2564589-1746990000-1746997200@carletonnorth.com
SUMMARY:Kin Club Bingo
DESCRIPTION:The Kin Club Weekly Bingo Takes Place every Sunday\, with door opening at 6pm and games starting at 7pm.\nCost: $10 books\, $5 books\, $1 Specials and $25 package deals and more.
URL:https://carletonnorth.com/event/kin-club-bingo-52/
LOCATION:Florenceville Kin Center\, 381 Centreville Rd\, Florenceville-Bristol\, NB E7L 3K5\, Canada
CATEGORIES:Community Calendar
END:VEVENT
BEGIN:VEVENT
DTSTART;TZID=America/Halifax:20250511T153000
DTEND;TZID=America/Halifax:20250511T183000
DTSTAMP:20260423T155754
CREATED:20250417T135327Z
LAST-MODIFIED:20250511T195259Z
UID:3921904-1746977400-1746988200@carletonnorth.com
SUMMARY:Rockwall Drop-ins
DESCRIPTION:Rockwall Drop-ins\nCost: $3 Adult | $2 55+\nSaturdays & Sundays\n9:00AM-12:00PM\n3:30PM-6:30PM\nFor more information: 506-392-6763 ext. 220
URL:https://carletonnorth.com/event/rockwall-drop-ins-552/
LOCATION:R. G. “Bun” Veysey Active Living Centre\, 40 McCain St\, Florenceville-Bristol\, NB E7L 3J4\, Canada
CATEGORIES:Community Calendar
END:VEVENT
BEGIN:VEVENT
DTSTART;TZID=America/Halifax:20250511T090000
DTEND;TZID=America/Halifax:20250511T120000
DTSTAMP:20260423T155754
CREATED:20250417T135326Z
LAST-MODIFIED:20250510T193736Z
UID:3921903-1746954000-1746964800@carletonnorth.com
SUMMARY:Rockwall Drop-ins
DESCRIPTION:Rockwall Drop-ins\nCost: $3 Adult | $2 55+\nSaturdays & Sundays\n9:00AM-12:00PM\n3:30PM-6:30PM\nFor more information: 506-392-6763 ext. 220
URL:https://carletonnorth.com/event/rockwall-drop-ins-551/
LOCATION:R. G. “Bun” Veysey Active Living Centre\, 40 McCain St\, Florenceville-Bristol\, NB E7L 3J4\, Canada
CATEGORIES:Community Calendar
END:VEVENT
BEGIN:VEVENT
DTSTART;TZID=America/Halifax:20250510T153000
DTEND;TZID=America/Halifax:20250510T183000
DTSTAMP:20260423T155754
CREATED:20250417T135324Z
LAST-MODIFIED:20250510T193736Z
UID:3921902-1746891000-1746901800@carletonnorth.com
SUMMARY:Rockwall Drop-ins
DESCRIPTION:Rockwall Drop-ins\nCost: $3 Adult | $2 55+\nSaturdays & Sundays\n9:00AM-12:00PM\n3:30PM-6:30PM\nFor more information: 506-392-6763 ext. 220
URL:https://carletonnorth.com/event/rockwall-drop-ins-550/
LOCATION:R. G. “Bun” Veysey Active Living Centre\, 40 McCain St\, Florenceville-Bristol\, NB E7L 3J4\, Canada
CATEGORIES:Community Calendar
END:VEVENT
BEGIN:VEVENT
DTSTART;TZID=America/Halifax:20250510T130000
DTEND;TZID=America/Halifax:20250510T150000
DTSTAMP:20260423T155754
CREATED:20250502T173751Z
LAST-MODIFIED:20250509T192408Z
UID:4142048-1746882000-1746889200@carletonnorth.com
SUMMARY:Canva Workshop For Beginners
DESCRIPTION:Workshop Opportunity!Curious about graphic design? Join us for a Canva for Beginners Workshop with photographer and designer David Bailey! \nDate: Saturday\, May 10\, 20251–3 PM \nLocation: Florenceville Bristol Community Hall\, 8696 Main Street\, Florenceville-Bristol \nCost: $20  \nBring your own device & hotspotDavid is a professional photographer and graphic designer with a keen eye for detail and a talent for visual storytelling. In this hands-on session\, you’ll explore the basics of Canva—an easy-to-use design platform—and gain tools to bring your ideas to life.  To get a better understanding of what Canva is\, or if you are registering for the workshop\, please visit canva.com \nTo register\, contact the gallery at 506-392-6769 or info@mccainartgallery.com \nNo refunds for cancellations within one week of the workshop
URL:https://carletonnorth.com/event/canva-workshop-for-beginners-2/
LOCATION:Florenceville-Bristol Community Hall\, 8696 Main St\, Florenceville-Bristol\, NB E7L 3G8\, Canada
CATEGORIES:Community Calendar
END:VEVENT
BEGIN:VEVENT
DTSTART;TZID=America/Halifax:20250510T110000
DTEND;TZID=America/Halifax:20250510T150000
DTSTAMP:20260423T155754
CREATED:20250423T152256Z
LAST-MODIFIED:20250509T192407Z
UID:4011017-1746874800-1746889200@carletonnorth.com
SUMMARY:Lakeville Fire Department 40th Anniversary Open House
DESCRIPTION:Lakeville Fire Department 40th Anniversary Open House\nMay 10\, 2025 \n11:00AM – 3:00PM\n19 Deal Road\, Lakeville\, NB\nMeet the Firefighters\, Fire Fighting Demonstrations\, Touch a Truck\nBBQ\nDonations accepted towards a new Air Quality Meter
URL:https://carletonnorth.com/event/lakeville-fire-department-40th-anniversary-open-house/
LOCATION:Lakeville Fire Department\, 19 Deal Rd\, Lakeville\, NB E7K 1K5\, Canada
CATEGORIES:Community Calendar
END:VEVENT
BEGIN:VEVENT
DTSTART;TZID=America/Halifax:20250510T090000
DTEND;TZID=America/Halifax:20250510T120000
DTSTAMP:20260423T155754
CREATED:20250417T135323Z
LAST-MODIFIED:20250509T192407Z
UID:3921901-1746867600-1746878400@carletonnorth.com
SUMMARY:Rockwall Drop-ins
DESCRIPTION:Rockwall Drop-ins\nCost: $3 Adult | $2 55+\nSaturdays & Sundays\n9:00AM-12:00PM\n3:30PM-6:30PM\nFor more information: 506-392-6763 ext. 220
URL:https://carletonnorth.com/event/rockwall-drop-ins-549/
LOCATION:R. G. “Bun” Veysey Active Living Centre\, 40 McCain St\, Florenceville-Bristol\, NB E7L 3J4\, Canada
CATEGORIES:Community Calendar
END:VEVENT
BEGIN:VEVENT
DTSTART;TZID=America/Halifax:20250510T080000
DTEND;TZID=America/Halifax:20250510T110000
DTSTAMP:20260423T155754
CREATED:20250424T153811Z
LAST-MODIFIED:20250509T192408Z
UID:4025433-1746864000-1746874800@carletonnorth.com
SUMMARY:Breakfast at Juniper Community Centre
DESCRIPTION:Don’t forget to join us for Breakfast  from 8am – 11am at the Juniper Community Centre.   Great company and a fantastic way to start your weekend. Everyone is welcome—bring your family\, friends\, and neighbors! 💛 \nBring someone who needs a delicious Saturday morning pick-me-up! 🍳🥓 \n#CommunityBreakfast #SaturdayVibes #GoodFoodGoodCompany \nhttps://www.facebook.com/JCC506
URL:https://carletonnorth.com/event/breakfast-at-juniper-community-centre-3/
LOCATION:Juniper Community Centre\, 267 Juniper Rd\, Juniper\, NB E7L 1H1\, Canada
CATEGORIES:Community Calendar
END:VEVENT
END:VCALENDAR